Workbook
Name Fall_2016_tr_2: #REF!
Name Fall_2016_tr_2: #REF!
Name Fall_2016_tr_2: #REF!
Name Fall_2016_tr_2: #REF!
Name Fall_2016_tr_2: #REF!
Name ime_merge_20170615_akt_1: 'Fall 2016 plumes for report'!#REF!
Name Likely_Sources: #REF!
Name Likely_Sources: #REF!
Name Likely_Sources: #REF!
Name Likely_Sources: #REF!
Name Likely_Sources: #REF!
Name Names_GeoTIF: 'Fall 2016 plumes for report'!$W$5:$W$485
Name Names_GeoTIF_1: 'Fall 2016 plumes for report'!$W$5:$W$485
Name test: #REF!
Name test: #REF!
Name test: #REF!
Name test: #REF!

Sheet Fall 2016 plumes for report
D2: Can be hidden | E2: Can be hidden | F2: Can be hidden | G2: Can be hidden | L2: Can be hidden | M2: Can be hidden | N2: Can be hidden
A3: Source identifier | B3: Source Latitude (deg) | C3: Source Longitude (deg) | D3: Plume identifier (unique for each plume) | E3: Instument abbreviation (ANG, AVC, HYT) | F3: Gas (CH4, CO2, NH3) | G3: Number | H3: Plume Latitude (deg) | I3: Plume Longitude (deg) | J3: Selection crieria | K3: Area (region or town) | L3: Image analyst | M3: Image analyst confidence | N3: Candidate ID | O3: Source type (best estimate) | P3: Nearest facility (best estimate) | Q3: Sectors (IPCC) | R3: Line name | S3: Date of detection | T3: Time of detection (UTC) | U3: IME (kg CH4) | V3: Plume length (m) | W3: GeoTIF name
A5: S00006 | B5: 34.44705 | C5: -118.58834 | D5: =CONCATENATE(E5,"_",F5,"_",TEXT(G5,"00000")) -> ANG_CH4_00001 | E5: ANG | F5: CH4 | G5: 1 | H5: 34.447032 | I5: -118.58834 | J5: c | K5: Honor Rancho | L5: at | M5: high | N5: ang20160910t185702-A | O5: gas storage facility | P5: Honor Rancho | Q5: 1B2 Oil & Natural Gas | R5: ang20160910t185702 | S5: =CONCATENATE(MID(R5,8,2),"/",MID(R5,10,2),"/",MID(R5,6,2)) -> 09/10/16 | T5: =CONCATENATE(MID(R5,13,2),":",MID(R5,15,2),":",MID(R5,17,2)) -> 18:57:02 | U5: 3.264719 | V5: 119.2899 | W5: ang20160910t185702_S00006_r2536_c414_ctr.tif
A6: S00006 | B6: 34.44705 | C6: -118.58834 | D6: =CONCATENATE(E6,"_",F6,"_",TEXT(G6,"00000")) -> ANG_CH4_00002 | E6: ANG | F6: CH4 | G6: =G5+1 -> 2 | H6: 34.447032 | I6: -118.58834 | J6: c | K6: Honor Rancho | L6: at | M6: high | N6: ang20160910t191651-A | O6: gas storage facility | P6: Honor Rancho | Q6: 1B2 Oil & Natural Gas | R6: ang20160910t191651 | S6: =CONCATENATE(MID(R6,8,2),"/",MID(R6,10,2),"/",MID(R6,6,2)) -> 09/10/16 | T6: =CONCATENATE(MID(R6,13,2),":",MID(R6,15,2),":",MID(R6,17,2)) -> 19:16:51 | U6: 2.1115124 | V6: 184.24299 | W6: ang20160910t191651_S00006_r2550_c236_ctr.tif
A7: S00006 | B7: 34.44705 | C7: -118.58834 | D7: =CONCATENATE(E7,"_",F7,"_",TEXT(G7,"00000")) -> ANG_CH4_00003 | E7: ANG | F7: CH4 | G7: =G6+1 -> 3 | H7: 34.447032 | I7: -118.58834 | J7: c | K7: Honor Rancho | L7: at | M7: high | N7: ang20160910t192242-A | O7: gas storage facility | P7: Honor Rancho | Q7: 1B2 Oil & Natural Gas | R7: ang20160910t192242 | S7: =CONCATENATE(MID(R7,8,2),"/",MID(R7,10,2),"/",MID(R7,6,2)) -> 09/10/16 | T7: =CONCATENATE(MID(R7,13,2),":",MID(R7,15,2),":",MID(R7,17,2)) -> 19:22:42 | U7: 0.9361152 | V7: 88.255085 | W7: ang20160910t192242_S00006_r2606_c422_ctr.tif
A8: S00006 | B8: 34.44705 | C8: -118.58834 | D8: =CONCATENATE(E8,"_",F8,"_",TEXT(G8,"00000")) -> ANG_CH4_00004 | E8: ANG | F8: CH4 | G8: =G7+1 -> 4 | H8: 34.447032 | I8: -118.58834 | J8: c | K8: Honor Rancho | L8: at | M8: high | N8: ang20160910t185702-A | O8: gas storage facility | P8: Honor Rancho | Q8: 1B2 Oil & Natural Gas | R8: ang20160912t195241 | S8: =CONCATENATE(MID(R8,8,2),"/",MID(R8,10,2),"/",MID(R8,6,2)) -> 09/12/16 | T8: =CONCATENATE(MID(R8,13,2),":",MID(R8,15,2),":",MID(R8,17,2)) -> 19:52:41 | U8: 2.4493985 | V8: 264.50975 | W8: ang20160912t195241_S00006_r2329_c246_ctr.tif
A9: S00006 | B9: 34.44705 | C9: -118.58834 | D9: =CONCATENATE(E9,"_",F9,"_",TEXT(G9,"00000")) -> ANG_CH4_00005 | E9: ANG | F9: CH4 | G9: =G8+1 -> 5 | H9: 34.447005 | I9: -118.58837 | J9: c | K9: Honor Rancho | L9: at | M9: high | N9: ang20160912t225718-B | O9: gas storage facility | P9: Honor Rancho | Q9: 1B2 Oil & Natural Gas | R9: ang20160912t225718 | S9: =CONCATENATE(MID(R9,8,2),"/",MID(R9,10,2),"/",MID(R9,6,2)) -> 09/12/16 | T9: =CONCATENATE(MID(R9,13,2),":",MID(R9,15,2),":",MID(R9,17,2)) -> 22:57:18 | U9: 0.76691386 | V9: 68.873362 | W9: ang20160912t225718_S00006_r2055_c340_ctr.tif
A10: S00006 | B10: 34.44705 | C10: -118.58834 | D10: =CONCATENATE(E10,"_",F10,"_",TEXT(G10,"00000")) -> ANG_CH4_00006 | E10: ANG | F10: CH4 | G10: =G9+1 -> 6 | H10: 34.447046 | I10: -118.58834 | J10: c | K10: Honor Rancho | L10: at | M10: high | N10: ang20160916t221543-D | O10: gas storage facility | P10: Honor Rancho | Q10: 1B2 Oil & Natural Gas | R10: ang20160916t221543 | S10: =CONCATENATE(MID(R10,8,2),"/",MID(R10,10,2),"/",MID(R10,6,2)) -> 09/16/16 | T10: =CONCATENATE(MID(R10,13,2),":",MID(R10,15,2),":",MID(R10,17,2)) -> 22:15:43 | U10: 4.089553 | V10: 265.16504 | W10: ang20160916t221543_S00006_r2558_c-179_ctr.tif
A11: S00006 | B11: 34.44705 | C11: -118.58834 | D11: =CONCATENATE(E11,"_",F11,"_",TEXT(G11,"00000")) -> ANG_CH4_00007 | E11: ANG | F11: CH4 | G11: =G10+1 -> 7 | H11: 34.447022 | I11: -118.58833 | J11: c | K11: Honor Rancho | L11: at | M11: high | N11: ang20160917t181611-A | O11: gas storage facility | P11: Honor Rancho | Q11: 1B2 Oil & Natural Gas | R11: ang20160917t181611 | S11: =CONCATENATE(MID(R11,8,2),"/",MID(R11,10,2),"/",MID(R11,6,2)) -> 09/17/16 | T11: =CONCATENATE(MID(R11,13,2),":",MID(R11,15,2),":",MID(R11,17,2)) -> 18:16:11 | U11: 61.952251 | V11: 498.3522 | W11: ang20160917t181611_S00006_r1858_c-2_ctr.tif
A12: S00006 | B12: 34.44705 | C12: -118.58834 | D12: =CONCATENATE(E12,"_",F12,"_",TEXT(G12,"00000")) -> ANG_CH4_00008 | E12: ANG | F12: CH4 | G12: =G11+1 -> 8 | H12: 34.447034 | I12: -118.58832 | J12: c | K12: Honor Rancho | L12: at | M12: high | N12: ang20160917t224332-B | O12: gas storage facility | P12: Honor Rancho | Q12: 1B2 Oil & Natural Gas | R12: ang20160917t224332 | S12: =CONCATENATE(MID(R12,8,2),"/",MID(R12,10,2),"/",MID(R12,6,2)) -> 09/17/16 | T12: =CONCATENATE(MID(R12,13,2),":",MID(R12,15,2),":",MID(R12,17,2)) -> 22:43:32 | U12: 8.4690883 | V12: 497.70443 | W12: ang20160917t224332_S00006_r1860_c14_ctr.tif
A13: S00006 | B13: 34.447139 | C13: -118.58763 | D13: =CONCATENATE(E13,"_",F13,"_",TEXT(G13,"00000")) -> ANG_CH4_00009 | E13: ANG | F13: CH4 | G13: =G12+1 -> 9 | H13: 34.447139 | I13: -118.58763 | J13: c | K13: Honor Rancho | L13: tr | M13: high | N13: ang20160925t170117-A | O13: gas storage facility | P13: Honor Rancho | Q13: 1B2 Oil & Natural Gas | R13: ang20160925t170117 | S13: =CONCATENATE(MID(R13,8,2),"/",MID(R13,10,2),"/",MID(R13,6,2)) -> 09/25/16 | T13: =CONCATENATE(MID(R13,13,2),":",MID(R13,15,2),":",MID(R13,17,2)) -> 17:01:17 | U13: 13.784137 | V13: 495.28723 | W13: ang20160925t170117_S00006_r2587_c-141_ctr.tif
A14: S00006 | B14: 34.447139 | C14: -118.58763 | D14: =CONCATENATE(E14,"_",F14,"_",TEXT(G14,"00000")) -> ANG_CH4_00010 | E14: ANG | F14: CH4 | G14: =G13+1 -> 10 | H14: 34.447139 | I14: -118.58763 | J14: c | K14: Honor Rancho | L14: tr | M14: high | N14: ang20160925t201200-A | O14: gas storage facility | P14: Honor Rancho | Q14: 1B2 Oil & Natural Gas | R14: ang20160925t201200 | S14: =CONCATENATE(MID(R14,8,2),"/",MID(R14,10,2),"/",MID(R14,6,2)) -> 09/25/16 | T14: =CONCATENATE(MID(R14,13,2),":",MID(R14,15,2),":",MID(R14,17,2)) -> 20:12:00 | U14: 5.372353 | V14: 475.05739 | W14: ang20160925t201200_S00006_r2161_c452_ctr.tif
A15: S00006 | B15: 34.44705 | C15: -118.58834 | D15: =CONCATENATE(E15,"_",F15,"_",TEXT(G15,"00000")) -> ANG_CH4_00011 | E15: ANG | F15: CH4 | G15: =G14+1 -> 11 | H15: 34.447158 | I15: -118.58825 | J15: c | K15: Honor Rancho | L15: tr | M15: high | N15: ang20161003t192244-A | O15: gas storage facility | P15: Honor Rancho | Q15: 1B2 Oil & Natural Gas | R15: ang20161003t192244 | S15: =CONCATENATE(MID(R15,8,2),"/",MID(R15,10,2),"/",MID(R15,6,2)) -> 10/03/16 | T15: =CONCATENATE(MID(R15,13,2),":",MID(R15,15,2),":",MID(R15,17,2)) -> 19:22:44 | U15: 5.372353 | V15: 475.05739 | W15: ang20161003t192244_S00006_r2451_c287_ctr.tif
A16: S00006 | B16: 34.44705 | C16: -118.58834 | D16: =CONCATENATE(E16,"_",F16,"_",TEXT(G16,"00000")) -> ANG_CH4_00012 | E16: ANG | F16: CH4 | G16: =G15+1 -> 12 | H16: 34.447158 | I16: -118.58825 | J16: c | K16: Honor Rancho | L16: tr | M16: high | N16: ang20161008t220452-A | O16: gas storage facility | P16: Honor Rancho | Q16: 1B2 Oil & Natural Gas | R16: ang20161008t220452 | S16: =CONCATENATE(MID(R16,8,2),"/",MID(R16,10,2),"/",MID(R16,6,2)) -> 10/08/16 | T16: =CONCATENATE(MID(R16,13,2),":",MID(R16,15,2),":",MID(R16,17,2)) -> 22:04:52 | U16: 4.0265492 | V16: 484.55703 | W16: ang20161008t220452_S00006_r5594_c-58_ctr.tif
A17: S00006 | B17: 34.44705 | C17: -118.58834 | D17: =CONCATENATE(E17,"_",F17,"_",TEXT(G17,"00000")) -> ANG_CH4_00013 | E17: ANG | F17: CH4 | G17: =G16+1 -> 13 | H17: 34.44703 | I17: -118.58829 | J17: c | K17: Honor Rancho | L17: at | M17: high | N17: ang20161103221806-A | O17: gas storage facility | P17: Honor Rancho | Q17: 1B2 Oil & Natural Gas | R17: ang20161103t221806 | S17: =CONCATENATE(MID(R17,8,2),"/",MID(R17,10,2),"/",MID(R17,6,2)) -> 11/03/16 | T17: =CONCATENATE(MID(R17,13,2),":",MID(R17,15,2),":",MID(R17,17,2)) -> 22:18:06 | U17: 51.932608 | V17: 496.75826 | W17: ang20161103t221806_S00006_r1951_c-78_ctr.tif
... A19: S00006 | B19: 34.44705 | C19: -118.58834 | D19: =CONCATENATE(E19,"_",F19,"_",TEXT(G19,"00000")) -> ANG_CH4_00015 | E19: ANG | F19: CH4 | G19: =G18+1 -> 15 | H19: 34.44709 | I19: -118.58833 | J19: c | K19: Honor Rancho | L19: at | M19: high | N19: ang20161103222451-A | O19: gas storage facility | P19: Honor Rancho | Q19: 1B2 Oil & Natural Gas | R19: ang20161103t224501 | S19: =CONCATENATE(MID(R19,8,2),"/",MID(R19,10,2),"/",MID(R19,6,2)) -> 11/03/16 | T19: =CONCATENATE(MID(R19,13,2),":",MID(R19,15,2),":",MID(R19,17,2)) -> 22:45:01 | U19: 74.230566 | V19: 423.49253 | W19: ang20161103t224501_S00006_r2197_c-124_ctr.tif
A20: S00006 | B20: 34.44705 | C20: -118.58834 | D20: =CONCATENATE(E20,"_",F20,"_",TEXT(G20,"00000")) -> ANG_CH4_00001 | E20: ANG | F20: CH4 | G20: 1 | H20: 34.447121 | I20: -118.58836 | J20: c | K20: Honor Rancho | L20: at | M20: high | N20: ang20161104183025-A | O20: gas storage facility | P20: Honor Rancho | Q20: 1B2 Oil & Natural Gas | R20: ang20161104t183025 | S20: =CONCATENATE(MID(R20,8,2),"/",MID(R20,10,2),"/",MID(R20,6,2)) -> 11/04/16 | T20: =CONCATENATE(MID(R20,13,2),":",MID(R20,15,2),":",MID(R20,17,2)) -> 18:30:25 | U20: 115.30731 | V20: 494.83217 | W20: ang20161104t183025_S00006_r2230_c-209_ctr.tif
A21: S00006 | B21: 34.44705 | C21: -118.58834 | D21: =CONCATENATE(E21,"_",F21,"_",TEXT(G21,"00000")) -> ANG_CH4_00002 | E21: ANG | F21: CH4 | G21: =G20+1 -> 2 | H21: 34.446993 | I21: -118.58832 | J21: c | K21: Honor Rancho | L21: at | M21: high | N21: ang20161104195416-A | O21: gas storage facility | P21: Honor Rancho | Q21: 1B2 Oil & Natural Gas | R21: ang20161104t195416 | S21: =CONCATENATE(MID(R21,8,2),"/",MID(R21,10,2),"/",MID(R21,6,2)) -> 11/04/16 | T21: =CONCATENATE(MID(R21,13,2),":",MID(R21,15,2),":",MID(R21,17,2)) -> 19:54:16 | U21: 41.210628 | V21: 473.97283 | W21: ang20161104t195416_S00006_r2230_c-156_ctr.tif
A22: S00007 | B22: 33.906 | C22: -118.4063 | D22: =CONCATENATE(E22,"_",F22,"_",TEXT(G22,"00000")) -> ANG_CH4_00003 | E22: ANG | F22: CH4 | G22: =G21+1 -> 3 | H22: 33.906 | I22: -118.4063 | J22: a | K22: El Segundo | L22: at | M22: high | N22: ang20160910t193531-B | O22: refinery | P22: Chevron refinery | Q22: 1A1 Energy Industries | R22: ang20160910t193531 | S22: =CONCATENATE(MID(R22,8,2),"/",MID(R22,10,2),"/",MID(R22,6,2)) -> 09/10/16 | T22: =CONCATENATE(MID(R22,13,2),":",MID(R22,15,2),":",MID(R22,17,2)) -> 19:35:31 | U22: 2.1572068 | V22: 484.78152 | W22: ang20160910t193531_S00007_r6607_c338_ctr.tif
A23: S00008 | B23: 33.905431 | C23: -118.40644 | D23: =CONCATENATE(E23,"_",F23,"_",TEXT(G23,"00000")) -> ANG_CH4_00004 | E23: ANG | F23: CH4 | G23: =G22+1 -> 4 | H23: 33.905431 | I23: -118.40644 | J23: a | K23: El Segundo | L23: at | M23: high | N23: ang20160910t193531-C | O23: refinery | P23: Chevron refinery | Q23: 1A1 Energy Industries | R23: ang20160910t193531 | S23: =CONCATENATE(MID(R23,8,2),"/",MID(R23,10,2),"/",MID(R23,6,2)) -> 09/10/16 | T23: =CONCATENATE(MID(R23,13,2),":",MID(R23,15,2),":",MID(R23,17,2)) -> 19:35:31 | U23: 2.1537968 | V23: 484.78152 | W23: ang20160910t193531_S00008_r6638_c308_ctr.tif
A24: S00009 | B24: 33.905983 | C24: -118.40349 | D24: =CONCATENATE(E24,"_",F24,"_",TEXT(G24,"00000")) -> ANG_CH4_00005 | E24: ANG | F24: CH4 | G24: =G23+1 -> 5 | H24: 33.905983 | I24: -118.40349 | J24: a | K24: El Segundo | L24: at | M24: medium | N24: ang20160910t193531-F | O24: refinery | P24: Chevron refinery | Q24: 1A1 Energy Industries | R24: ang20160910t193531 | S24: =CONCATENATE(MID(R24,8,2),"/",MID(R24,10,2),"/",MID(R24,6,2)) -> 09/10/16 | T24: =CONCATENATE(MID(R24,13,2),":",MID(R24,15,2),":",MID(R24,17,2)) -> 19:35:31 | U24: 2.19019 | V24: 484.78152 | W24: ang20160910t193531_S00009_r6689_c477_ctr.tif
A25: S00010 | B25: 33.782457 | C25: -118.3281 | D25: =CONCATENATE(E25,"_",F25,"_",TEXT(G25,"00000")) -> ANG_CH4_00006 | E25: ANG | F25: CH4 | G25: =G24+1 -> 6 | H25: 33.782457 | I25: -118.3281 | J25: a | K25: Palos Verdes | L25: at | M25: medium | N25: ang20160910t195200-D | O25: landfill | P25: Uknown landfill (not in Vista) | Q25: 4A1 Managed Waste Disposal Sites | R25: ang20160910t195200 | S25: =CONCATENATE(MID(R25,8,2),"/",MID(R25,10,2),"/",MID(R25,6,2)) -> 09/10/16 | T25: =CONCATENATE(MID(R25,13,2),":",MID(R25,15,2),":",MID(R25,17,2)) -> 19:52:00 | U25: 0.46199782 | V25: 83.965707 | W25: ang20160910t195200_S00010_r5692_c70_ctr.tif
A26: S00011 | B26: 33.776957 | C26: -118.28704 | D26: =CONCATENATE(E26,"_",F26,"_",TEXT(G26,"00000")) -> ANG_CH4_00007 | E26: ANG | F26: CH4 | G26: =G25+1 -> 7 | H26: 33.776957 | I26: -118.28704 | J26: a | K26: Harbor City | L26: at | M26: high | N26: ang20160910t201644-A | O26: refinery | P26: ConocoPhillips Refinery | Q26: 1A1 Energy Industries | R26: ang20160910t201644 | S26: =CONCATENATE(MID(R26,8,2),"/",MID(R26,10,2),"/",MID(R26,6,2)) -> 09/10/16 | T26: =CONCATENATE(MID(R26,13,2),":",MID(R26,15,2),":",MID(R26,17,2)) -> 20:16:44 | U26: 0.086696937 | V26: 23.469129 | W26: ang20160910t201644_S00011_r6051_c-78_ctr.tif
A27: S00012 | B27: 33.772601 | C27: -118.28643 | D27: =CONCATENATE(E27,"_",F27,"_",TEXT(G27,"00000")) -> ANG_CH4_00008 | E27: ANG | F27: CH4 | G27: =G26+1 -> 8 | H27: 33.772601 | I27: -118.28643 | J27: a | K27: Harbor City | L27: at | M27: medium | N27: ang20160910t201644-C | O27: refinery | P27: ConocoPhillips Refinery | Q27: 1A1 Energy Industries | R27: ang20160910t201644 | S27: =CONCATENATE(MID(R27,8,2),"/",MID(R27,10,2),"/",MID(R27,6,2)) -> 09/10/16 | T27: =CONCATENATE(MID(R27,13,2),":",MID(R27,15,2),":",MID(R27,17,2)) -> 20:16:44 | U27: 0.23373613 | V27: 28.856195 | W27: ang20160910t201644_S00012_r6322_c-52_ctr.tif
A28: S00013 | B28: 33.770829 | C28: -118.2929 | D28: =CONCATENATE(E28,"_",F28,"_",TEXT(G28,"00000")) -> ANG_CH4_00009 | E28: ANG | F28: CH4 | G28: =G27+1 -> 9 | H28: 33.770829 | I28: -118.2929 | J28: a | K28: Harbor City | L28: at | M28: medium | N28: ang20160910t201644-D | O28: refinery | P28: ConocoPhillips Refinery | Q28: 1A1 Energy Industries | R28: ang20160910t201644 | S28: =CONCATENATE(MID(R28,8,2),"/",MID(R28,10,2),"/",MID(R28,6,2)) -> 09/10/16 | T28: =CONCATENATE(MID(R28,13,2),":",MID(R28,15,2),":",MID(R28,17,2)) -> 20:16:44 | U28: 1.1721898 | V28: 467.45969 | W28: ang20160910t201644_S00013_r6427_c-387_ctr.tif
A29: S00014 | B29: 33.804668 | C29: -118.24385 | D29: =CONCATENATE(E29,"_",F29,"_",TEXT(G29,"00000")) -> ANG_CH4_00010 | E29: ANG | F29: CH4 | G29: =G28+1 -> 10 | H29: 33.804668 | I29: -118.24385 | J29: a | K29: Wilmington | L29: at | M29: high | N29: ang20160910t204409-A | O29: refinery | P29: Phillips | Q29: 1A1 Energy Industries | R29: ang20160910t204409 | S29: =CONCATENATE(MID(R29,8,2),"/",MID(R29,10,2),"/",MID(R29,6,2)) -> 09/10/16 | T29: =CONCATENATE(MID(R29,13,2),":",MID(R29,15,2),":",MID(R29,17,2)) -> 20:44:09 | U29: 1.2147852 | V29: 129.00426 | W29: ang20160910t204409_S00014_r4551_c-117_ctr.tif
A30: S00016 | B30: 33.81581 | C30: -118.24689 | D30: =CONCATENATE(E30,"_",F30,"_",TEXT(G30,"00000")) -> ANG_CH4_00011 | E30: ANG | F30: CH4 | G30: =G29+1 -> 11 | H30: 33.81581 | I30: -118.24689 | J30: a | K30: Wilmington | L30: at | M30: high | N30: ang20160910t204409-C | O30: refinery | P30: Phillips | Q30: 1A1 Energy Industries | R30: ang20160910t204409 | S30: =CONCATENATE(MID(R30,8,2),"/",MID(R30,10,2),"/",MID(R30,6,2)) -> 09/10/16 | T30: =CONCATENATE(MID(R30,13,2),":",MID(R30,15,2),":",MID(R30,17,2)) -> 20:44:09 | U30: 1.7468012 | V30: 499.44347 | W30: ang20160910t204409_S00016_r3899_c-257_ctr.tif
A31: S00017 | B31: 33.972726 | C31: -117.69994 | D31: =CONCATENATE(E31,"_",F31,"_",TEXT(G31,"00000")) -> ANG_CH4_00012 | E31: ANG | F31: CH4 | G31: =G30+1 -> 12 | H31: 33.972726 | I31: -117.69994 | J31: c, e | K31: Chino Hills | L31: at | M31: high | N31: ang20160910t214407-A | O31: gas distribution line | P31: Chino Hills neighborhood | Q31: 1B2 Oil & Natural Gas | R31: ang20160910t214407 | S31: =CONCATENATE(MID(R31,8,2),"/",MID(R31,10,2),"/",MID(R31,6,2)) -> 09/10/16 | T31: =CONCATENATE(MID(R31,13,2),":",MID(R31,15,2),":",MID(R31,17,2)) -> 21:44:07 | U31: 1.2441095 | V31: 195.21844 | W31: ang20160910t214407_S00017_r4439_c2274_ctr.tif
A32: S00017 | B32: 33.972726 | C32: -117.69994 | D32: =CONCATENATE(E32,"_",F32,"_",TEXT(G32,"00000")) -> ANG_CH4_00013 | E32: ANG | F32: CH4 | G32: =G31+1 -> 13 | H32: 33.972726 | I32: -117.69994 | J32: c, e | K32: Chino Hills | L32: at | M32: high | N32: ang20160915t185210-A | O32: gas distribution line | P32: Chino Hills neighborhood | Q32: 1B2 Oil & Natural Gas | R32: ang20160915t185210 | S32: =CONCATENATE(MID(R32,8,2),"/",MID(R32,10,2),"/",MID(R32,6,2)) -> 09/15/16 | T32: =CONCATENATE(MID(R32,13,2),":",MID(R32,15,2),":",MID(R32,17,2)) -> 18:52:10 | U32: 13.577247 | V32: 333.08289 | W32: ang20160915t185210_S00017_r2130_c517_ctr.tif
... A49: S00034 | B49: 35.957973 | C49: -119.23159 | D49: =CONCATENATE(E49,"_",F49,"_",TEXT(G49,"00000")) -> ANG_CH4_00030 | E49: ANG | F49: CH4 | G49: =G48+1 -> 30 | H49: 35.957973 | I49: -119.23159 | J49: a | K49: Tulare (Tulare County) | L49: at | M49: high | N49: ang20160913t201027-A | O49: dairy/manure | P49: DG Farms | Q49: 3A2 Manure Management | R49: ang20160913t201027 | S49: =CONCATENATE(MID(R49,8,2),"/",MID(R49,10,2),"/",MID(R49,6,2)) -> 09/13/16 | T49: =CONCATENATE(MID(R49,13,2),":",MID(R49,15,2),":",MID(R49,17,2)) -> 20:10:27 | U49: 1.5852633 | V49: 277.77149 | W49: ang20160913t201027_S00034_r7065_c745_ctr.tif
A50: S00035 | B50: 36.000466 | C50: -119.50093 | D50: =CONCATENATE(E50,"_",F50,"_",TEXT(G50,"00000")) -> ANG_CH4_00031 | E50: ANG | F50: CH4 | G50: =G49+1 -> 31 | H50: 36.000466 | I50: -119.50093 | J50: a | K50: Tulare (Tulare County) | L50: at | M50: high | N50: ang20160913t210755-A | O50: dairy/manure | Q50: 3A2 Manure Management | R50: ang20160913t210755 | S50: =CONCATENATE(MID(R50,8,2),"/",MID(R50,10,2),"/",MID(R50,6,2)) -> 09/13/16 | T50: =CONCATENATE(MID(R50,13,2),":",MID(R50,15,2),":",MID(R50,17,2)) -> 21:07:55 | U50: 0.91203923 | V50: 158.40455 | W50: ang20160913t210755_S00035_r14265_c583_ctr.tif
A51: S00036 | B51: 35.99088 | C51: -119.49194 | D51: =CONCATENATE(E51,"_",F51,"_",TEXT(G51,"00000")) -> ANG_CH4_00032 | E51: ANG | F51: CH4 | G51: =G50+1 -> 32 | H51: 35.99088 | I51: -119.49194 | J51: a | K51: Tulare (Tulare County) | L51: at | M51: medium | N51: ang20160913t210755-B | O51: crop irrigation | P51: adjacent dairy waste water? | Q51: 3B2 Cropland | R51: ang20160913t210755 | S51: =CONCATENATE(MID(R51,8,2),"/",MID(R51,10,2),"/",MID(R51,6,2)) -> 09/13/16 | T51: =CONCATENATE(MID(R51,13,2),":",MID(R51,15,2),":",MID(R51,17,2)) -> 21:07:55 | U51: 0.13077878 | V51: 16.155494 | W51: ang20160913t210755_S00036_r14046_c970_ctr.tif
A52: S00037 | B52: 36.018493 | C52: -119.41682 | D52: =CONCATENATE(E52,"_",F52,"_",TEXT(G52,"00000")) -> ANG_CH4_00033 | E52: ANG | F52: CH4 | G52: =G51+1 -> 33 | H52: 36.018493 | I52: -119.41682 | J52: c | K52: Tipton (Tulare Complex) | L52: at | M52: medium | N52: ang20160913t210755-C | O52: dairy/manure | P52: Meadowlake Dairy | Q52: 3A2 Manure Management | R52: ang20160913t210755 | S52: =CONCATENATE(MID(R52,8,2),"/",MID(R52,10,2),"/",MID(R52,6,2)) -> 09/13/16 | T52: =CONCATENATE(MID(R52,13,2),":",MID(R52,15,2),":",MID(R52,17,2)) -> 21:07:55 | U52: 0.78970273 | V52: 202.24985 | W52: ang20160913t210755_S00037_r11662_c267_ctr.tif
A53: S00037 | B53: 36.018493 | C53: -119.41682 | D53: =CONCATENATE(E53,"_",F53,"_",TEXT(G53,"00000")) -> ANG_CH4_00034 | E53: ANG | F53: CH4 | G53: =G52+1 -> 34 | H53: 36.018615 | I53: -119.41665 | J53: c | K53: Tipton (Tulare Complex) | L53: at | M53: high | N53: ang20160913t212101-C | O53: dairy/manure | P53: Meadowlake Dairy | Q53: 3A2 Manure Management | R53: ang20160913t212101 | S53: =CONCATENATE(MID(R53,8,2),"/",MID(R53,10,2),"/",MID(R53,6,2)) -> 09/13/16 | T53: =CONCATENATE(MID(R53,13,2),":",MID(R53,15,2),":",MID(R53,17,2)) -> 21:21:01 | U53: 7.7176794 | V53: 453.72459 | W53: ang20160913t212101_S00037_r11900_c279_ctr.tif
A54: S00038 | B54: 36.044478 | C54: -119.21684 | D54: =CONCATENATE(E54,"_",F54,"_",TEXT(G54,"00000")) -> ANG_CH4_00035 | E54: ANG | F54: CH4 | G54: =G53+1 -> 35 | H54: 36.044478 | I54: -119.21684 | J54: a | K54: Tipton (Tulare County) | L54: at | M54: medium | N54: ang20160913t210755-D | O54: dairy/manure | P54: D & V Dairy | Q54: 3A2 Manure Management | R54: ang20160913t210755 | S54: =CONCATENATE(MID(R54,8,2),"/",MID(R54,10,2),"/",MID(R54,6,2)) -> 09/13/16 | T54: =CONCATENATE(MID(R54,13,2),":",MID(R54,15,2),":",MID(R54,17,2)) -> 21:07:55 | U54: 29 | V54: TBD | W54: ang20160913t210755_S00038_r5849_c395_ctr.tif
A55: S00039 | B55: 36.093493 | C55: -119.33967 | D55: =CONCATENATE(E55,"_",F55,"_",TEXT(G55,"00000")) -> ANG_CH4_00036 | E55: ANG | F55: CH4 | G55: =G54+1 -> 36 | H55: 36.093493 | I55: -119.33967 | J55: a | K55: Tipton (Tulare Complex) | L55: at | M55: medium | N55: ang20160913t221144-A | O55: dairy/manure | P55: Scheenstra Dairy | Q55: 3A2 Manure Management | R55: ang20160913t221144 | S55: =CONCATENATE(MID(R55,8,2),"/",MID(R55,10,2),"/",MID(R55,6,2)) -> 09/13/16 | T55: =CONCATENATE(MID(R55,13,2),":",MID(R55,15,2),":",MID(R55,17,2)) -> 22:11:44 | U55: 2.8234716 | V55: 496.38896 | W55: ang20160913t221144_S00039_r9177_c348_ctr.tif
A56: S00040 | B56: 36.08125 | C56: -119.42127 | D56: =CONCATENATE(E56,"_",F56,"_",TEXT(G56,"00000")) -> ANG_CH4_00037 | E56: ANG | F56: CH4 | G56: =G55+1 -> 37 | H56: 36.08125 | I56: -119.42127 | J56: a | K56: Tipton (Tulare County) | L56: at | M56: medium | N56: ang20160913t221144-C | O56: dairy/manure | P56: Brian and James Jongsma Dairy | Q56: 3A2 Manure Management | R56: ang20160913t221144 | S56: =CONCATENATE(MID(R56,8,2),"/",MID(R56,10,2),"/",MID(R56,6,2)) -> 09/13/16 | T56: =CONCATENATE(MID(R56,13,2),":",MID(R56,15,2),":",MID(R56,17,2)) -> 22:11:44 | U56: 21.734302 | V56: 490.33254 | W56: ang20160913t221144_S00040_r11666_c239_ctr.tif
A57: S00041 | B57: 36.073672 | C57: -119.44069 | D57: =CONCATENATE(E57,"_",F57,"_",TEXT(G57,"00000")) -> ANG_CH4_00038 | E57: ANG | F57: CH4 | G57: =G56+1 -> 38 | H57: 36.073672 | I57: -119.44069 | J57: c | K57: Tipton (Tulare County) | L57: at | M57: high | N57: ang20160913t221144-D | O57: dairy/manure - digester | P57: G.J. Te Velde Ranch Dairy | Q57: 3A2 Manure Management | R57: ang20160913t221144 | S57: =CONCATENATE(MID(R57,8,2),"/",MID(R57,10,2),"/",MID(R57,6,2)) -> 09/13/16 | T57: =CONCATENATE(MID(R57,13,2),":",MID(R57,15,2),":",MID(R57,17,2)) -> 22:11:44 | U57: 11.777664 | V57: 418.62633 | W57: ang20160913t221144_S00041_r12298_c385_ctr.tif
A58: S00041 | B58: 36.073665 | C58: -119.44095 | D58: =CONCATENATE(E58,"_",F58,"_",TEXT(G58,"00000")) -> ANG_CH4_00039 | E58: ANG | F58: CH4 | G58: =G57+1 -> 39 | H58: 36.073665 | I58: -119.44095 | J58: c | K58: Tipton (Tulare County) | L58: at | M58: medium | N58: ang20161029t185045-A | O58: dairy/manure - digester | P58: G.J. Te Velde Ranch Dairy | Q58: 3A2 Manure Management | R58: ang20161029t185045 | S58: =CONCATENATE(MID(R58,8,2),"/",MID(R58,10,2),"/",MID(R58,6,2)) -> 10/29/16 | T58: =CONCATENATE(MID(R58,13,2),":",MID(R58,15,2),":",MID(R58,17,2)) -> 18:50:45 | U58: 13.117425 | V58: 498.54277 | W58: ang20161029t185045_S00041_r3636_c-24_ctr.tif
A59: S00041 | B59: 36.073456 | C59: -119.44093 | D59: =CONCATENATE(E59,"_",F59,"_",TEXT(G59,"00000")) -> ANG_CH4_00040 | E59: ANG | F59: CH4 | G59: =G58+1 -> 40 | H59: 36.073456 | I59: -119.44093 | J59: c | K59: Tipton (Tulare County) | L59: at | M59: high | N59: ang20161029t215438-A | O59: dairy/manure - digester | P59: G.J. Te Velde Ranch Dairy | Q59: 3A2 Manure Management | R59: ang20161029t215438 | S59: =CONCATENATE(MID(R59,8,2),"/",MID(R59,10,2),"/",MID(R59,6,2)) -> 10/29/16 | T59: =CONCATENATE(MID(R59,13,2),":",MID(R59,15,2),":",MID(R59,17,2)) -> 21:54:38 | U59: 18.629814 | V59: 444.71772 | W59: ang20161029t215438_S00041_r3891_c-50_ctr.tif
...

Sheet Guides
A1: Source selection criteria
A2: a) Source plume is so strong as to be unambiguous with a single detection
A3: b) Plume clearly associated with surface infrastructure
A4: c) Plumes are detected multiple times at the same location/different wind conditions
A5: d) CH4 plume origin is co-located with plume of another species (e.g., NH3)
A6: e) Source is confirmed by follow up observations
A7: f) Source was previously known (e.g., controlled release or process emitter)
A15: IPCC sectors (most relevant from table) | F15: IPCC sectors (bold in Vista)
F16: LEVEL 1 | G16: LEVEL 2 | H16: LEVEL 3
A17: 1A1 Energy Industries | F17: 1 Energy | G17: 1A Fuel Combustion Activities | H17: 1A1 Energy Industries
A18: 1A2 Manufacuturing Industries & Construction | H18: 1A2 Manufacuturing Industries & Construction
A19: 1A3 Transport | H19: 1A3 Transport
A20: 1A4 Other Sectors | H20: 1A4 Other Sectors
A21: 1A5 Non-Specified | H21: 1A5 Non-Specified
A22: 1B1 Solid Fuels | G22: 1B Fugitive Emissions From Fuels | H22: 1B1 Solid Fuels
A23: 1B2 Oil & Natural Gas | H23: 1B2 Oil & Natural Gas
A24: 1B3 Other Emissions from Energy Production | H24: 1B3 Other Emissions from Energy Production
A25: 3A1 Enteric Fermentation | G25: 1C Carbon Dioxide Transport & Storage | H25: 1C1 Transport of CO2
A26: 3A2 Manure Management | H26: 1C2 Injections & Storage
A27: 3B1 Forest Land | H27: 1C3 Other
A28: 3B2 Cropland | F28: 2 Industries Processes & Product Use | G28: 2A Mineral Industry*
A29: 3B3 Grassland | G29: 2B Chemical Industry*
A30: 3B4 Wetlands | G30: 2C Metal Industry*
A31: 3B5 Settlements | G31: 2D Non-Energy Products from Fuel & Solvent Use*
A32: 3B6 Other Land | G32: 2E Electronics Industry*
A33: 4A1 Managed Waste Disposal Sites | G33: 2F Product Uses as Substitutes for Ozone Depletion*
A34: 4A2 Unmanaged Waste Disposal Sites | G34: 2G Other Product Manufacture & Use*
A35: 4A3 Uncategorized Waste Disposal Sites | G35: 2H Other*
A36: 4D1 Domestic Wastewater Treatment & Discharge | F36: 3 Agriculture, Forestry & Other Land Use | G36: 3A Livestock | H36: 3A1 Enteric Fermentation
A37: 4D2 Domestic Wastewater Treatment & Discharge | H37: 3A2 Manure Management
A38: unknown | G38: 3B Land | H38: 3B1 Forest Land
H39: 3B2 Cropland (adjacent to dairies)
H40: 3B3 Grassland
H41: 3B4 Wetlands
H42: 3B5 Settlements
H43: 3B6 Other Land
G44: 3C Aggregate Sources & Non-CO2 Emissions*
G45: 3D Other*
F46: 4 Waste | G46: 4A Solid Waste Disposal | H46: 4A1 Managed Waste Disposal Sites
H47: 4A2 Unmanaged Waste Disposal Sites
...

Sheet Coverage stats
A1: IPCC Sectors | B1: Methane Emitting Sector | C1: Total Features in Vista-CA | D1: Features surveyed in phase 1 | E1: Fractional completeness | F1: Number of CH4 sources | G1: Fraction of Features with >=1 CH4 source | H1: Population Scalar | I1: Persistence scalar | J1: Projected total sources in CA
A2: 1A1 Energy Industries | B2: Petroleum Refineries | C2: 17 | D2: 16 | E2: =(D2/C2) -> 0.94117647 | F2: 15 | G2: =F2/D2 -> 0.9375 | H2: =C2/D2 -> 1.0625 | I2: 2 | J2: =F2*H2*I2 -> 31.875
B3: Powerplants | C3: 468 | D3: 166 | E3: =(D3/C3) -> 0.35470085 | F3: 0 | G3: =F3/D3 -> 0 | H3: =C3/D3 -> 2.8192771 | I3: 1 | J3: =F3*H3*I3 -> 0
A4: 1B2 Oil and Natural Gas | B4: Transmission Pipelines (miles) | C4: 11939.024 | D4: 2392.5262 | E4: =(D4/C4) -> 0.20039547 | F4: 0 | G4: =F4/D4 -> 0 | H4: =C4/D4 -> 4.9901329 | I4: 10 | J4: =F4*H4*I4 -> 0
B5: Compressor Stations (excluding gas storage) | C5: 32 | D5: 21 | E5: =(D5/C5) -> 0.65625 | F5: 1 | G5: =F5/D5 -> 0.047619048 | H5: =C5/D5 -> 1.5238095 | I5: 4 | J5: =F5*H5*I5 -> 6.0952381
B6: Gas Storage Fields | C6: 12 | D6: 12 | E6: =(D6/C6) -> 1 | F6: 3 | G6: =F6/D6 -> 0.25 | H6: =C6/D6 -> 1 | I6: 4 | J6: =F6*H6*I6 -> 12
B7: Distibution pipelines | C7: TBD | D7: TBD | F7: 1 | I7: 10
B8: CNG Stations | C8: 334 | D8: 93 | E8: =(D8/C8) -> 0.27844311 | F8: 0 | G8: 0 | H8: =C8/D8 -> 3.5913978 | I8: 1 | J8: =F8*H8*I8 -> 0
B9: LNG Stations | C9: 46 | D9: 17 | E9: =(D9/C9) -> 0.36956522 | F9: 1 | G9: =F9/D9 -> 0.058823529 | H9: =C9/D9 -> 2.7058824 | I9: 1 | J9: =F9*H9*I9 -> 2.7058824
B10: Oil & Gas Production | C10: 227276 | D10: 176712 | E10: =(D10/C10) -> 0.7775216 | F10: 99 | G10: =F10/D10 -> 0.0005602336 | H10: =C10/D10 -> 1.2861379 | I10: 1 | J10: =F10*H10*I10 -> 127.32765
A11: 3A2 Manure Management | B11: Dairies, digesters, other livestock | C11: 1709 | D11: 851 | E11: =(D11/C11) -> 0.49795202 | F11: 186 | G11: =F11/D11 -> 0.21856639 | H11: =C11/D11 -> 2.0082256 | I11: 4 | J11: =F11*H11*I11 -> 1494.1199
A12: 4A1 Managed Waste Disposal | B12: Landfills (top emitters) | C12: 60 | D12: 22 | E12: =(D12/C12) -> 0.36666667 | F12: 19 | G12: =F12/D12 -> 0.86363636 | H12: =C12/D12 -> 2.7272727 | I12: 1 | J12: =F12*H12*I12 -> 51.818182
A13: 4D Wastewater Treatment & Discharge | B13: Wastewater Treatment Plants | C13: 152 | D13: 43 | E13: =(D13/C13) -> 0.28289474 | F13: 0 | G13: 0 | H13: =C13/D13 -> 3.5348837 | I13: 1 | J13: =F13*H13*I13 -> 0
A14: TBD | B14: unknown | C14: TBD | D14: TBD | F14: 4
A15: Totals | C15: =SUM(C5:C14) -> 229621 | D15: =SUM(D5:D14) -> 177771 | E15: =(D15/C15) -> 0.77419313 | F15: =SUM(F2:F14) -> 329 | G15: =F15/D15 -> 0.0018506956 | H15: =C15/D15 -> 1.2916674 | J15: =SUM(J2:J13) -> 1725.9418
A17: Total Area (square miles) covered by 2016 AV-NG Flight Lines (900m width for each line) | B17: 5943.75 | F17: total flux for 2 m/s wind (kg/hr) | G17: 63000 | J17: =J15/F15*G17 -> 330499.5
A18: Total Area (square miles) of California | B18: 163696 | F18: CARB 2014 total (kg/hr) | J18: 178882
A19: Percentage of California area covered by the Fall 2016 AV-NG flights | B19: =(B17/B18)*100 -> 3.6309684
F21: =SUM(F4:F10) -> 105

Sheet Detection stats
C4: Source occurrence
B5: Sectors (IPCC) | C5: Sources Detected | D5: Percentage
B6: 1A1 Energy Industries | C6: =COUNTIF('Fall 2016 sources for report'!G$2:G$330,B6) -> 15 | D6: =C6/$C$12 -> 0.045592705
B7: 1B2 Oil & Natural Gas | C7: =COUNTIF('Fall 2016 sources for report'!G$2:G$330,B7) -> 105 | D7: =C7/$C$12 -> 0.31914894
B8: 3A2 Manure Management | C8: =COUNTIF('Fall 2016 sources for report'!G$2:G$330,B8) -> 186 | D8: =C8/$C$12 -> 0.56534954
B9: 4A1 Managed Waste Disposal Sites | C9: =COUNTIF('Fall 2016 sources for report'!G$2:G$330,B9) -> 19 | D9: =C9/$C$12 -> 0.05775076
B10: 4D1 Wastewater Treatment | C10: =COUNTIF('Fall 2016 sources for report'!G$2:G$330,B10) -> 0 | D10: =C10/$C$12 -> 0
B11: unknown | C11: =COUNTIF('Fall 2016 sources for report'!G$2:G$330,B11) -> 4 | D11: =C11/$C$12 -> 0.012158055
B12: Total sources | C12: =SUM(C6:C11) -> 329 | D12: =C12/$C$12 -> 1
B31: Source types | C31: Sources detected | D31: Percentage
B32: crop irrigation | C32: =COUNTIF('Fall 2016 sources for report'!E$2:E$331,B32) -> 3 | D32: =C32/$C$12 -> 0.009118541
B33: dairy/manure | C33: =COUNTIF('Fall 2016 sources for report'!E$2:E$331,B33) -> 176 | D33: =C33/$C$12 -> 0.53495441
B34: dairy/manure - digester | C34: =COUNTIF('Fall 2016 sources for report'!E$2:E$331,B34) -> 4 | D34: =C34/$C$12 -> 0.012158055
B35: gas compressor | C35: =COUNTIF('Fall 2016 sources for report'!E$2:E$331,B35) -> 3 | D35: =C35/$C$12 -> 0.009118541
B36: gas distribution line | C36: =COUNTIF('Fall 2016 sources for report'!E$2:E$331,B36) -> 1 | D36: =C36/$C$12 -> 0.0030395137
B37: gas LNG station | C37: =COUNTIF('Fall 2016 sources for report'!E$2:E$331,B37) -> 1 | D37: =C37/$C$12 -> 0.0030395137
B38: gas CNG station | C38: =COUNTIF('Fall 2016 sources for report'!E$2:E$331,B38) -> 0 | D38: =C38/$C$12 -> 0
B39: gas storage facility | C39: =COUNTIF('Fall 2016 sources for report'!E$2:E$331,B39) -> 3 | D39: =C39/$C$12 -> 0.009118541
B40: landfill | C40: =COUNTIF('Fall 2016 sources for report'!E$2:E$331,B40) -> 19 | D40: =C40/$C$12 -> 0.05775076
B41: oil/gas compressor | C41: =COUNTIF('Fall 2016 sources for report'!E$2:E$331,B41) -> 2 | D41: =C41/$C$12 -> 0.0060790274
B42: oil/gas drill rig | C42: =COUNTIF('Fall 2016 sources for report'!E$2:E$331,B42) -> 2 | D42: =C42/$C$12 -> 0.0060790274
B43: oil/gas gathering lines (TBD) | C43: =COUNTIF('Fall 2016 sources for report'!E$2:E$331,B43) -> 10 | D43: =C43/$C$12 -> 0.030395137
... B52: water treatment plant | C52: =COUNTIF('Fall 2016 sources for report'!E$2:E$331,B52) -> 0 | D52: =C52/$C$12 -> 0
B53: Total sources | C53: =SUM(C32:C52) -> 329 | D53: =C53/$C$12 -> 1

Sheet Fall 2016 sources for report
A1: Source identifier | B1: Source Latitude (deg) | C1: Source Longitude (deg) | D1: Area (region or town) | E1: Source type (best estimate) | F1: Nearest facility (best estimate) | G1: Sectors (IPCC) | H1: Selection crieria | I1: Mean IME (kg CH4) | J1: Mean plume length (m)
A2: S00006 | B2: 34.44705 | C2: -118.58834 | D2: Honor Rancho | E2: gas storage facility | F2: Honor Rancho | G2: 1B2 Oil & Natural Gas | H2: c | I2: 26.734679 | J2: 366.19036
A3: S00007 | B3: 33.906 | C3: -118.4063 | D3: El Segundo | E3: refinery | F3: Chevron refinery | G3: 1A1 Energy Industries | H3: a | I3: 2.1572068 | J3: 484.78152
A4: S00008 | B4: 33.905431 | C4: -118.40644 | D4: El Segundo | E4: refinery | F4: Chevron refinery | G4: 1A1 Energy Industries | H4: a | I4: 2.1537968 | J4: 484.78152
A5: S00009 | B5: 33.905983 | C5: -118.40349 | D5: El Segundo | E5: refinery | F5: Chevron refinery | G5: 1A1 Energy Industries | H5: a | I5: 2.19019 | J5: 484.78152
A6: S00010 | B6: 33.782457 | C6: -118.3281 | D6: Palos Verdes | E6: landfill | F6: Uknown landfill (not in Vista) | G6: 4A1 Managed Waste Disposal Sites | H6: a | I6: 0.46199782 | J6: 83.965707
A7: S00011 | B7: 33.776957 | C7: -118.28704 | D7: Harbor City | E7: refinery | F7: ConocoPhillips Refinery | G7: 1A1 Energy Industries | H7: a | I7: 0.086696937 | J7: 23.469129
A8: S00012 | B8: 33.772601 | C8: -118.28643 | D8: Harbor City | E8: refinery | F8: ConocoPhillips Refinery | G8: 1A1 Energy Industries | H8: a | I8: 0.23373613 | J8: 28.856195
A9: S00013 | B9: 33.770829 | C9: -118.2929 | D9: Harbor City | E9: refinery | F9: ConocoPhillips Refinery | G9: 1A1 Energy Industries | H9: a | I9: 1.1721898 | J9: 467.45969
A10: S00014 | B10: 33.804668 | C10: -118.24385 | D10: Wilmington | E10: refinery | F10: Phillips | G10: 1A1 Energy Industries | H10: a | I10: 1.2147852 | J10: 129.00426
A11: S00016 | B11: 33.81581 | C11: -118.24689 | D11: Wilmington | E11: refinery | F11: Phillips | G11: 1A1 Energy Industries | H11: a | I11: 1.7468012 | J11: 499.44347
A12: S00017 | B12: 33.972726 | C12: -117.69994 | D12: Chino Hills | E12: gas distribution line | F12: Chino Hills neighborhood | G12: 1B2 Oil & Natural Gas | H12: c, e | I12: 7.4708614 | J12: 293.295
A13: S00018 | B13: 34.594798 | C13: -117.26764 | D13: Bell Mountain | E13: landfill | F13: Victorville Sanitary Landfill | G13: 4A1 Managed Waste Disposal Sites | H13: a | I13: 0.15775648 | J13: 78.449984
... A30: S00037 | B30: 36.018493 | C30: -119.41682 | D30: Tipton (Tulare Complex) | E30: dairy/manure | F30: Meadowlake Dairy | G30: 3A2 Manure Management | H30: c | I30: 4.253691 | J30: 327.98722
A31: S00038 | B31: 36.044478 | C31: -119.21684 | D31: Tipton (Tulare County) | E31: dairy/manure | F31: D & V Dairy | G31: 3A2 Manure Management | H31: a | I31: 29 | J31: TBD
A32: S00039 | B32: 36.093493 | C32: -119.33967 | D32: Tipton (Tulare Complex) | E32: dairy/manure | F32: Scheenstra Dairy | G32: 3A2 Manure Management | H32: a | I32: 2.8234716 | J32: 496.38896
A33: S00040 | B33: 36.08125 | C33: -119.42127 | D33: Tipton (Tulare County) | E33: dairy/manure | F33: Brian and James Jongsma Dairy | G33: 3A2 Manure Management | H33: a | I33: 21.734302 | J33: 490.33254
A34: S00041 | B34: 36.073672 | C34: -119.44069 | D34: Tipton (Tulare County) | E34: dairy/manure - digester | F34: G.J. Te Velde Ranch Dairy | G34: 3A2 Manure Management | H34: c | I34: 14.508301 | J34: 453.96227
A35: S00042 | B35: 37.986498 | C35: -121.47355 | D35: MacDonald Island | E35: gas storage facility | F35: MacDonald Island | G35: 1B2 Oil & Natural Gas | H35: a | I35: 12.402403 | J35: 489.80864
A36: S00043 | B36: 36.078624 | C36: -119.44159 | D36: Tipton (Tulare County) | E36: dairy/manure | F36: G.J. Te Velde Ranch Dairy | G36: 3A2 Manure Management | H36: a | I36: 8.417247 | J36: 488.62255
A37: S00044 | B37: 36.103275 | C37: -119.37351 | D37: Tipton (Tulare County) | E37: dairy/manure | F37: Aukeman Farms Dairy | G37: 3A2 Manure Management | H37: a | I37: 13.510961 | J37: 498.03614
A38: S00045 | B38: 36.101628 | C38: -119.41766 | D38: Tipton (Tulare County) | E38: dairy/manure | F38: Dykstra Dairy | G38: 3A2 Manure Management | H38: a | I38: 0.3455947 | J38: 120.59851
A39: S00047 | B39: 36.147358 | C39: -119.49952 | D39: Tulare (Tulare County) | E39: dairy/manure | F39: Curti Family Inc. | G39: 3A2 Manure Management | H39: a | I39: 176.99482 | J39: 497.32183
A40: S00048 | B40: 36.141361 | C40: -119.53598 | D40: Tulare (Tulare County) | E40: dairy/manure | F40: Felicita Dairy | G40: 3A2 Manure Management | H40: a | I40: 142.86904 | J40: 497.32183
A41: S00049 | B41: 36.215832 | C41: -119.16592 | D41: Tulare (Tulare Complex) | E41: dairy/manure | F41: Pacheco & Fagundes Dairy | G41: 3A2 Manure Management | H41: a | I41: 0.12254784 | J41: 13.416408
A42: S00050 | B42: 36.203221 | C42: -119.19108 | D42: Tulare (Tulare Complex) | E42: dairy/manure | F42: TBD dairy | G42: 3A2 Manure Management | H42: a | I42: 0.089860467 | J42: 9.486833
A43: S00051 | B43: 36.165297 | C43: -119.53785 | D43: Tulare (Tulare County) | E43: dairy/manure | F43: TBD dairy | G43: 3A2 Manure Management | H43: a | I43: 30.770526 | J43: 488.48439
A44: S00052 | B44: 36.227986 | C44: -119.18032 | D44: Tulare (Tulare Complex) | E44: dairy/manure - digester | F44: Hilarides dairy | G44: 3A2 Manure Management | H44: a | I44: TBD | J44: TBD
A45: S00053 | B45: 36.163991 | C45: -119.69249 | D45: Visalia (Tulare County) | E45: dairy/manure | F45: TBD dairy | G45: 3A2 Manure Management | H45: a | I45: 0.044992438 | J45: TBD
A46: S00054 | B46: 36.182383 | C46: -119.65908 | D46: Visalia (Tulare County) | E46: dairy/manure | F46: Cloverdale Dairy | G46: 3A2 Manure Management | H46: a | I46: 0.90654723 | J46: 184.56706
A47: S00055 | B47: 36.192615 | C47: -119.53105 | D47: Visalia (Tulare County) | E47: dairy/manure | F47: Four Star Dairy | G47: 3A2 Manure Management | H47: a | I47: 80.5012 | J47: 490.06632
A48: S00056 | B48: 36.164541 | C48: -119.69239 | D48: Visalia (Tulare County) | E48: dairy/manure | F48: TBD dairy | G48: 3A2 Manure Management | H48: a | I48: 0.15389078 | J48: 19.209373
A49: S00057 | B49: 36.189115 | C49: -119.60669 | D49: Visalia (Tulare County) | E49: dairy/manure | F49: Wreden Ranch Dairy | G49: 3A2 Manure Management | H49: a | I49: 1.2748855 | J49: 221.3504
A50: S00058 | B50: 36.194112 | C50: -119.561 | D50: Visalia (Tulare County) | E50: dairy/manure | F50: TBD dairy | G50: 3A2 Manure Management | H50: a | I50: 2.2340369 | J50: 189.97368
A51: S00059 | B51: 36.192641 | C51: -119.533 | D51: Visalia (Tulare County) | E51: dairy/manure | F51: Four Star Dairy | G51: 3A2 Manure Management | H51: a | I51: 74.659745 | J51: 490.06632
A52: S00060 | B52: 36.205484 | C52: -119.53237 | D52: Visalia (Tulare County) | E52: dairy/manure | F52: Mattos Brothers Dairy | G52: 3A2 Manure Management | H52: a | I52: 20.717827 | J52: 469.57428
A53: S00061 | B53: 36.19968 | C53: -119.5968 | D53: Visalia (Tulare County) | E53: dairy/manure | F53: Hollandia Farms North Dairy | G53: 3A2 Manure Management | H53: a | I53: 1.461676 | J53: 270.74896
A54: S00062 | B54: 36.197838 | C54: -119.6388 | D54: Visalia (Tulare County) | E54: dairy/manure | F54: TBD dairy | G54: 3A2 Manure Management | H54: a | I54: TBD | J54: TBD
A55: S00063 | B55: 36.207186 | C55: -119.69638 | D55: Visalia (Tulare County) | E55: dairy/manure | F55: TBD dairy | G55: 3A2 Manure Management | H55: a | I55: TBD | J55: TBD
A56: S00064 | B56: 36.196885 | C56: -119.68447 | D56: Visalia (Tulare County) | E56: dairy/manure | F56: TBD dairy | G56: 3A2 Manure Management | H56: a | I56: 0.12362848 | J56: 30.594117
...

Sheet IME plots
A1: Area (region or town; i.e. Honor Rancho or Taft) | B1: Candidate source type | C1: Candidate source details (if applicable) | D1: Sectors (IPCC) | E1: Selection crieria | F1: Mean IME (kg CH4) | G1: Mean fetch (plume length, m) | H1: linear mass density (g/m) | I1: flux (kg/hr) | J1: assumed wind speed (m/s) | V1: AKT: Links need to be updated
A2: Tulare (Tulare Complex) | B2: dairy/manure - digester | C2: Hilarides dairy | D2: 3A2 Manure Management | E2: a | F2: TBD | G2: TBD | I2: TBD | J2: 2
A3: Visalia (Tulare County) | B3: dairy/manure | C3: TBD dairy | D3: 3A2 Manure Management | E3: a | F3: TBD | G3: TBD | I3: TBD | J3: cum flux (kgCH4/hr) | L3: cum IME (kg) | M3: % of total | N3: cumulative (g/m) | O3: fraction point source (%) | P3: fraction CARB (%) | Q3: flux 1A1 Energy Industries | R3: 1B2 Oil & Natural Gas | S3: 3A2 Manure Management | T3: 3B2 Cropland | U3: 3B6 Other Land | V3: 4A1 Managed Waste Disposal Sites | W3: 4D1 Domestic Wastewater Treatment & Discharge | X3: Unknown | Y3: top facilities | Z3: kg/hr | AA3: fraction of point sources | AB3: fraction of SoCAB | AC3: fraction of state
A4: Visalia (Tulare County) | B4: dairy/manure | C4: TBD dairy | D4: 3A2 Manure Management | E4: a | F4: TBD | G4: TBD | I4: TBD | Q4: =IF(#REF!="1A1 Energy Industries",#REF!) -> #REF! | R4: =IF(#REF!="1B2 Oil & Natural Gas",#REF!) -> #REF! | S4: =IF(#REF!="3A2 Manure Management",#REF!) -> #REF! | T4: =IF(#REF!="3B2 Cropland",#REF!) -> #REF! | U4: =IF(#REF!="3B6 Other Land",#REF!) -> #REF! | V4: =IF(#REF!="4A1 Managed Waste Disposal Sites",#REF!) -> #REF! | W4: =IF(#REF!="4D1 Domestic Wastewater Treatment & Discharge",#REF!) -> #REF! | X4: =IF(#REF!="unknown",#REF!) -> #REF! | Y4: Sunshine Canyon Landfill | Z4: 3699.1767 | AA4: =Z4/#REF! -> #REF! | AB4: =Z4/40000 -> 0.092479418 | AC4: =Z4/#REF! -> #REF!
A5: Tulare (Tulare County) | B5: dairy/manure | C5: Valadao Dairy | D5: 3A2 Manure Management | E5: a | F5: TBD | G5: TBD | I5: TBD | Q5: =IF(#REF!="1A1 Energy Industries",#REF!) -> #REF! | R5: =IF(#REF!="1B2 Oil & Natural Gas",#REF!) -> #REF! | S5: =IF(#REF!="3A2 Manure Management",#REF!) -> #REF! | T5: =IF(#REF!="3B2 Cropland",#REF!) -> #REF! | U5: =IF(#REF!="3B6 Other Land",#REF!) -> #REF! | V5: =IF(#REF!="4A1 Managed Waste Disposal Sites",#REF!) -> #REF! | W5: =IF(#REF!="4D1 Domestic Wastewater Treatment & Discharge",#REF!) -> #REF! | X5: =IF(#REF!="unknown",#REF!) -> #REF! | Y5: Richmond Refinery | Z5: 3390.5472 | AA5: =Z5/#REF! -> #REF! | AB5: =Z5/40000 -> 0.08476368 | AC5: =Z5/#REF! -> #REF!
A6: Tulare (Tulare County) | B6: dairy/manure | C6: Manuel & Alda Lawrence Dairy | D6: 3A2 Manure Management | E6: a | F6: TBD | G6: TBD | I6: TBD | Q6: =IF(#REF!="1A1 Energy Industries",#REF!) -> #REF! | R6: =IF(#REF!="1B2 Oil & Natural Gas",#REF!) -> #REF! | S6: =IF(#REF!="3A2 Manure Management",#REF!) -> #REF! | T6: =IF(#REF!="3B2 Cropland",#REF!) -> #REF! | U6: =IF(#REF!="3B6 Other Land",#REF!) -> #REF! | V6: =IF(#REF!="4A1 Managed Waste Disposal Sites",#REF!) -> #REF! | W6: =IF(#REF!="4D1 Domestic Wastewater Treatment & Discharge",#REF!) -> #REF! | X6: =IF(#REF!="unknown",#REF!) -> #REF! | Y6: Kern River/Front oil & gas field | Z6: 2580.3207 | AA6: =Z6/#REF! -> #REF! | AB6: =Z6/40000 -> 0.064508017 | AC6: =Z6/#REF! -> #REF!
A7: Coalinga | B7: oil/gas waste lagoon | C7: Coalinga oil & gas field | D7: 1B2 Oil & Natural Gas | E7: a | F7: TBD | G7: TBD | I7: TBD | Q7: =IF(#REF!="1A1 Energy Industries",#REF!) -> #REF! | R7: =IF(#REF!="1B2 Oil & Natural Gas",#REF!) -> #REF! | S7: =IF(#REF!="3A2 Manure Management",#REF!) -> #REF! | T7: =IF(#REF!="3B2 Cropland",#REF!) -> #REF! | U7: =IF(#REF!="3B6 Other Land",#REF!) -> #REF! | V7: =IF(#REF!="4A1 Managed Waste Disposal Sites",#REF!) -> #REF! | W7: =IF(#REF!="4D1 Domestic Wastewater Treatment & Discharge",#REF!) -> #REF! | X7: =IF(#REF!="unknown",#REF!) -> #REF! | Y7: Curti Family Dairy | Z7: 2562.4508 | AA7: =Z7/#REF! -> #REF! | AB7: =Z7/40000 -> 0.064061269 | AC7: =Z7/#REF! -> #REF! | AD7: Curti family dairy flux is suspect
A8: Taft (Kern County) | B8: dairy/manure | C8: MC Moo Farms Dairy | D8: 3A2 Manure Management | E8: a | F8: TBD | G8: TBD | I8: TBD | Q8: =IF(#REF!="1A1 Energy Industries",#REF!) -> #REF! | R8: =IF(#REF!="1B2 Oil & Natural Gas",#REF!) -> #REF! | S8: =IF(#REF!="3A2 Manure Management",#REF!) -> #REF! | T8: =IF(#REF!="3B2 Cropland",#REF!) -> #REF! | U8: =IF(#REF!="3B6 Other Land",#REF!) -> #REF! | V8: =IF(#REF!="4A1 Managed Waste Disposal Sites",#REF!) -> #REF! | W8: =IF(#REF!="4D1 Domestic Wastewater Treatment & Discharge",#REF!) -> #REF! | X8: =IF(#REF!="unknown",#REF!) -> #REF! | Y8: Felicita Dairy | Z8: 2068.3933 | AA8: =Z8/#REF! -> #REF! | AB8: =Z8/40000 -> 0.051709832 | AC8: =Z8/#REF! -> #REF! | AD8: Felicita dairy flux is suspect
A9: Tulare (Tulare County) | B9: other livestock | C9: TBD | D9: 3A2 Manure Management | E9: a | F9: TBD | G9: TBD | I9: TBD | Q9: =IF(#REF!="1A1 Energy Industries",#REF!) -> #REF! | R9: =IF(#REF!="1B2 Oil & Natural Gas",#REF!) -> #REF! | S9: =IF(#REF!="3A2 Manure Management",#REF!) -> #REF! | T9: =IF(#REF!="3B2 Cropland",#REF!) -> #REF! | U9: =IF(#REF!="3B6 Other Land",#REF!) -> #REF! | V9: =IF(#REF!="4A1 Managed Waste Disposal Sites",#REF!) -> #REF! | W9: =IF(#REF!="4D1 Domestic Wastewater Treatment & Discharge",#REF!) -> #REF! | X9: =IF(#REF!="unknown",#REF!) -> #REF! | Y9: Torrance Refinery | Z9: 1440.7375 | AA9: =Z9/#REF! -> #REF! | AB9: =Z9/40000 -> 0.036018438 | AC9: =Z9/#REF! -> #REF! | AD9: appeared to spike to 3200 kg/hr during 10/11/2016t incident
A10: Tulare (Tulare County) | B10: dairy/manure | C10: TBD dairy | D10: 3A2 Manure Management | E10: a | F10: TBD | G10: TBD | I10: TBD | Q10: =IF(#REF!="1A1 Energy Industries",#REF!) -> #REF! | R10: =IF(#REF!="1B2 Oil & Natural Gas",#REF!) -> #REF! | S10: =IF(#REF!="3A2 Manure Management",#REF!) -> #REF! | T10: =IF(#REF!="3B2 Cropland",#REF!) -> #REF! | U10: =IF(#REF!="3B6 Other Land",#REF!) -> #REF! | V10: =IF(#REF!="4A1 Managed Waste Disposal Sites",#REF!) -> #REF! | W10: =IF(#REF!="4D1 Domestic Wastewater Treatment & Discharge",#REF!) -> #REF! | X10: =IF(#REF!="unknown",#REF!) -> #REF! | Y10: Pacific Rim Dairy (Digester) | Z10: 1426.3517 | AA10: =Z10/#REF! -> #REF! | AB10: =Z10/40000 -> 0.035658792 | AC10: =Z10/#REF! -> #REF!
A11: Tulare (Tulare County) | B11: dairy/manure | C11: Elk Creek Dairy | D11: 3A2 Manure Management | E11: a | F11: TBD | G11: TBD | I11: TBD | Q11: =IF(#REF!="1A1 Energy Industries",#REF!) -> #REF! | R11: =IF(#REF!="1B2 Oil & Natural Gas",#REF!) -> #REF! | S11: =IF(#REF!="3A2 Manure Management",#REF!) -> #REF! | T11: =IF(#REF!="3B2 Cropland",#REF!) -> #REF! | U11: =IF(#REF!="3B6 Other Land",#REF!) -> #REF! | V11: =IF(#REF!="4A1 Managed Waste Disposal Sites",#REF!) -> #REF! | W11: =IF(#REF!="4D1 Domestic Wastewater Treatment & Discharge",#REF!) -> #REF! | X11: =IF(#REF!="unknown",#REF!) -> #REF! | Y11: Midway Sunset oil & gas field | Z11: 1341 | AA11: =Z11/#REF! -> #REF! | AB11: =Z11/40000 -> 0.033525 | AC11: =Z11/#REF! -> #REF!
A12: Tulare (Tulare Complex) | B12: dairy/manure | C12: Triple V Dairy | D12: 3A2 Manure Management | E12: a | F12: TBD | G12: TBD | I12: TBD | Q12: =IF(#REF!="1A1 Energy Industries",#REF!) -> #REF! | R12: =IF(#REF!="1B2 Oil & Natural Gas",#REF!) -> #REF! | S12: =IF(#REF!="3A2 Manure Management",#REF!) -> #REF! | T12: =IF(#REF!="3B2 Cropland",#REF!) -> #REF! | U12: =IF(#REF!="3B6 Other Land",#REF!) -> #REF! | V12: =IF(#REF!="4A1 Managed Waste Disposal Sites",#REF!) -> #REF! | W12: =IF(#REF!="4D1 Domestic Wastewater Treatment & Discharge",#REF!) -> #REF! | X12: =IF(#REF!="unknown",#REF!) -> #REF! | Y12: River Oaks Dairy | Z12: 1295.0816 | AA12: =Z12/#REF! -> #REF! | AB12: =Z12/40000 -> 0.032377041 | AC12: =Z12/#REF! -> #REF!
A13: Tulare (Tulare County) | B13: dairy/manure | C13: Airoso Dairy | D13: 3A2 Manure Management | E13: a | F13: TBD | G13: TBD | I13: TBD | Q13: =IF(#REF!="1A1 Energy Industries",#REF!) -> #REF! | R13: =IF(#REF!="1B2 Oil & Natural Gas",#REF!) -> #REF! | S13: =IF(#REF!="3A2 Manure Management",#REF!) -> #REF! | T13: =IF(#REF!="3B2 Cropland",#REF!) -> #REF! | U13: =IF(#REF!="3B6 Other Land",#REF!) -> #REF! | V13: =IF(#REF!="4A1 Managed Waste Disposal Sites",#REF!) -> #REF! | W13: =IF(#REF!="4D1 Domestic Wastewater Treatment & Discharge",#REF!) -> #REF! | X13: =IF(#REF!="unknown",#REF!) -> #REF! | Y13: Visalia DS landfill | Z13: 1277 | AA13: =Z13/#REF! -> #REF! | AB13: =Z13/40000 -> 0.031925 | AC13: =Z13/#REF! -> #REF! | AD13: Visalia flux is suspect
A14: McKittrick | B14: oil/gas unknown infrastucture | C14: McKittrick oil & gas field | D14: 1B2 Oil & Natural Gas | E14: a | F14: TBD | G14: TBD | I14: TBD | Q14: =IF(#REF!="1A1 Energy Industries",#REF!) -> #REF! | R14: =IF(#REF!="1B2 Oil & Natural Gas",#REF!) -> #REF! | S14: =IF(#REF!="3A2 Manure Management",#REF!) -> #REF! | T14: =IF(#REF!="3B2 Cropland",#REF!) -> #REF! | U14: =IF(#REF!="3B6 Other Land",#REF!) -> #REF! | V14: =IF(#REF!="4A1 Managed Waste Disposal Sites",#REF!) -> #REF! | W14: =IF(#REF!="4D1 Domestic Wastewater Treatment & Discharge",#REF!) -> #REF! | X14: =IF(#REF!="unknown",#REF!) -> #REF! | Y14: Harris meat plant | Z14: 1215.2727 | AA14: =Z14/#REF! -> #REF! | AB14: =Z14/40000 -> 0.030381818 | AC14: =Z14/#REF! -> #REF!
A15: Kern County | B15: oil/gas pumpjack | C15: Poso Creek oil & gas field | D15: 1B2 Oil & Natural Gas | E15: c | F15: TBD | G15: TBD | I15: TBD | Q15: =IF(#REF!="1A1 Energy Industries",#REF!) -> #REF! | R15: =IF(#REF!="1B2 Oil & Natural Gas",#REF!) -> #REF! | S15: =IF(#REF!="3A2 Manure Management",#REF!) -> #REF! | T15: =IF(#REF!="3B2 Cropland",#REF!) -> #REF! | U15: =IF(#REF!="3B6 Other Land",#REF!) -> #REF! | V15: =IF(#REF!="4A1 Managed Waste Disposal Sites",#REF!) -> #REF! | W15: =IF(#REF!="4D1 Domestic Wastewater Treatment & Discharge",#REF!) -> #REF! | X15: =IF(#REF!="unknown",#REF!) -> #REF! | Y15: Four Star Dairy | Z15: 1182.7147 | AA15: =Z15/#REF! -> #REF! | AB15: =Z15/40000 -> 0.029567867 | AC15: =Z15/#REF! -> #REF!
A16: Kern River oil & gas field | B16: oil/gas pumpjack | C16: Poso Creek oil & gas field | D16: 1B2 Oil & Natural Gas | E16: c | F16: TBD | G16: TBD | I16: TBD | Q16: =IF(#REF!="1A1 Energy Industries",#REF!) -> #REF! | R16: =IF(#REF!="1B2 Oil & Natural Gas",#REF!) -> #REF! | S16: =IF(#REF!="3A2 Manure Management",#REF!) -> #REF! | T16: =IF(#REF!="3B2 Cropland",#REF!) -> #REF! | U16: =IF(#REF!="3B6 Other Land",#REF!) -> #REF! | V16: =IF(#REF!="4A1 Managed Waste Disposal Sites",#REF!) -> #REF! | W16: =IF(#REF!="4D1 Domestic Wastewater Treatment & Discharge",#REF!) -> #REF! | X16: =IF(#REF!="unknown",#REF!) -> #REF! | Y16: Double J Dairy | Z16: 1130.5844 | AA16: =Z16/#REF! -> #REF! | AB16: =Z16/40000 -> 0.02826461 | AC16: =Z16/#REF! -> #REF!
A17: Kern County | B17: oil/gas pumpjack | C17: Poso Creek oil & gas field | D17: 1B2 Oil & Natural Gas | E17: c | F17: TBD | G17: TBD | I17: TBD | N17: =#REF!+#REF!+#REF! -> #REF! | Q17: =IF(#REF!="1A1 Energy Industries",#REF!) -> #REF! | R17: =IF(#REF!="1B2 Oil & Natural Gas",#REF!) -> #REF! | S17: =IF(#REF!="3A2 Manure Management",#REF!) -> #REF! | T17: =IF(#REF!="3B2 Cropland",#REF!) -> #REF! | U17: =IF(#REF!="3B6 Other Land",#REF!) -> #REF! | V17: =IF(#REF!="4A1 Managed Waste Disposal Sites",#REF!) -> #REF! | W17: =IF(#REF!="4D1 Domestic Wastewater Treatment & Discharge",#REF!) -> #REF! | X17: =IF(#REF!="unknown",#REF!) -> #REF! | Y17: Four Star Dairy | Z17: 1096.8927 | AA17: =Z17/#REF! -> #REF! | AB17: =Z17/40000 -> 0.027422317 | AC17: =Z17/#REF! -> #REF!
A18: Kern County | B18: oil/gas pumpjack | C18: Poso Creek oil & gas field | D18: 1B2 Oil & Natural Gas | E18: a | F18: TBD | G18: TBD | I18: TBD | Q18: =IF(#REF!="1A1 Energy Industries",#REF!) -> #REF! | R18: =IF(#REF!="1B2 Oil & Natural Gas",#REF!) -> #REF! | S18: =IF(#REF!="3A2 Manure Management",#REF!) -> #REF! | T18: =IF(#REF!="3B2 Cropland",#REF!) -> #REF! | U18: =IF(#REF!="3B6 Other Land",#REF!) -> #REF! | V18: =IF(#REF!="4A1 Managed Waste Disposal Sites",#REF!) -> #REF! | W18: =IF(#REF!="4D1 Domestic Wastewater Treatment & Discharge",#REF!) -> #REF! | X18: =IF(#REF!="unknown",#REF!) -> #REF! | Y18: Elk Hills oil & gas field | Z18: 1064.5946 | AA18: =Z18/#REF! -> #REF! | AB18: =Z18/40000 -> 0.026614864 | AC18: =Z18/#REF! -> #REF!
A19: Kern County | B19: oil/gas pumpjack | C19: Poso Creek oil & gas field | D19: 1B2 Oil & Natural Gas | E19: c | F19: TBD | G19: TBD | I19: TBD | Q19: =IF(#REF!="1A1 Energy Industries",#REF!) -> #REF! | R19: =IF(#REF!="1B2 Oil & Natural Gas",#REF!) -> #REF! | S19: =IF(#REF!="3A2 Manure Management",#REF!) -> #REF! | T19: =IF(#REF!="3B2 Cropland",#REF!) -> #REF! | U19: =IF(#REF!="3B6 Other Land",#REF!) -> #REF! | V19: =IF(#REF!="4A1 Managed Waste Disposal Sites",#REF!) -> #REF! | W19: =IF(#REF!="4D1 Domestic Wastewater Treatment & Discharge",#REF!) -> #REF! | X19: =IF(#REF!="unknown",#REF!) -> #REF! | Y19: Maple Dairy | Z19: 923.67126 | AA19: =Z19/#REF! -> #REF! | AB19: =Z19/40000 -> 0.023091781 | AC19: =Z19/#REF! -> #REF!
A20: Kern River | B20: oil/gas unknown infrastucture | C20: Poso Creek oil & gas field | D20: 1B2 Oil & Natural Gas | E20: c | F20: TBD | G20: TBD | I20: TBD | Q20: =IF(#REF!="1A1 Energy Industries",#REF!) -> #REF! | R20: =IF(#REF!="1B2 Oil & Natural Gas",#REF!) -> #REF! | S20: =IF(#REF!="3A2 Manure Management",#REF!) -> #REF! | T20: =IF(#REF!="3B2 Cropland",#REF!) -> #REF! | U20: =IF(#REF!="3B6 Other Land",#REF!) -> #REF! | V20: =IF(#REF!="4A1 Managed Waste Disposal Sites",#REF!) -> #REF! | W20: =IF(#REF!="4D1 Domestic Wastewater Treatment & Discharge",#REF!) -> #REF! | X20: =IF(#REF!="unknown",#REF!) -> #REF! | Y20: total from top facilities | Z20: =SUM(Z1:Z18) -> 26771.119 | AA20: =Z20/#REF! -> #REF! | AB20: =Z20/40000 -> 0.66927796 | AC20: =Z20/#REF! -> #REF!
A21: Kern County | B21: oil/gas pumpjack | C21: Poso Creek oil & gas field | D21: 1B2 Oil & Natural Gas | E21: c | F21: TBD | G21: TBD | I21: TBD | Q21: =IF(#REF!="1A1 Energy Industries",#REF!) -> #REF! | R21: =IF(#REF!="1B2 Oil & Natural Gas",#REF!) -> #REF! | S21: =IF(#REF!="3A2 Manure Management",#REF!) -> #REF! | T21: =IF(#REF!="3B2 Cropland",#REF!) -> #REF! | U21: =IF(#REF!="3B6 Other Land",#REF!) -> #REF! | V21: =IF(#REF!="4A1 Managed Waste Disposal Sites",#REF!) -> #REF! | W21: =IF(#REF!="4D1 Domestic Wastewater Treatment & Discharge",#REF!) -> #REF! | X21: =IF(#REF!="unknown",#REF!) -> #REF!
A22: Richmond | B22: refinery | C22: Chevron refinery | D22: 1A1 Energy Industries | E22: a | F22: 233.84317 | G22: 496.5779 | I22: TBD | Q22: =IF(#REF!="1A1 Energy Industries",#REF!) -> #REF! | R22: =IF(#REF!="1B2 Oil & Natural Gas",#REF!) -> #REF! | S22: =IF(#REF!="3A2 Manure Management",#REF!) -> #REF! | T22: =IF(#REF!="3B2 Cropland",#REF!) -> #REF! | U22: =IF(#REF!="3B6 Other Land",#REF!) -> #REF! | V22: =IF(#REF!="4A1 Managed Waste Disposal Sites",#REF!) -> #REF! | W22: =IF(#REF!="4D1 Domestic Wastewater Treatment & Discharge",#REF!) -> #REF! | X22: =IF(#REF!="unknown",#REF!) -> #REF!
A23: Tulare (Tulare County) | B23: dairy/manure | C23: Curti Family Inc. | D23: 3A2 Manure Management | E23: a | F23: 176.99482 | G23: 497.32183 | I23: TBD | Q23: =IF(#REF!="1A1 Energy Industries",#REF!) -> #REF! | R23: =IF(#REF!="1B2 Oil & Natural Gas",#REF!) -> #REF! | S23: =IF(#REF!="3A2 Manure Management",#REF!) -> #REF! | T23: =IF(#REF!="3B2 Cropland",#REF!) -> #REF! | U23: =IF(#REF!="3B6 Other Land",#REF!) -> #REF! | V23: =IF(#REF!="4A1 Managed Waste Disposal Sites",#REF!) -> #REF! | W23: =IF(#REF!="4D1 Domestic Wastewater Treatment & Discharge",#REF!) -> #REF! | X23: =IF(#REF!="unknown",#REF!) -> #REF!
A24: Tulare (Tulare County) | B24: dairy/manure | C24: Felicita Dairy | D24: 3A2 Manure Management | E24: a | F24: 142.86904 | G24: 497.32183 | I24: TBD | Q24: =IF(#REF!="1A1 Energy Industries",#REF!) -> #REF! | R24: =IF(#REF!="1B2 Oil & Natural Gas",#REF!) -> #REF! | S24: =IF(#REF!="3A2 Manure Management",#REF!) -> #REF! | T24: =IF(#REF!="3B2 Cropland",#REF!) -> #REF! | U24: =IF(#REF!="3B6 Other Land",#REF!) -> #REF! | V24: =IF(#REF!="4A1 Managed Waste Disposal Sites",#REF!) -> #REF! | W24: =IF(#REF!="4D1 Domestic Wastewater Treatment & Discharge",#REF!) -> #REF! | X24: =IF(#REF!="unknown",#REF!) -> #REF!
A25: Tulare (Tulare County) | B25: dairy/manure | C25: TBD dairy | D25: 3A2 Manure Management | E25: a | F25: 125 | G25: TBD | I25: TBD | Q25: =IF(#REF!="1A1 Energy Industries",#REF!) -> #REF! | R25: =IF(#REF!="1B2 Oil & Natural Gas",#REF!) -> #REF! | S25: =IF(#REF!="3A2 Manure Management",#REF!) -> #REF! | T25: =IF(#REF!="3B2 Cropland",#REF!) -> #REF! | U25: =IF(#REF!="3B6 Other Land",#REF!) -> #REF! | V25: =IF(#REF!="4A1 Managed Waste Disposal Sites",#REF!) -> #REF! | W25: =IF(#REF!="4D1 Domestic Wastewater Treatment & Discharge",#REF!) -> #REF! | X25: =IF(#REF!="unknown",#REF!) -> #REF!
A26: Tulare (Tulare County) | B26: dairy/manure - digester | C26: Pacific Rim Dairy Digester | D26: 3A2 Manure Management | E26: c | F26: 94.627338 | G26: 491.89476 | I26: TBD | Q26: =IF(#REF!="1A1 Energy Industries",#REF!) -> #REF! | R26: =IF(#REF!="1B2 Oil & Natural Gas",#REF!) -> #REF! | S26: =IF(#REF!="3A2 Manure Management",#REF!) -> #REF! | T26: =IF(#REF!="3B2 Cropland",#REF!) -> #REF! | U26: =IF(#REF!="3B6 Other Land",#REF!) -> #REF! | V26: =IF(#REF!="4A1 Managed Waste Disposal Sites",#REF!) -> #REF! | W26: =IF(#REF!="4D1 Domestic Wastewater Treatment & Discharge",#REF!) -> #REF! | X26: =IF(#REF!="unknown",#REF!) -> #REF!
A27: Torrance | B27: oil/gas stack | C27: ExxonMobil Oil Refinery | D27: 1A1 Energy Industries | E27: c | F27: 93.842878 | G27: 463.3602 | I27: TBD | Q27: =IF(#REF!="1A1 Energy Industries",#REF!) -> #REF! | R27: =IF(#REF!="1B2 Oil & Natural Gas",#REF!) -> #REF! | S27: =IF(#REF!="3A2 Manure Management",#REF!) -> #REF! | T27: =IF(#REF!="3B2 Cropland",#REF!) -> #REF! | U27: =IF(#REF!="3B6 Other Land",#REF!) -> #REF! | V27: =IF(#REF!="4A1 Managed Waste Disposal Sites",#REF!) -> #REF! | W27: =IF(#REF!="4D1 Domestic Wastewater Treatment & Discharge",#REF!) -> #REF! | X27: =IF(#REF!="unknown",#REF!) -> #REF!
A28: Visalia (Tulare County) | B28: dairy/manure | C28: River Oaks Dairy | D28: 3A2 Manure Management | E28: a | F28: 89.850744 | G28: 499.52477 | I28: TBD | Q28: =IF(#REF!="1A1 Energy Industries",#REF!) -> #REF! | R28: =IF(#REF!="1B2 Oil & Natural Gas",#REF!) -> #REF! | S28: =IF(#REF!="3A2 Manure Management",#REF!) -> #REF! | T28: =IF(#REF!="3B2 Cropland",#REF!) -> #REF! | U28: =IF(#REF!="3B6 Other Land",#REF!) -> #REF! | V28: =IF(#REF!="4A1 Managed Waste Disposal Sites",#REF!) -> #REF! | W28: =IF(#REF!="4D1 Domestic Wastewater Treatment & Discharge",#REF!) -> #REF! | X28: =IF(#REF!="unknown",#REF!) -> #REF!
