Workbook
Name Fall_2016_tr_2: #REF!
Name Fall_2016_tr_2: #REF!
Name Fall_2016_tr_2: #REF!
Name Fall_2016_tr_2: #REF!
Name Fall_2016_tr_2: #REF!
Name ime_merge_20170615_akt_1: 'Fall 2016 plumes for report'!#REF!
Name Likely_Sources: #REF!
Name Likely_Sources: #REF!
Name Likely_Sources: #REF!
Name Likely_Sources: #REF!
Name Likely_Sources: #REF!
Name Names_GeoTIF: 'Fall 2016 plumes for report'!$W$5:$W$485
Name Names_GeoTIF_1: 'Fall 2016 plumes for report'!$W$5:$W$485
Name test: #REF!
Name test: #REF!
Name test: #REF!
Name test: #REF!

Sheet Fall 2016 plumes for report
D2: Can be hidden | E2: Can be hidden | F2: Can be hidden | G2: Can be hidden | L2: Can be hidden | M2: Can be hidden | N2: Can be hidden
A3: Source identifier | B3: Source Latitude (deg) | C3: Source Longitude (deg) | D3: Plume identifier (unique for each plume) | E3: Instument abbreviation (ANG, AVC, HYT) | F3: Gas (CH4, CO2, NH3) | G3: Number | H3: Plume Latitude (deg) | I3: Plume Longitude (deg) | J3: Selection crieria | K3: Area (region or town) | L3: Image analyst | M3: Image analyst confidence | N3: Candidate ID | O3: Source type (best estimate) | P3: Nearest facility (best estimate) | Q3: Sectors (IPCC) | R3: Line name | S3: Date of detection | T3: Time of detection (UTC) | U3: IME (kg CH4) | V3: Plume length (m) | W3: GeoTIF name
A5: S00006 | B5: 34.44705 | C5: -118.58834 | D5: =CONCATENATE(E5,"_",F5,"_",TEXT(G5,"00000")) -> ANG_CH4_00001 | E5: ANG | F5: CH4 | G5: 1 | H5: 34.447032 | I5: -118.58834 | J5: c | K5: Honor Rancho | L5: at | M5: high | N5: ang20160910t185702-A | O5: gas storage facility | P5: Honor Rancho | Q5: 1B2 Oil & Natural Gas | R5: ang20160910t185702 | S5: =CONCATENATE(MID(R5,8,2),"/",MID(R5,10,2),"/",MID(R5,6,2)) -> 09/10/16 | T5: =CONCATENATE(MID(R5,13,2),":",MID(R5,15,2),":",MID(R5,17,2)) -> 18:57:02 | U5: 3.264719 | V5: 119.2899 | W5: ang20160910t185702_S00006_r2536_c414_ctr.tif
A6: S00006 | B6: 34.44705 | C6: -118.58834 | D6: =CONCATENATE(E6,"_",F6,"_",TEXT(G6,"00000")) -> ANG_CH4_00002 | E6: ANG | F6: CH4 | G6: =G5+1 -> 2 | H6: 34.447032 | I6: -118.58834 | J6: c | K6: Honor Rancho | L6: at | M6: high | N6: ang20160910t191651-A | O6: gas storage facility | P6: Honor Rancho | Q6: 1B2 Oil & Natural Gas | R6: ang20160910t191651 | S6: =CONCATENATE(MID(R6,8,2),"/",MID(R6,10,2),"/",MID(R6,6,2)) -> 09/10/16 | T6: =CONCATENATE(MID(R6,13,2),":",MID(R6,15,2),":",MID(R6,17,2)) -> 19:16:51 | U6: 2.1115124 | V6: 184.24299 | W6: ang20160910t191651_S00006_r2550_c236_ctr.tif
A7: S00006 | B7: 34.44705 | C7: -118.58834 | D7: =CONCATENATE(E7,"_",F7,"_",TEXT(G7,"00000")) -> ANG_CH4_00003 | E7: ANG | F7: CH4 | G7: =G6+1 -> 3 | H7: 34.447032 | I7: -118.58834 | J7: c | K7: Honor Rancho | L7: at | M7: high | N7: ang20160910t192242-A | O7: gas storage facility | P7: Honor Rancho | Q7: 1B2 Oil & Natural Gas | R7: ang20160910t192242 | S7: =CONCATENATE(MID(R7,8,2),"/",MID(R7,10,2),"/",MID(R7,6,2)) -> 09/10/16 | T7: =CONCATENATE(MID(R7,13,2),":",MID(R7,15,2),":",MID(R7,17,2)) -> 19:22:42 | U7: 0.9361152 | V7: 88.255085 | W7: ang20160910t192242_S00006_r2606_c422_ctr.tif
A8: S00006 | B8: 34.44705 | C8: -118.58834 | D8: =CONCATENATE(E8,"_",F8,"_",TEXT(G8,"00000")) -> ANG_CH4_00004 | E8: ANG | F8: CH4 | G8: =G7+1 -> 4 | H8: 34.447032 | I8: -118.58834 | J8: c | K8: Honor Rancho | L8: at | M8: high | N8: ang20160910t185702-A | O8: gas storage facility | P8: Honor Rancho | Q8: 1B2 Oil & Natural Gas | R8: ang20160912t195241 | S8: =CONCATENATE(MID(R8,8,2),"/",MID(R8,10,2),"/",MID(R8,6,2)) -> 09/12/16 | T8: =CONCATENATE(MID(R8,13,2),":",MID(R8,15,2),":",MID(R8,17,2)) -> 19:52:41 | U8: 2.4493985 | V8: 264.50975 | W8: ang20160912t195241_S00006_r2329_c246_ctr.tif
A9: S00006 | B9: 34.44705 | C9: -118.58834 | D9: =CONCATENATE(E9,"_",F9,"_",TEXT(G9,"00000")) -> ANG_CH4_00005 | E9: ANG | F9: CH4 | G9: =G8+1 -> 5 | H9: 34.447005 | I9: -118.58837 | J9: c | K9: Honor Rancho | L9: at | M9: high | N9: ang20160912t225718-B | O9: gas storage facility | P9: Honor Rancho | Q9: 1B2 Oil & Natural Gas | R9: ang20160912t225718 | S9: =CONCATENATE(MID(R9,8,2),"/",MID(R9,10,2),"/",MID(R9,6,2)) -> 09/12/16 | T9: =CONCATENATE(MID(R9,13,2),":",MID(R9,15,2),":",MID(R9,17,2)) -> 22:57:18 | U9: 0.76691386 | V9: 68.873362 | W9: ang20160912t225718_S00006_r2055_c340_ctr.tif
A10: S00006 | B10: 34.44705 | C10: -118.58834 | D10: =CONCATENATE(E10,"_",F10,"_",TEXT(G10,"00000")) -> ANG_CH4_00006 | E10: ANG | F10: CH4 | G10: =G9+1 -> 6 | H10: 34.447046 | I10: -118.58834 | J10: c | K10: Honor Rancho | L10: at | M10: high | N10: ang20160916t221543-D | O10: gas storage facility | P10: Honor Rancho | Q10: 1B2 Oil & Natural Gas | R10: ang20160916t221543 | S10: =CONCATENATE(MID(R10,8,2),"/",MID(R10,10,2),"/",MID(R10,6,2)) -> 09/16/16 | T10: =CONCATENATE(MID(R10,13,2),":",MID(R10,15,2),":",MID(R10,17,2)) -> 22:15:43 | U10: 4.089553 | V10: 265.16504 | W10: ang20160916t221543_S00006_r2558_c-179_ctr.tif
A11: S00006 | B11: 34.44705 | C11: -118.58834 | D11: =CONCATENATE(E11,"_",F11,"_",TEXT(G11,"00000")) -> ANG_CH4_00007 | E11: ANG | F11: CH4 | G11: =G10+1 -> 7 | H11: 34.447022 | I11: -118.58833 | J11: c | K11: Honor Rancho | L11: at | M11: high | N11: ang20160917t181611-A | O11: gas storage facility | P11: Honor Rancho | Q11: 1B2 Oil & Natural Gas | R11: ang20160917t181611 | S11: =CONCATENATE(MID(R11,8,2),"/",MID(R11,10,2),"/",MID(R11,6,2)) -> 09/17/16 | T11: =CONCATENATE(MID(R11,13,2),":",MID(R11,15,2),":",MID(R11,17,2)) -> 18:16:11 | U11: 61.952251 | V11: 498.3522 | W11: ang20160917t181611_S00006_r1858_c-2_ctr.tif
A12: S00006 | B12: 34.44705 | C12: -118.58834 | D12: =CONCATENATE(E12,"_",F12,"_",TEXT(G12,"00000")) -> ANG_CH4_00008 | E12: ANG | F12: CH4 | G12: =G11+1 -> 8 | H12: 34.447034 | I12: -118.58832 | J12: c | K12: Honor Rancho | L12: at | M12: high | N12: ang20160917t224332-B | O12: gas storage facility | P12: Honor Rancho | Q12: 1B2 Oil & Natural Gas | R12: ang20160917t224332 | S12: =CONCATENATE(MID(R12,8,2),"/",MID(R12,10,2),"/",MID(R12,6,2)) -> 09/17/16 | T12: =CONCATENATE(MID(R12,13,2),":",MID(R12,15,2),":",MID(R12,17,2)) -> 22:43:32 | U12: 8.4690883 | V12: 497.70443 | W12: ang20160917t224332_S00006_r1860_c14_ctr.tif
A13: S00006 | B13: 34.447139 | C13: -118.58763 | D13: =CONCATENATE(E13,"_",F13,"_",TEXT(G13,"00000")) -> ANG_CH4_00009 | E13: ANG | F13: CH4 | G13: =G12+1 -> 9 | H13: 34.447139 | I13: -118.58763 | J13: c | K13: Honor Rancho | L13: tr | M13: high | N13: ang20160925t170117-A | O13: gas storage facility | P13: Honor Rancho | Q13: 1B2 Oil & Natural Gas | R13: ang20160925t170117 | S13: =CONCATENATE(MID(R13,8,2),"/",MID(R13,10,2),"/",MID(R13,6,2)) -> 09/25/16 | T13: =CONCATENATE(MID(R13,13,2),":",MID(R13,15,2),":",MID(R13,17,2)) -> 17:01:17 | U13: 13.784137 | V13: 495.28723 | W13: ang20160925t170117_S00006_r2587_c-141_ctr.tif
A14: S00006 | B14: 34.447139 | C14: -118.58763 | D14: =CONCATENATE(E14,"_",F14,"_",TEXT(G14,"00000")) -> ANG_CH4_00010 | E14: ANG | F14: CH4 | G14: =G13+1 -> 10 | H14: 34.447139 | I14: -118.58763 | J14: c | K14: Honor Rancho | L14: tr | M14: high | N14: ang20160925t201200-A | O14: gas storage facility | P14: Honor Rancho | Q14: 1B2 Oil & Natural Gas | R14: ang20160925t201200 | S14: =CONCATENATE(MID(R14,8,2),"/",MID(R14,10,2),"/",MID(R14,6,2)) -> 09/25/16 | T14: =CONCATENATE(MID(R14,13,2),":",MID(R14,15,2),":",MID(R14,17,2)) -> 20:12:00 | U14: 5.372353 | V14: 475.05739 | W14: ang20160925t201200_S00006_r2161_c452_ctr.tif
A15: S00006 | B15: 34.44705 | C15: -118.58834 | D15: =CONCATENATE(E15,"_",F15,"_",TEXT(G15,"00000")) -> ANG_CH4_00011 | E15: ANG | F15: CH4 | G15: =G14+1 -> 11 | H15: 34.447158 | I15: -118.58825 | J15: c | K15: Honor Rancho | L15: tr | M15: high | N15: ang20161003t192244-A | O15: gas storage facility | P15: Honor Rancho | Q15: 1B2 Oil & Natural Gas | R15: ang20161003t192244 | S15: =CONCATENATE(MID(R15,8,2),"/",MID(R15,10,2),"/",MID(R15,6,2)) -> 10/03/16 | T15: =CONCATENATE(MID(R15,13,2),":",MID(R15,15,2),":",MID(R15,17,2)) -> 19:22:44 | U15: 5.372353 | V15: 475.05739 | W15: ang20161003t192244_S00006_r2451_c287_ctr.tif
A16: S00006 | B16: 34.44705 | C16: -118.58834 | D16: =CONCATENATE(E16,"_",F16,"_",TEXT(G16,"00000")) -> ANG_CH4_00012 | E16: ANG | F16: CH4 | G16: =G15+1 -> 12 | H16: 34.447158 | I16: -118.58825 | J16: c | K16: Honor Rancho | L16: tr | M16: high | N16: ang20161008t220452-A | O16: gas storage facility | P16: Honor Rancho | Q16: 1B2 Oil & Natural Gas | R16: ang20161008t220452 | S16: =CONCATENATE(MID(R16,8,2),"/",MID(R16,10,2),"/",MID(R16,6,2)) -> 10/08/16 | T16: =CONCATENATE(MID(R16,13,2),":",MID(R16,15,2),":",MID(R16,17,2)) -> 22:04:52 | U16: 4.0265492 | V16: 484.55703 | W16: ang20161008t220452_S00006_r5594_c-58_ctr.tif
A17: S00006 | B17: 34.44705 | C17: -118.58834 | D17: =CONCATENATE(E17,"_",F17,"_",TEXT(G17,"00000")) -> ANG_CH4_00013 | E17: ANG | F17: CH4 | G17: =G16+1 -> 13 | H17: 34.44703 | I17: -118.58829 | J17: c | K17: Honor Rancho | L17: at | M17: high | N17: ang20161103221806-A | O17: gas storage facility | P17: Honor Rancho | Q17: 1B2 Oil & Natural Gas | R17: ang20161103t221806 | S17: =CONCATENATE(MID(R17,8,2),"/",MID(R17,10,2),"/",MID(R17,6,2)) -> 11/03/16 | T17: =CONCATENATE(MID(R17,13,2),":",MID(R17,15,2),":",MID(R17,17,2)) -> 22:18:06 | U17: 51.932608 | V17: 496.75826 | W17: ang20161103t221806_S00006_r1951_c-78_ctr.tif
... A19: S00006 | B19: 34.44705 | C19: -118.58834 | D19: =CONCATENATE(E19,"_",F19,"_",TEXT(G19,"00000")) -> ANG_CH4_00015 | E19: ANG | F19: CH4 | G19: =G18+1 -> 15 | H19: 34.44709 | I19: -118.58833 | J19: c | K19: Honor Rancho | L19: at | M19: high | N19: ang20161103222451-A | O19: gas storage facility | P19: Honor Rancho | Q19: 1B2 Oil & Natural Gas | R19: ang20161103t224501 | S19: =CONCATENATE(MID(R19,8,2),"/",MID(R19,10,2),"/",MID(R19,6,2)) -> 11/03/16 | T19: =CONCATENATE(MID(R19,13,2),":",MID(R19,15,2),":",MID(R19,17,2)) -> 22:45:01 | U19: 74.230566 | V19: 423.49253 | W19: ang20161103t224501_S00006_r2197_c-124_ctr.tif
A20: S00006 | B20: 34.44705 | C20: -118.58834 | D20: =CONCATENATE(E20,"_",F20,"_",TEXT(G20,"00000")) -> ANG_CH4_00001 | E20: ANG | F20: CH4 | G20: 1 | H20: 34.447121 | I20: -118.58836 | J20: c | K20: Honor Rancho | L20: at | M20: high | N20: ang20161104183025-A | O20: gas storage facility | P20: Honor Rancho | Q20: 1B2 Oil & Natural Gas | R20: ang20161104t183025 | S20: =CONCATENATE(MID(R20,8,2),"/",MID(R20,10,2),"/",MID(R20,6,2)) -> 11/04/16 | T20: =CONCATENATE(MID(R20,13,2),":",MID(R20,15,2),":",MID(R20,17,2)) -> 18:30:25 | U20: 115.30731 | V20: 494.83217 | W20: ang20161104t183025_S00006_r2230_c-209_ctr.tif
A21: S00006 | B21: 34.44705 | C21: -118.58834 | D21: =CONCATENATE(E21,"_",F21,"_",TEXT(G21,"00000")) -> ANG_CH4_00002 | E21: ANG | F21: CH4 | G21: =G20+1 -> 2 | H21: 34.446993 | I21: -118.58832 | J21: c | K21: Honor Rancho | L21: at | M21: high | N21: ang20161104195416-A | O21: gas storage facility | P21: Honor Rancho | Q21: 1B2 Oil & Natural Gas | R21: ang20161104t195416 | S21: =CONCATENATE(MID(R21,8,2),"/",MID(R21,10,2),"/",MID(R21,6,2)) -> 11/04/16 | T21: =CONCATENATE(MID(R21,13,2),":",MID(R21,15,2),":",MID(R21,17,2)) -> 19:54:16 | U21: 41.210628 | V21: 473.97283 | W21: ang20161104t195416_S00006_r2230_c-156_ctr.tif
A22: S00007 | B22: 33.906 | C22: -118.4063 | D22: =CONCATENATE(E22,"_",F22,"_",TEXT(G22,"00000")) -> ANG_CH4_00003 | E22: ANG | F22: CH4 | G22: =G21+1 -> 3 | H22: 33.906 | I22: -118.4063 | J22: a | K22: El Segundo | L22: at | M22: high | N22: ang20160910t193531-B | O22: refinery | P22: Chevron refinery | Q22: 1A1 Energy Industries | R22: ang20160910t193531 | S22: =CONCATENATE(MID(R22,8,2),"/",MID(R22,10,2),"/",MID(R22,6,2)) -> 09/10/16 | T22: =CONCATENATE(MID(R22,13,2),":",MID(R22,15,2),":",MID(R22,17,2)) -> 19:35:31 | U22: 2.1572068 | V22: 484.78152 | W22: ang20160910t193531_S00007_r6607_c338_ctr.tif
A23: S00008 | B23: 33.905431 | C23: -118.40644 | D23: =CONCATENATE(E23,"_",F23,"_",TEXT(G23,"00000")) -> ANG_CH4_00004 | E23: ANG | F23: CH4 | G23: =G22+1 -> 4 | H23: 33.905431 | I23: -118.40644 | J23: a | K23: El Segundo | L23: at | M23: high | N23: ang20160910t193531-C | O23: refinery | P23: Chevron refinery | Q23: 1A1 Energy Industries | R23: ang20160910t193531 | S23: =CONCATENATE(MID(R23,8,2),"/",MID(R23,10,2),"/",MID(R23,6,2)) -> 09/10/16 | T23: =CONCATENATE(MID(R23,13,2),":",MID(R23,15,2),":",MID(R23,17,2)) -> 19:35:31 | U23: 2.1537968 | V23: 484.78152 | W23: ang20160910t193531_S00008_r6638_c308_ctr.tif
A24: S00009 | B24: 33.905983 | C24: -118.40349 | D24: =CONCATENATE(E24,"_",F24,"_",TEXT(G24,"00000")) -> ANG_CH4_00005 | E24: ANG | F24: CH4 | G24: =G23+1 -> 5 | H24: 33.905983 | I24: -118.40349 | J24: a | K24: El Segundo | L24: at | M24: medium | N24: ang20160910t193531-F | O24: refinery | P24: Chevron refinery | Q24: 1A1 Energy Industries | R24: ang20160910t193531 | S24: =CONCATENATE(MID(R24,8,2),"/",MID(R24,10,2),"/",MID(R24,6,2)) -> 09/10/16 | T24: =CONCATENATE(MID(R24,13,2),":",MID(R24,15,2),":",MID(R24,17,2)) -> 19:35:31 | U24: 2.19019 | V24: 484.78152 | W24: ang20160910t193531_S00009_r6689_c477_ctr.tif
A25: S00010 | B25: 33.782457 | C25: -118.3281 | D25: =CONCATENATE(E25,"_",F25,"_",TEXT(G25,"00000")) -> ANG_CH4_00006 | E25: ANG | F25: CH4 | G25: =G24+1 -> 6 | H25: 33.782457 | I25: -118.3281 | J25: a | K25: Palos Verdes | L25: at | M25: medium | N25: ang20160910t195200-D | O25: landfill | P25: Uknown landfill (not in Vista) | Q25: 4A1 Managed Waste Disposal Sites | R25: ang20160910t195200 | S25: =CONCATENATE(MID(R25,8,2),"/",MID(R25,10,2),"/",MID(R25,6,2)) -> 09/10/16 | T25: =CONCATENATE(MID(R25,13,2),":",MID(R25,15,2),":",MID(R25,17,2)) -> 19:52:00 | U25: 0.46199782 | V25: 83.965707 | W25: ang20160910t195200_S00010_r5692_c70_ctr.tif
A26: S00011 | B26: 33.776957 | C26: -118.28704 | D26: =CONCATENATE(E26,"_",F26,"_",TEXT(G26,"00000")) -> ANG_CH4_00007 | E26: ANG | F26: CH4 | G26: =G25+1 -> 7 | H26: 33.776957 | I26: -118.28704 | J26: a | K26: Harbor City | L26: at | M26: high | N26: ang20160910t201644-A | O26: refinery | P26: ConocoPhillips Refinery | Q26: 1A1 Energy Industries | R26: ang20160910t201644 | S26: =CONCATENATE(MID(R26,8,2),"/",MID(R26,10,2),"/",MID(R26,6,2)) -> 09/10/16 | T26: =CONCATENATE(MID(R26,13,2),":",MID(R26,15,2),":",MID(R26,17,2)) -> 20:16:44 | U26: 0.086696937 | V26: 23.469129 | W26: ang20160910t201644_S00011_r6051_c-78_ctr.tif
A27: S00012 | B27: 33.772601 | C27: -118.28643 | D27: =CONCATENATE(E27,"_",F27,"_",TEXT(G27,"00000")) -> ANG_CH4_00008 | E27: ANG | F27: CH4 | G27: =G26+1 -> 8 | H27: 33.772601 | I27: -118.28643 | J27: a | K27: Harbor City | L27: at | M27: medium | N27: ang20160910t201644-C | O27: refinery | P27: ConocoPhillips Refinery | Q27: 1A1 Energy Industries | R27: ang20160910t201644 | S27: =CONCATENATE(MID(R27,8,2),"/",MID(R27,10,2),"/",MID(R27,6,2)) -> 09/10/16 | T27: =CONCATENATE(MID(R27,13,2),":",MID(R27,15,2),":",MID(R27,17,2)) -> 20:16:44 | U27: 0.23373613 | V27: 28.856195 | W27: ang20160910t201644_S00012_r6322_c-52_ctr.tif
A28: S00013 | B28: 33.770829 | C28: -118.2929 | D28: =CONCATENATE(E28,"_",F28,"_",TEXT(G28,"00000")) -> ANG_CH4_00009 | E28: ANG | F28: CH4 | G28: =G27+1 -> 9 | H28: 33.770829 | I28: -118.2929 | J28: a | K28: Harbor City | L28: at | M28: medium | N28: ang20160910t201644-D | O28: refinery | P28: ConocoPhillips Refinery | Q28: 1A1 Energy Industries | R28: ang20160910t201644 | S28: =CONCATENATE(MID(R28,8,2),"/",MID(R28,10,2),"/",MID(R28,6,2)) -> 09/10/16 | T28: =CONCATENATE(MID(R28,13,2),":",MID(R28,15,2),":",MID(R28,17,2)) -> 20:16:44 | U28: 1.1721898 | V28: 467.45969 | W28: ang20160910t201644_S00013_r6427_c-387_ctr.tif
A29: S00014 | B29: 33.804668 | C29: -118.24385 | D29: =CONCATENATE(E29,"_",F29,"_",TEXT(G29,"00000")) -> ANG_CH4_00010 | E29: ANG | F29: CH4 | G29: =G28+1 -> 10 | H29: 33.804668 | I29: -118.24385 | J29: a | K29: Wilmington | L29: at | M29: high | N29: ang20160910t204409-A | O29: refinery | P29: Phillips | Q29: 1A1 Energy Industries | R29: ang20160910t204409 | S29: =CONCATENATE(MID(R29,8,2),"/",MID(R29,10,2),"/",MID(R29,6,2)) -> 09/10/16 | T29: =CONCATENATE(MID(R29,13,2),":",MID(R29,15,2),":",MID(R29,17,2)) -> 20:44:09 | U29: 1.2147852 | V29: 129.00426 | W29: ang20160910t204409_S00014_r4551_c-117_ctr.tif
A30: S00016 | B30: 33.81581 | C30: -118.24689 | D30: =CONCATENATE(E30,"_",F30,"_",TEXT(G30,"00000")) -> ANG_CH4_00011 | E30: ANG | F30: CH4 | G30: =G29+1 -> 11 | H30: 33.81581 | I30: -118.24689 | J30: a | K30: Wilmington | L30: at | M30: high | N30: ang20160910t204409-C | O30: refinery | P30: Phillips | Q30: 1A1 Energy Industries | R30: ang20160910t204409 | S30: =CONCATENATE(MID(R30,8,2),"/",MID(R30,10,2),"/",MID(R30,6,2)) -> 09/10/16 | T30: =CONCATENATE(MID(R30,13,2),":",MID(R30,15,2),":",MID(R30,17,2)) -> 20:44:09 | U30: 1.7468012 | V30: 499.44347 | W30: ang20160910t204409_S00016_r3899_c-257_ctr.tif
A31: S00017 | B31: 33.972726 | C31: -117.69994 | D31: =CONCATENATE(E31,"_",F31,"_",TEXT(G31,"00000")) -> ANG_CH4_00012 | E31: ANG | F31: CH4 | G31: =G30+1 -> 12 | H31: 33.972726 | I31: -117.69994 | J31: c, e | K31: Chino Hills | L31: at | M31: high | N31: ang20160910t214407-A | O31: gas distribution line | P31: Chino Hills neighborhood | Q31: 1B2 Oil & Natural Gas | R31: ang20160910t214407 | S31: =CONCATENATE(MID(R31,8,2),"/",MID(R31,10,2),"/",MID(R31,6,2)) -> 09/10/16 | T31: =CONCATENATE(MID(R31,13,2),":",MID(R31,15,2),":",MID(R31,17,2)) -> 21:44:07 | U31: 1.2441095 | V31: 195.21844 | W31: ang20160910t214407_S00017_r4439_c2274_ctr.tif
A32: S00017 | B32: 33.972726 | C32: -117.69994 | D32: =CONCATENATE(E32,"_",F32,"_",TEXT(G32,"00000")) -> ANG_CH4_00013 | E32: ANG | F32: CH4 | G32: =G31+1 -> 13 | H32: 33.972726 | I32: -117.69994 | J32: c, e | K32: Chino Hills | L32: at | M32: high | N32: ang20160915t185210-A | O32: gas distribution line | P32: Chino Hills neighborhood | Q32: 1B2 Oil & Natural Gas | R32: ang20160915t185210 | S32: =CONCATENATE(MID(R32,8,2),"/",MID(R32,10,2),"/",MID(R32,6,2)) -> 09/15/16 | T32: =CONCATENATE(MID(R32,13,2),":",MID(R32,15,2),":",MID(R32,17,2)) -> 18:52:10 | U32: 13.577247 | V32: 333.08289 | W32: ang20160915t185210_S00017_r2130_c517_ctr.tif
... A49: S00034 | B49: 35.957973 | C49: -119.23159 | D49: =CONCATENATE(E49,"_",F49,"_",TEXT(G49,"00000")) -> ANG_CH4_00030 | E49: ANG | F49: CH4 | G49: =G48+1 -> 30 | H49: 35.957973 | I49: -119.23159 | J49: a | K49: Tulare (Tulare County) | L49: at | M49: high | N49: ang20160913t201027-A | O49: dairy/manure | P49: DG Farms | Q49: 3A2 Manure Management | R49: ang20160913t201027 | S49: =CONCATENATE(MID(R49,8,2),"/",MID(R49,10,2),"/",MID(R49,6,2)) -> 09/13/16 | T49: =CONCATENATE(MID(R49,13,2),":",MID(R49,15,2),":",MID(R49,17,2)) -> 20:10:27 | U49: 1.5852633 | V49: 277.77149 | W49: ang20160913t201027_S00034_r7065_c745_ctr.tif
A50: S00035 | B50: 36.000466 | C50: -119.50093 | D50: =CONCATENATE(E50,"_",F50,"_",TEXT(G50,"00000")) -> ANG_CH4_00031 | E50: ANG | F50: CH4 | G50: =G49+1 -> 31 | H50: 36.000466 | I50: -119.50093 | J50: a | K50: Tulare (Tulare County) | L50: at | M50: high | N50: ang20160913t210755-A | O50: dairy/manure | Q50: 3A2 Manure Management | R50: ang20160913t210755 | S50: =CONCATENATE(MID(R50,8,2),"/",MID(R50,10,2),"/",MID(R50,6,2)) -> 09/13/16 | T50: =CONCATENATE(MID(R50,13,2),":",MID(R50,15,2),":",MID(R50,17,2)) -> 21:07:55 | U50: 0.91203923 | V50: 158.40455 | W50: ang20160913t210755_S00035_r14265_c583_ctr.tif
A51: S00036 | B51: 35.99088 | C51: -119.49194 | D51: =CONCATENATE(E51,"_",F51,"_",TEXT(G51,"00000")) -> ANG_CH4_00032 | E51: ANG | F51: CH4 | G51: =G50+1 -> 32 | H51: 35.99088 | I51: -119.49194 | J51: a | K51: Tulare (Tulare County) | L51: at | M51: medium | N51: ang20160913t210755-B | O51: crop irrigation | P51: adjacent dairy waste water? | Q51: 3B2 Cropland | R51: ang20160913t210755 | S51: =CONCATENATE(MID(R51,8,2),"/",MID(R51,10,2),"/",MID(R51,6,2)) -> 09/13/16 | T51: =CONCATENATE(MID(R51,13,2),":",MID(R51,15,2),":",MID(R51,17,2)) -> 21:07:55 | U51: 0.13077878 | V51: 16.155494 | W51: ang20160913t210755_S00036_r14046_c970_ctr.tif
A52: S00037 | B52: 36.018493 | C52: -119.41682 | D52: =CONCATENATE(E52,"_",F52,"_",TEXT(G52,"00000")) -> ANG_CH4_00033 | E52: ANG | F52: CH4 | G52: =G51+1 -> 33 | H52: 36.018493 | I52: -119.41682 | J52: c | K52: Tipton (Tulare Complex) | L52: at | M52: medium | N52: ang20160913t210755-C | O52: dairy/manure | P52: Meadowlake Dairy | Q52: 3A2 Manure Management | R52: ang20160913t210755 | S52: =CONCATENATE(MID(R52,8,2),"/",MID(R52,10,2),"/",MID(R52,6,2)) -> 09/13/16 | T52: =CONCATENATE(MID(R52,13,2),":",MID(R52,15,2),":",MID(R52,17,2)) -> 21:07:55 | U52: 0.78970273 | V52: 202.24985 | W52: ang20160913t210755_S00037_r11662_c267_ctr.tif
A53: S00037 | B53: 36.018493 | C53: -119.41682 | D53: =CONCATENATE(E53,"_",F53,"_",TEXT(G53,"00000")) -> ANG_CH4_00034 | E53: ANG | F53: CH4 | G53: =G52+1 -> 34 | H53: 36.018615 | I53: -119.41665 | J53: c | K53: Tipton (Tulare Complex) | L53: at | M53: high | N53: ang20160913t212101-C | O53: dairy/manure | P53: Meadowlake Dairy | Q53: 3A2 Manure Management | R53: ang20160913t212101 | S53: =CONCATENATE(MID(R53,8,2),"/",MID(R53,10,2),"/",MID(R53,6,2)) -> 09/13/16 | T53: =CONCATENATE(MID(R53,13,2),":",MID(R53,15,2),":",MID(R53,17,2)) -> 21:21:01 | U53: 7.7176794 | V53: 453.72459 | W53: ang20160913t212101_S00037_r11900_c279_ctr.tif
A54: S00038 | B54: 36.044478 | C54: -119.21684 | D54: =CONCATENATE(E54,"_",F54,"_",TEXT(G54,"00000")) -> ANG_CH4_00035 | E54: ANG | F54: CH4 | G54: =G53+1 -> 35 | H54: 36.044478 | I54: -119.21684 | J54: a | K54: Tipton (Tulare County) | L54: at | M54: medium | N54: ang20160913t210755-D | O54: dairy/manure | P54: D & V Dairy | Q54: 3A2 Manure Management | R54: ang20160913t210755 | S54: =CONCATENATE(MID(R54,8,2),"/",MID(R54,10,2),"/",MID(R54,6,2)) -> 09/13/16 | T54: =CONCATENATE(MID(R54,13,2),":",MID(R54,15,2),":",MID(R54,17,2)) -> 21:07:55 | U54: 29 | V54: TBD | W54: ang20160913t210755_S00038_r5849_c395_ctr.tif
A55: S00039 | B55: 36.093493 | C55: -119.33967 | D55: =CONCATENATE(E55,"_",F55,"_",TEXT(G55,"00000")) -> ANG_CH4_00036 | E55: ANG | F55: CH4 | G55: =G54+1 -> 36 | H55: 36.093493 | I55: -119.33967 | J55: a | K55: Tipton (Tulare Complex) | L55: at | M55: medium | N55: ang20160913t221144-A | O55: dairy/manure | P55: Scheenstra Dairy | Q55: 3A2 Manure Management | R55: ang20160913t221144 | S55: =CONCATENATE(MID(R55,8,2),"/",MID(R55,10,2),"/",MID(R55,6,2)) -> 09/13/16 | T55: =CONCATENATE(MID(R55,13,2),":",MID(R55,15,2),":",MID(R55,17,2)) -> 22:11:44 | U55: 2.8234716 | V55: 496.38896 | W55: ang20160913t221144_S00039_r9177_c348_ctr.tif
A56: S00040 | B56: 36.08125 | C56: -119.42127 | D56: =CONCATENATE(E56,"_",F56,"_",TEXT(G56,"00000")) -> ANG_CH4_00037 | E56: ANG | F56: CH4 | G56: =G55+1 -> 37 | H56: 36.08125 | I56: -119.42127 | J56: a | K56: Tipton (Tulare County) | L56: at | M56: medium | N56: ang20160913t221144-C | O56: dairy/manure | P56: Brian and James Jongsma Dairy | Q56: 3A2 Manure Management | R56: ang20160913t221144 | S56: =CONCATENATE(MID(R56,8,2),"/",MID(R56,10,2),"/",MID(R56,6,2)) -> 09/13/16 | T56: =CONCATENATE(MID(R56,13,2),":",MID(R56,15,2),":",MID(R56,17,2)) -> 22:11:44 | U56: 21.734302 | V56: 490.33254 | W56: ang20160913t221144_S00040_r11666_c239_ctr.tif
A57: S00041 | B57: 36.073672 | C57: -119.44069 | D57: =CONCATENATE(E57,"_",F57,"_",TEXT(G57,"00000")) -> ANG_CH4_00038 | E57: ANG | F57: CH4 | G57: =G56+1 -> 38 | H57: 36.073672 | I57: -119.44069 | J57: c | K57: Tipton (Tulare County) | L57: at | M57: high | N57: ang20160913t221144-D | O57: dairy/manure - digester | P57: G.J. Te Velde Ranch Dairy | Q57: 3A2 Manure Management | R57: ang20160913t221144 | S57: =CONCATENATE(MID(R57,8,2),"/",MID(R57,10,2),"/",MID(R57,6,2)) -> 09/13/16 | T57: =CONCATENATE(MID(R57,13,2),":",MID(R57,15,2),":",MID(R57,17,2)) -> 22:11:44 | U57: 11.777664 | V57: 418.62633 | W57: ang20160913t221144_S00041_r12298_c385_ctr.tif
A58: S00041 | B58: 36.073665 | C58: -119.44095 | D58: =CONCATENATE(E58,"_",F58,"_",TEXT(G58,"00000")) -> ANG_CH4_00039 | E58: ANG | F58: CH4 | G58: =G57+1 -> 39 | H58: 36.073665 | I58: -119.44095 | J58: c | K58: Tipton (Tulare County) | L58: at | M58: medium | N58: ang20161029t185045-A | O58: dairy/manure - digester | P58: G.J. Te Velde Ranch Dairy | Q58: 3A2 Manure Management | R58: ang20161029t185045 | S58: =CONCATENATE(MID(R58,8,2),"/",MID(R58,10,2),"/",MID(R58,6,2)) -> 10/29/16 | T58: =CONCATENATE(MID(R58,13,2),":",MID(R58,15,2),":",MID(R58,17,2)) -> 18:50:45 | U58: 13.117425 | V58: 498.54277 | W58: ang20161029t185045_S00041_r3636_c-24_ctr.tif
A59: S00041 | B59: 36.073456 | C59: -119.44093 | D59: =CONCATENATE(E59,"_",F59,"_",TEXT(G59,"00000")) -> ANG_CH4_00040 | E59: ANG | F59: CH4 | G59: =G58+1 -> 40 | H59: 36.073456 | I59: -119.44093 | J59: c | K59: Tipton (Tulare County) | L59: at | M59: high | N59: ang20161029t215438-A | O59: dairy/manure - digester | P59: G.J. Te Velde Ranch Dairy | Q59: 3A2 Manure Management | R59: ang20161029t215438 | S59: =CONCATENATE(MID(R59,8,2),"/",MID(R59,10,2),"/",MID(R59,6,2)) -> 10/29/16 | T59: =CONCATENATE(MID(R59,13,2),":",MID(R59,15,2),":",MID(R59,17,2)) -> 21:54:38 | U59: 18.629814 | V59: 444.71772 | W59: ang20161029t215438_S00041_r3891_c-50_ctr.tif
A60: S00042 | B60: 37.986498 | C60: -121.47355 | D60: =CONCATENATE(E60,"_",F60,"_",TEXT(G60,"00000")) -> ANG_CH4_00041 | E60: ANG | F60: CH4 | G60: =G59+1 -> 41 | H60: 37.986498 | I60: -121.47355 | J60: a | K60: MacDonald Island | L60: at | M60: high | N60: ang20161008t172923-A | O60: gas storage facility | P60: MacDonald Island | Q60: 1B2 Oil & Natural Gas | R60: ang20161008t172923 | S60: =CONCATENATE(MID(R60,8,2),"/",MID(R60,10,2),"/",MID(R60,6,2)) -> 10/08/16 | T60: =CONCATENATE(MID(R60,13,2),":",MID(R60,15,2),":",MID(R60,17,2)) -> 17:29:23 | U60: 12.402403 | V60: 489.80864 | W60: ang20161008t172923_S00042_r6867_c-236_ctr.tif
A61: S00043 | B61: 36.078624 | C61: -119.44159 | D61: =CONCATENATE(E61,"_",F61,"_",TEXT(G61,"00000")) -> ANG_CH4_00042 | E61: ANG | F61: CH4 | G61: =G60+1 -> 42 | H61: 36.078624 | I61: -119.44159 | J61: a | K61: Tipton (Tulare County) | L61: at | M61: medium | N61: ang20160913t221144-F | O61: dairy/manure | P61: G.J. Te Velde Ranch Dairy | Q61: 3A2 Manure Management | R61: ang20160913t221144 | S61: =CONCATENATE(MID(R61,8,2),"/",MID(R61,10,2),"/",MID(R61,6,2)) -> 09/13/16 | T61: =CONCATENATE(MID(R61,13,2),":",MID(R61,15,2),":",MID(R61,17,2)) -> 22:11:44 | U61: 8.417247 | V61: 488.62255 | W61: ang20160913t221144_S00043_r12285_c201_ctr.tif
A62: S00044 | B62: 36.103275 | C62: -119.37351 | D62: =CONCATENATE(E62,"_",F62,"_",TEXT(G62,"00000")) -> ANG_CH4_00043 | E62: ANG | F62: CH4 | G62: =G61+1 -> 43 | H62: 36.103275 | I62: -119.37351 | J62: a | K62: Tipton (Tulare County) | L62: at | M62: high | N62: ang20160913t222421-A | O62: dairy/manure | P62: Aukeman Farms Dairy | Q62: 3A2 Manure Management | R62: ang20160913t222421 | S62: =CONCATENATE(MID(R62,8,2),"/",MID(R62,10,2),"/",MID(R62,6,2)) -> 09/13/16 | T62: =CONCATENATE(MID(R62,13,2),":",MID(R62,15,2),":",MID(R62,17,2)) -> 22:24:21 | U62: 13.510961 | V62: 498.03614 | W62: ang20160913t222421_S00044_r9831_c516_ctr.tif
A63: S00045 | B63: 36.101628 | C63: -119.41766 | D63: =CONCATENATE(E63,"_",F63,"_",TEXT(G63,"00000")) -> ANG_CH4_00044 | E63: ANG | F63: CH4 | G63: =G62+1 -> 44 | H63: 36.101628 | I63: -119.41766 | J63: a | K63: Tipton (Tulare County) | L63: at | M63: medium | N63: ang20160913t222421-C | O63: dairy/manure | P63: Dykstra Dairy | Q63: 3A2 Manure Management | R63: ang20160913t222421 | S63: =CONCATENATE(MID(R63,8,2),"/",MID(R63,10,2),"/",MID(R63,6,2)) -> 09/13/16 | T63: =CONCATENATE(MID(R63,13,2),":",MID(R63,15,2),":",MID(R63,17,2)) -> 22:24:21 | U63: 0.3455947 | V63: 120.59851 | W63: ang20160913t222421_S00045_r11112_c372_ctr.tif
A64: S00047 | B64: 36.147358 | C64: -119.49952 | D64: =CONCATENATE(E64,"_",F64,"_",TEXT(G64,"00000")) -> ANG_CH4_00045 | E64: ANG | F64: CH4 | G64: =G63+1 -> 45 | H64: 36.147358 | I64: -119.49952 | J64: a | K64: Tulare (Tulare County) | L64: at | M64: high | N64: ang20160914t192133-A | O64: dairy/manure | P64: Curti Family Inc. | Q64: 3A2 Manure Management | R64: ang20160914t192133 | S64: =CONCATENATE(MID(R64,8,2),"/",MID(R64,10,2),"/",MID(R64,6,2)) -> 09/14/16 | T64: =CONCATENATE(MID(R64,13,2),":",MID(R64,15,2),":",MID(R64,17,2)) -> 19:21:33 | U64: 176.99482 | V64: 497.32183 | W64: ang20160914t192133_S00047_r13372_c-7_ctr.tif
A65: S00048 | B65: 36.141361 | C65: -119.53598 | D65: =CONCATENATE(E65,"_",F65,"_",TEXT(G65,"00000")) -> ANG_CH4_00046 | E65: ANG | F65: CH4 | G65: =G64+1 -> 46 | H65: 36.141361 | I65: -119.53598 | J65: a | K65: Tulare (Tulare County) | L65: at | M65: medum | N65: ang20160914t192133-B | O65: dairy/manure | P65: Felicita Dairy | Q65: 3A2 Manure Management | R65: ang20160914t192133 | S65: =CONCATENATE(MID(R65,8,2),"/",MID(R65,10,2),"/",MID(R65,6,2)) -> 09/14/16 | T65: =CONCATENATE(MID(R65,13,2),":",MID(R65,15,2),":",MID(R65,17,2)) -> 19:21:33 | U65: 142.86904 | V65: 497.32183 | W65: ang20160914t192133_S00048_r14489_c-36_ctr.tif
A66: S00049 | B66: 36.215832 | C66: -119.16592 | D66: =CONCATENATE(E66,"_",F66,"_",TEXT(G66,"00000")) -> ANG_CH4_00047 | E66: ANG | F66: CH4 | G66: =G65+1 -> 47 | H66: 36.215832 | I66: -119.16592 | J66: a | K66: Tulare (Tulare Complex) | L66: at | M66: medum | N66: ang20160914t193619-A | O66: dairy/manure | P66: Pacheco & Fagundes Dairy | Q66: 3A2 Manure Management | R66: ang20160914t193619 | S66: =CONCATENATE(MID(R66,8,2),"/",MID(R66,10,2),"/",MID(R66,6,2)) -> 09/14/16 | T66: =CONCATENATE(MID(R66,13,2),":",MID(R66,15,2),":",MID(R66,17,2)) -> 19:36:19 | U66: 0.12254784 | V66: 13.416408 | W66: ang20160914t193619_S00049_r3087_c33_ctr.tif
A67: S00050 | B67: 36.203221 | C67: -119.19108 | D67: =CONCATENATE(E67,"_",F67,"_",TEXT(G67,"00000")) -> ANG_CH4_00048 | E67: ANG | F67: CH4 | G67: =G66+1 -> 48 | H67: 36.203221 | I67: -119.19108 | J67: a | K67: Tulare (Tulare Complex) | L67: at | M67: medum | N67: ang20160914t193619-D | O67: dairy/manure | Q67: 3A2 Manure Management | R67: ang20160914t193619 | S67: =CONCATENATE(MID(R67,8,2),"/",MID(R67,10,2),"/",MID(R67,6,2)) -> 09/14/16 | T67: =CONCATENATE(MID(R67,13,2),":",MID(R67,15,2),":",MID(R67,17,2)) -> 19:36:19 | U67: 0.089860467 | V67: 9.486833 | W67: ang20160914t193619_S00050_r3807_c302_ctr.tif
A68: S00051 | B68: 36.165297 | C68: -119.53785 | D68: =CONCATENATE(E68,"_",F68,"_",TEXT(G68,"00000")) -> ANG_CH4_00049 | E68: ANG | F68: CH4 | G68: =G67+1 -> 49 | H68: 36.165297 | I68: -119.53785 | J68: a | K68: Tulare (Tulare County) | L68: at | M68: high | N68: ang20160914t195048-C | O68: dairy/manure | Q68: 3A2 Manure Management | R68: ang20160914t195048 | S68: =CONCATENATE(MID(R68,8,2),"/",MID(R68,10,2),"/",MID(R68,6,2)) -> 09/14/16 | T68: =CONCATENATE(MID(R68,13,2),":",MID(R68,15,2),":",MID(R68,17,2)) -> 19:50:48 | U68: 30.770526 | V68: 488.48439 | W68: ang20160914t195048_S00051_r8889_c137_ctr.tif
A69: S00052 | B69: 36.227986 | C69: -119.18032 | D69: =CONCATENATE(E69,"_",F69,"_",TEXT(G69,"00000")) -> ANG_CH4_00050 | E69: ANG | F69: CH4 | G69: =G68+1 -> 50 | H69: 36.227986 | I69: -119.18032 | J69: a | K69: Tulare (Tulare Complex) | L69: at | M69: medium | N69: ang20160914t20061-A | O69: dairy/manure - digester | P69: Hilarides dairy | Q69: 3A2 Manure Management | R69: ang20160914t200611 | S69: =CONCATENATE(MID(R69,8,2),"/",MID(R69,10,2),"/",MID(R69,6,2)) -> 09/14/16 | T69: =CONCATENATE(MID(R69,13,2),":",MID(R69,15,2),":",MID(R69,17,2)) -> 20:06:11 | U69: TBD | V69: TBD | W69: ang20160914t200611_S00052_r3529_c687_ctr.tif
A70: S00053 | B70: 36.163991 | C70: -119.69249 | D70: =CONCATENATE(E70,"_",F70,"_",TEXT(G70,"00000")) -> ANG_CH4_00051 | E70: ANG | F70: CH4 | G70: =G69+1 -> 51 | H70: 36.163991 | I70: -119.69249 | J70: a | K70: Visalia (Tulare County) | L70: at | M70: medium | N70: ang20160914t20061-H | O70: dairy/manure | Q70: 3A2 Manure Management | R70: ang20160914t200611 | S70: =CONCATENATE(MID(R70,8,2),"/",MID(R70,10,2),"/",MID(R70,6,2)) -> 09/14/16 | T70: =CONCATENATE(MID(R70,13,2),":",MID(R70,15,2),":",MID(R70,17,2)) -> 20:06:11 | U70: 0.044992438 | V70: TBD | W70: ang20160914t200611_S00053_r19085_c938_ctr.tif
A71: S00054 | B71: 36.182383 | C71: -119.65908 | D71: =CONCATENATE(E71,"_",F71,"_",TEXT(G71,"00000")) -> ANG_CH4_00052 | E71: ANG | F71: CH4 | G71: =G70+1 -> 52 | H71: 36.181157 | I71: -119.65904 | J71: a | K71: Visalia (Tulare County) | L71: at | M71: medium | N71: ang20160914t202059-A | O71: dairy/manure | P71: Cloverdale Dairy | Q71: 3A2 Manure Management | R71: ang20160914t202059 | S71: =CONCATENATE(MID(R71,8,2),"/",MID(R71,10,2),"/",MID(R71,6,2)) -> 09/14/16 | T71: =CONCATENATE(MID(R71,13,2),":",MID(R71,15,2),":",MID(R71,17,2)) -> 20:20:59 | U71: 0.90654723 | V71: 184.56706 | W71: ang20160914t202059_S00054_r18162_c80_ctr.tif
A72: S00055 | B72: 36.192615 | C72: -119.53105 | D72: =CONCATENATE(E72,"_",F72,"_",TEXT(G72,"00000")) -> ANG_CH4_00053 | E72: ANG | F72: CH4 | G72: =G71+1 -> 53 | H72: 36.192615 | I72: -119.53105 | J72: a | K72: Visalia (Tulare County) | L72: at | M72: high | N72: ang20160914t202059-B | O72: dairy/manure | P72: Four Star Dairy | Q72: 3A2 Manure Management | R72: ang20160914t202059 | S72: =CONCATENATE(MID(R72,8,2),"/",MID(R72,10,2),"/",MID(R72,6,2)) -> 09/14/16 | T72: =CONCATENATE(MID(R72,13,2),":",MID(R72,15,2),":",MID(R72,17,2)) -> 20:20:59 | U72: 80.5012 | V72: 490.06632 | W72: ang20160914t202059_S00055_r14069_c279_ctr.tif
A73: S00056 | B73: 36.164541 | C73: -119.69239 | D73: =CONCATENATE(E73,"_",F73,"_",TEXT(G73,"00000")) -> ANG_CH4_00054 | E73: ANG | F73: CH4 | G73: =G72+1 -> 54 | H73: 36.164541 | I73: -119.69239 | J73: a | K73: Visalia (Tulare County) | L73: at | M73: medium | N73: ang20160914t202059-C | O73: dairy/manure | Q73: 3A2 Manure Management | R73: ang20160914t202059 | S73: =CONCATENATE(MID(R73,8,2),"/",MID(R73,10,2),"/",MID(R73,6,2)) -> 09/14/16 | T73: =CONCATENATE(MID(R73,13,2),":",MID(R73,15,2),":",MID(R73,17,2)) -> 20:20:59 | U73: 0.15389078 | V73: 19.209373 | W73: ang20160914t202059_S00056_r19297_c472_ctr.tif
A74: S00057 | B74: 36.189115 | C74: -119.60669 | D74: =CONCATENATE(E74,"_",F74,"_",TEXT(G74,"00000")) -> ANG_CH4_00055 | E74: ANG | F74: CH4 | G74: =G73+1 -> 55 | H74: 36.188636 | I74: -119.60668 | J74: a | K74: Visalia (Tulare County) | L74: at | M74: high | N74: ang20160914t202059-D | O74: dairy/manure | P74: Wreden Ranch Dairy | Q74: 3A2 Manure Management | R74: ang20160914t202059 | S74: =CONCATENATE(MID(R74,8,2),"/",MID(R74,10,2),"/",MID(R74,6,2)) -> 09/14/16 | T74: =CONCATENATE(MID(R74,13,2),":",MID(R74,15,2),":",MID(R74,17,2)) -> 20:20:59 | U74: 1.2748855 | V74: 221.3504 | W74: ang20160914t202059_S00057_r16557_c144_ctr.tif
A75: S00058 | B75: 36.194112 | C75: -119.561 | D75: =CONCATENATE(E75,"_",F75,"_",TEXT(G75,"00000")) -> ANG_CH4_00056 | E75: ANG | F75: CH4 | G75: =G74+1 -> 56 | H75: 36.193607 | I75: -119.56095 | J75: a | K75: Visalia (Tulare County) | L75: at | M75: high | N75: ang20160914t202059-E | O75: dairy/manure | Q75: 3A2 Manure Management | R75: ang20160914t202059 | S75: =CONCATENATE(MID(R75,8,2),"/",MID(R75,10,2),"/",MID(R75,6,2)) -> 09/14/16 | T75: =CONCATENATE(MID(R75,13,2),":",MID(R75,15,2),":",MID(R75,17,2)) -> 20:20:59 | U75: 2.2340369 | V75: 189.97368 | W75: ang20160914t202059_S00058_r15187_c296_ctr.tif
A76: S00059 | B76: 36.192641 | C76: -119.533 | D76: =CONCATENATE(E76,"_",F76,"_",TEXT(G76,"00000")) -> ANG_CH4_00057 | E76: ANG | F76: CH4 | G76: =G75+1 -> 57 | H76: 36.192188 | I76: -119.53297 | J76: a | K76: Visalia (Tulare County) | L76: at | M76: medium | N76: ang20160914t202059-F | O76: dairy/manure | P76: Four Star Dairy | Q76: 3A2 Manure Management | R76: ang20160914t202059 | S76: =CONCATENATE(MID(R76,8,2),"/",MID(R76,10,2),"/",MID(R76,6,2)) -> 09/14/16 | T76: =CONCATENATE(MID(R76,13,2),":",MID(R76,15,2),":",MID(R76,17,2)) -> 20:20:59 | U76: 74.659745 | V76: 490.06632 | W76: ang20160914t202059_S00059_r14125_c277_ctr.tif
A77: S00060 | B77: 36.205484 | C77: -119.53237 | D77: =CONCATENATE(E77,"_",F77,"_",TEXT(G77,"00000")) -> ANG_CH4_00058 | E77: ANG | F77: CH4 | G77: =G76+1 -> 58 | H77: 36.205484 | I77: -119.53237 | J77: a | K77: Visalia (Tulare County) | L77: at | M77: medium | N77: ang20160914t203630-A | O77: dairy/manure | P77: Mattos Brothers Dairy | Q77: 3A2 Manure Management | R77: ang20160914t203630 | S77: =CONCATENATE(MID(R77,8,2),"/",MID(R77,10,2),"/",MID(R77,6,2)) -> 09/14/16 | T77: =CONCATENATE(MID(R77,13,2),":",MID(R77,15,2),":",MID(R77,17,2)) -> 20:36:30 | U77: 20.717827 | V77: 469.57428 | W77: ang20160914t203630_S00060_r13905_c799_ctr.tif
A78: S00061 | B78: 36.19968 | C78: -119.5968 | D78: =CONCATENATE(E78,"_",F78,"_",TEXT(G78,"00000")) -> ANG_CH4_00059 | E78: ANG | F78: CH4 | G78: =G77+1 -> 59 | H78: 36.199465 | I78: -119.59648 | J78: a | K78: Visalia (Tulare County) | L78: at | M78: medium | N78: ang20160914t203630-C | O78: dairy/manure | P78: Hollandia Farms North Dairy | Q78: 3A2 Manure Management | R78: ang20160914t203630 | S78: =CONCATENATE(MID(R78,8,2),"/",MID(R78,10,2),"/",MID(R78,6,2)) -> 09/14/16 | T78: =CONCATENATE(MID(R78,13,2),":",MID(R78,15,2),":",MID(R78,17,2)) -> 20:36:30 | U78: 1.461676 | V78: 270.74896 | W78: ang20160914t203630_S00061_r16060_c969_ctr.tif
A79: S00062 | B79: 36.197838 | C79: -119.6388 | D79: =CONCATENATE(E79,"_",F79,"_",TEXT(G79,"00000")) -> ANG_CH4_00060 | E79: ANG | F79: CH4 | G79: =G78+1 -> 60 | H79: 36.197947 | I79: -119.63813 | J79: a | K79: Visalia (Tulare County) | L79: at | M79: medium | N79: ang20160914t203630-D | O79: dairy/manure | Q79: 3A2 Manure Management | R79: ang20160914t203630 | S79: =CONCATENATE(MID(R79,8,2),"/",MID(R79,10,2),"/",MID(R79,6,2)) -> 09/14/16 | T79: =CONCATENATE(MID(R79,13,2),":",MID(R79,15,2),":",MID(R79,17,2)) -> 20:36:30 | U79: TBD | V79: TBD | W79: TBD
A80: S00063 | B80: 36.207186 | C80: -119.69638 | D80: =CONCATENATE(E80,"_",F80,"_",TEXT(G80,"00000")) -> ANG_CH4_00061 | E80: ANG | F80: CH4 | G80: =G79+1 -> 61 | H80: 36.206695 | I80: -119.69633 | J80: a | K80: Visalia (Tulare County) | L80: at | M80: medium | N80: ang20160914t205235-B | O80: dairy/manure | Q80: 3A2 Manure Management | R80: ang20160914t205235 | S80: =CONCATENATE(MID(R80,8,2),"/",MID(R80,10,2),"/",MID(R80,6,2)) -> 09/14/16 | T80: =CONCATENATE(MID(R80,13,2),":",MID(R80,15,2),":",MID(R80,17,2)) -> 20:52:35 | U80: TBD | V80: TBD | W80: ang20160914t205235_S00063_r19176_c135_ctr.tif
A81: S00064 | B81: 36.196885 | C81: -119.68447 | D81: =CONCATENATE(E81,"_",F81,"_",TEXT(G81,"00000")) -> ANG_CH4_00062 | E81: ANG | F81: CH4 | G81: =G80+1 -> 62 | H81: 36.196465 | I81: -119.68443 | J81: a | K81: Visalia (Tulare County) | L81: at | M81: medium | N81: ang20160914t205235-D | O81: dairy/manure | Q81: 3A2 Manure Management | R81: ang20160914t205235 | S81: =CONCATENATE(MID(R81,8,2),"/",MID(R81,10,2),"/",MID(R81,6,2)) -> 09/14/16 | T81: =CONCATENATE(MID(R81,13,2),":",MID(R81,15,2),":",MID(R81,17,2)) -> 20:52:35 | U81: 0.12362848 | V81: 30.594117 | W81: ang20160914t205235_S00064_r18762_c433_ctr.tif
A82: S00065 | B82: 36.215859 | C82: -119.60759 | D82: =CONCATENATE(E82,"_",F82,"_",TEXT(G82,"00000")) -> ANG_CH4_00063 | E82: ANG | F82: CH4 | G82: =G81+1 -> 63 | H82: 36.215751 | I82: -119.60759 | J82: a | K82: Visalia (Tulare County) | L82: at | M82: medium | N82: ang20160914t205235-E | O82: dairy/manure | P82: Kansas Holstein Dairy | Q82: 3A2 Manure Management | R82: ang20160914t205235 | S82: =CONCATENATE(MID(R82,8,2),"/",MID(R82,10,2),"/",MID(R82,6,2)) -> 09/14/16 | T82: =CONCATENATE(MID(R82,13,2),":",MID(R82,15,2),":",MID(R82,17,2)) -> 20:52:35 | U82: 1.1558694 | V82: 208.06249 | W82: ang20160914t205235_S00065_r16310_c202_ctr.tif
A83: S00066 | B83: 36.26577 | C83: -119.40552 | D83: =CONCATENATE(E83,"_",F83,"_",TEXT(G83,"00000")) -> ANG_CH4_00064 | E83: ANG | F83: CH4 | G83: =G82+1 -> 64 | H83: 36.265327 | I83: -119.40533 | J83: a | K83: Tulare (Tulare County) | L83: at | M83: medium | N83: ang20160914t210910-A | O83: dairy/manure | P83: Hamstra Dairy Complex | Q83: 3A2 Manure Management | R83: ang20160914t210910 | S83: =CONCATENATE(MID(R83,8,2),"/",MID(R83,10,2),"/",MID(R83,6,2)) -> 09/14/16 | T83: =CONCATENATE(MID(R83,13,2),":",MID(R83,15,2),":",MID(R83,17,2)) -> 21:09:10 | U83: 0.84283477 | V83: 180.4245 | W83: ang20160914t210910_S00066_r9562_c421_ctr.tif
A84: S00067 | B84: 36.248562 | C84: -119.49822 | D84: =CONCATENATE(E84,"_",F84,"_",TEXT(G84,"00000")) -> ANG_CH4_00065 | E84: ANG | F84: CH4 | G84: =G83+1 -> 65 | H84: 36.248493 | I84: -119.4978 | J84: a | K84: Tulare (Tulare County) | L84: at | M84: medium | N84: ang20160914t210910-B | O84: dairy/manure | Q84: 3A2 Manure Management | R84: ang20160914t210910 | S84: =CONCATENATE(MID(R84,8,2),"/",MID(R84,10,2),"/",MID(R84,6,2)) -> 09/14/16 | T84: =CONCATENATE(MID(R84,13,2),":",MID(R84,15,2),":",MID(R84,17,2)) -> 21:09:10 | U84: 2.4655389 | V84: 152.97059 | W84: ang20160914t210910_S00067_r12396_c656_ctr.tif
A85: S00068 | B85: 36.229968 | C85: -119.61322 | D85: =CONCATENATE(E85,"_",F85,"_",TEXT(G85,"00000")) -> ANG_CH4_00066 | E85: ANG | F85: CH4 | G85: =G84+1 -> 66 | H85: 36.229597 | I85: -119.61315 | J85: a | K85: Tulare (Tulare County) | L85: at | M85: high | N85: ang20160914t210910-C | O85: dairy/manure | Q85: 3A2 Manure Management | R85: ang20160914t210910 | S85: =CONCATENATE(MID(R85,8,2),"/",MID(R85,10,2),"/",MID(R85,6,2)) -> 09/14/16 | T85: =CONCATENATE(MID(R85,13,2),":",MID(R85,15,2),":",MID(R85,17,2)) -> 21:09:10 | U85: 7.1987848 | V85: 370.47267 | W85: ang20160914t210910_S00068_r15717_c671_ctr.tif
A86: S00069 | B86: 36.220378 | C86: -119.62113 | D86: =CONCATENATE(E86,"_",F86,"_",TEXT(G86,"00000")) -> ANG_CH4_00067 | E86: ANG | F86: CH4 | G86: =G85+1 -> 67 | H86: 36.220281 | I86: -119.62089 | J86: a | K86: Tulare (Tulare County) | L86: at | M86: medium | N86: ang20160914t210910-D | O86: dairy/manure | P86: Valadao Dairy | Q86: 3A2 Manure Management | R86: ang20160914t210910 | S86: =CONCATENATE(MID(R86,8,2),"/",MID(R86,10,2),"/",MID(R86,6,2)) -> 09/14/16 | T86: =CONCATENATE(MID(R86,13,2),":",MID(R86,15,2),":",MID(R86,17,2)) -> 21:09:10 | U86: TBD | V86: TBD | W86: TBD
A87: S00070 | B87: 36.221189 | C87: -119.68554 | D87: =CONCATENATE(E87,"_",F87,"_",TEXT(G87,"00000")) -> ANG_CH4_00068 | E87: ANG | F87: CH4 | G87: =G86+1 -> 68 | H87: 36.221189 | I87: -119.68554 | J87: a | K87: Tulare (Tulare County) | L87: at | M87: medium | N87: ang20160914t210910-F | O87: dairy/manure | P87: Manuel & Alda Lawrence Dairy | Q87: 3A2 Manure Management | R87: ang20160914t210910 | S87: =CONCATENATE(MID(R87,8,2),"/",MID(R87,10,2),"/",MID(R87,6,2)) -> 09/14/16 | T87: =CONCATENATE(MID(R87,13,2),":",MID(R87,15,2),":",MID(R87,17,2)) -> 21:09:10 | U87: TBD | V87: TBD | W87: ang20160914t210910_S00070_r18138_c911_ctr.tif
A88: S00071 | B88: 36.242216 | C88: -119.54894 | D88: =CONCATENATE(E88,"_",F88,"_",TEXT(G88,"00000")) -> ANG_CH4_00069 | E88: ANG | F88: CH4 | G88: =G87+1 -> 69 | H88: 36.241634 | I88: -119.54892 | J88: a | K88: Tulare (Tulare County) | L88: at | M88: medium | N88: ang20160914t210910-G | O88: dairy/manure | P88: Valley View Dairy #2 | Q88: 3A2 Manure Management | R88: ang20160914t210910 | S88: =CONCATENATE(MID(R88,8,2),"/",MID(R88,10,2),"/",MID(R88,6,2)) -> 09/14/16 | T88: =CONCATENATE(MID(R88,13,2),":",MID(R88,15,2),":",MID(R88,17,2)) -> 21:09:10 | U88: 0.089162169 | V88: 10.816654 | W88: TBD
A89: S00072 | B89: 36.24398 | C89: -119.57482 | D89: =CONCATENATE(E89,"_",F89,"_",TEXT(G89,"00000")) -> ANG_CH4_00070 | E89: ANG | F89: CH4 | G89: =G88+1 -> 70 | H89: 36.24398 | I89: -119.57434 | J89: a | K89: Tulare (Tulare County) | L89: at | M89: medium | N89: ang20160914t212505-A | O89: dairy/manure | P89: River Ranch Dairy | Q89: 3A2 Manure Management | R89: ang20160914t212505 | S89: =CONCATENATE(MID(R89,8,2),"/",MID(R89,10,2),"/",MID(R89,6,2)) -> 09/14/16 | T89: =CONCATENATE(MID(R89,13,2),":",MID(R89,15,2),":",MID(R89,17,2)) -> 21:25:05 | U89: 3.1043012 | V89: 312.12978 | W89: ang20160914t212505_S00072_r14566_c409_ctr.tif
A90: S00073 | B90: 36.265687 | C90: -119.40478 | D90: =CONCATENATE(E90,"_",F90,"_",TEXT(G90,"00000")) -> ANG_CH4_00071 | E90: ANG | F90: CH4 | G90: =G89+1 -> 71 | H90: 36.265687 | I90: -119.40478 | J90: a | K90: Tulare (Tulare County) | L90: at | M90: medium | N90: ang20160914t212505-B | O90: dairy/manure | P90: Hamstra Dairy Complex | Q90: 3A2 Manure Management | R90: ang20160914t212505 | S90: =CONCATENATE(MID(R90,8,2),"/",MID(R90,10,2),"/",MID(R90,6,2)) -> 09/14/16 | T90: =CONCATENATE(MID(R90,13,2),":",MID(R90,15,2),":",MID(R90,17,2)) -> 21:25:05 | U90: 19.841769 | V90: 487.11908 | W90: ang20160914t212505_S00073_r9446_c768_ctr.tif
A91: S00074 | B91: 36.276057 | C91: -119.4522 | D91: =CONCATENATE(E91,"_",F91,"_",TEXT(G91,"00000")) -> ANG_CH4_00072 | E91: ANG | F91: CH4 | G91: =G90+1 -> 72 | H91: 36.275489 | I91: -119.45212 | J91: a | K91: Tulare (Tulare County) | L91: at | M91: medium | N91: ang20160914t214103-A | O91: dairy/manure | P91: S & S Dairy | Q91: 3A2 Manure Management | R91: ang20160914t214103 | S91: =CONCATENATE(MID(R91,8,2),"/",MID(R91,10,2),"/",MID(R91,6,2)) -> 09/14/16 | T91: =CONCATENATE(MID(R91,13,2),":",MID(R91,15,2),":",MID(R91,17,2)) -> 21:41:03 | U91: 53.620254 | V91: 498.6231 | W91: ang20160914t214103_S00074_r10210_c663_ctr.tif
A92: S00075 | B92: 36.262286 | C92: -119.62781 | D92: =CONCATENATE(E92,"_",F92,"_",TEXT(G92,"00000")) -> ANG_CH4_00073 | E92: ANG | F92: CH4 | G92: =G91+1 -> 73 | H92: 36.262286 | I92: -119.62781 | J92: a | K92: Tulare (Tulare County) | L92: at | M92: medium | N92: ang20160914t214103-B | O92: dairy/manure | P92: Diamond D LLC Dairy | Q92: 3A2 Manure Management | R92: ang20160914t214103 | S92: =CONCATENATE(MID(R92,8,2),"/",MID(R92,10,2),"/",MID(R92,6,2)) -> 09/14/16 | T92: =CONCATENATE(MID(R92,13,2),":",MID(R92,15,2),":",MID(R92,17,2)) -> 21:41:03 | U92: 8.9550628 | V92: 490.58027 | W92: ang20160914t214103_S00075_r15497_c423_ctr.tif
A93: S00076 | B93: 36.257329 | C93: -119.60484 | D93: =CONCATENATE(E93,"_",F93,"_",TEXT(G93,"00000")) -> ANG_CH4_00074 | E93: ANG | F93: CH4 | G93: =G92+1 -> 74 | H93: 36.256876 | I93: -119.60481 | J93: a | K93: Tulare (Tulare County) | L93: at | M93: medium | N93: ang20160914t214103-C | O93: dairy/manure | P93: High Roller Dairy | Q93: 3A2 Manure Management | R93: ang20160914t214103 | S93: =CONCATENATE(MID(R93,8,2),"/",MID(R93,10,2),"/",MID(R93,6,2)) -> 09/14/16 | T93: =CONCATENATE(MID(R93,13,2),":",MID(R93,15,2),":",MID(R93,17,2)) -> 21:41:03 | U93: 1.1791735 | V93: 138.71554 | W93: ang20160914t214103_S00076_r14961_c820_ctr.tif
A94: S00077 | B94: 36.277027 | C94: -119.5333 | D94: =CONCATENATE(E94,"_",F94,"_",TEXT(G94,"00000")) -> ANG_CH4_00075 | E94: ANG | F94: CH4 | G94: =G93+1 -> 75 | H94: 36.276236 | I94: -119.53327 | J94: a | K94: Tulare (Tulare County) | L94: at | M94: medium | N94: ang20160914t214103-D | O94: dairy/manure | P94: Lone Oak Farms Dairy #1 | Q94: 3A2 Manure Management | R94: ang20160914t214103 | S94: =CONCATENATE(MID(R94,8,2),"/",MID(R94,10,2),"/",MID(R94,6,2)) -> 09/14/16 | T94: =CONCATENATE(MID(R94,13,2),":",MID(R94,15,2),":",MID(R94,17,2)) -> 21:41:03 | U94: 2.3730768 | V94: 198.86176 | W94: ang20160914t214103_S00077_r12628_c311_ctr.tif
A95: S00078 | B95: 34.385725 | C95: -118.49671 | D95: =CONCATENATE(E95,"_",F95,"_",TEXT(G95,"00000")) -> ANG_CH4_00076 | E95: ANG | F95: CH4 | G95: =G94+1 -> 76 | H95: 34.3857 | I95: -118.49626 | J95: a | K95: Placerita oil field | L95: at | M95: high | N95: ang20160915t180022-B | O95: oil/gas tank | P95: Placerita oil field | Q95: 1B2 Oil & Natural Gas | R95: ang20160915t180022 | S95: =CONCATENATE(MID(R95,8,2),"/",MID(R95,10,2),"/",MID(R95,6,2)) -> 09/15/16 | T95: =CONCATENATE(MID(R95,13,2),":",MID(R95,15,2),":",MID(R95,17,2)) -> 18:00:22 | U95: 1.1116077 | V95: 304.84504 | W95: ang20160915t180022_S00078_r1395_c146_ctr.tif
A96: S00079 | B96: 36.352435 | C96: -119.49664 | D96: =CONCATENATE(E96,"_",F96,"_",TEXT(G96,"00000")) -> ANG_CH4_00077 | E96: ANG | F96: CH4 | G96: =G95+1 -> 77 | H96: 36.352035 | I96: -119.49663 | J96: a | K96: Visalia (Tulare County) | L96: at | M96: medium | N96: ang20160916t195311-B | O96: dairy/manure | P96: De Groot Dairies-North | Q96: 3A2 Manure Management | R96: ang20160916t195311 | S96: =CONCATENATE(MID(R96,8,2),"/",MID(R96,10,2),"/",MID(R96,6,2)) -> 09/16/16 | T96: =CONCATENATE(MID(R96,13,2),":",MID(R96,15,2),":",MID(R96,17,2)) -> 19:53:11 | U96: 0.36076875 | V96: 62.467912 | W96: ang20160916t195311_S00079_r10579_c547_ctr.tif
A97: S00080 | B97: 34.447442 | C97: -118.58673 | D97: =CONCATENATE(E97,"_",F97,"_",TEXT(G97,"00000")) -> ANG_CH4_00078 | E97: ANG | F97: CH4 | G97: =G96+1 -> 78 | H97: 34.447414 | I97: -118.58651 | J97: c | K97: Honor Rancho | L97: at | M97: high | N97: ang20160916t221543-C | O97: gas compressor | P97: comperssor part of main facility | Q97: 1B2 Oil & Natural Gas | R97: ang20160916t221543 | S97: =CONCATENATE(MID(R97,8,2),"/",MID(R97,10,2),"/",MID(R97,6,2)) -> 09/16/16 | T97: =CONCATENATE(MID(R97,13,2),":",MID(R97,15,2),":",MID(R97,17,2)) -> 22:15:43 | U97: 4.0910894 | V97: 265.16504 | W97: ang20160916t221543_S00080_r2619_c-84_ctr.tif
A98: S00080 | B98: 34.447442 | C98: -118.58673 | D98: =CONCATENATE(E98,"_",F98,"_",TEXT(G98,"00000")) -> ANG_CH4_00079 | E98: ANG | F98: CH4 | G98: =G97+1 -> 79 | H98: 34.447448 | I98: -118.58672 | J98: c | K98: Honor Rancho | L98: at | M98: high | N98: ang20160917t181611-B | O98: gas compressor | P98: comperssor part of main facility | Q98: 1B2 Oil & Natural Gas | R98: ang20160917t181611 | S98: =CONCATENATE(MID(R98,8,2),"/",MID(R98,10,2),"/",MID(R98,6,2)) -> 09/17/16 | T98: =CONCATENATE(MID(R98,13,2),":",MID(R98,15,2),":",MID(R98,17,2)) -> 18:16:11 | U98: 62.309396 | V98: 498.3522 | W98: ang20160917t181611_S00080_r1894_c58_ctr.tif
A99: S00080 | B99: 34.447442 | C99: -118.58673 | D99: =CONCATENATE(E99,"_",F99,"_",TEXT(G99,"00000")) -> ANG_CH4_00080 | E99: ANG | F99: CH4 | G99: =G98+1 -> 80 | H99: 34.447414 | I99: -118.58651 | J99: c | K99: Honor Rancho | L99: at | M99: high | N99: ang20160917t224332-A | O99: gas compressor | P99: comperssor part of main facility | Q99: 1B2 Oil & Natural Gas | R99: ang20160917t224332 | S99: =CONCATENATE(MID(R99,8,2),"/",MID(R99,10,2),"/",MID(R99,6,2)) -> 09/17/16 | T99: =CONCATENATE(MID(R99,13,2),":",MID(R99,15,2),":",MID(R99,17,2)) -> 22:43:32 | U99: 8.4690883 | V99: 497.70443 | W99: ang20160917t224332_S00080_r1902_c84_ctr.tif
... A112: S00089 | B112: 34.00208 | C112: -117.61635 | D112: =CONCATENATE(E112,"_",F112,"_",TEXT(G112,"00000")) -> ANG_CH4_00093 | E112: ANG | F112: CH4 | G112: =G111+1 -> 93 | H112: 34.00208 | I112: -117.61635 | J112: a | K112: Chino | L112: at | M112: medium | N112: ang20161001t192737-C | O112: unknown | P112: Possible top soil distributor | Q112: 3A2 Manure Management | R112: ang20161001t192737 | S112: =CONCATENATE(MID(R112,8,2),"/",MID(R112,10,2),"/",MID(R112,6,2)) -> 10/01/16 | T112: =CONCATENATE(MID(R112,13,2),":",MID(R112,15,2),":",MID(R112,17,2)) -> 19:27:37 | U112: 7.1626202 | V112: 292.33956 | W112: ang20161001t192737_S00089_r3893_c138_ctr.tif
A113: S00090 | B113: 36.72431 | C113: -120.23389 | D113: =CONCATENATE(E113,"_",F113,"_",TEXT(G113,"00000")) -> ANG_CH4_00094 | E113: ANG | F113: CH4 | G113: =G112+1 -> 94 | H113: 36.72431 | I113: -120.23389 | J113: c | K113: Gill Ranch (Fresno County) | L113: at | M113: high | N113: ang20161001t213736-A | O113: dairy/manure | Q113: 3A2 Manure Management | R113: ang20161001t213736 | S113: =CONCATENATE(MID(R113,8,2),"/",MID(R113,10,2),"/",MID(R113,6,2)) -> 10/01/16 | T113: =CONCATENATE(MID(R113,13,2),":",MID(R113,15,2),":",MID(R113,17,2)) -> 21:37:36 | U113: 4.9533838 | V113: 477.03752 | W113: ang20161001t213736_S00090_r3564_c-26_ctr.tif
A114: S00091 | B114: 34.380504 | C114: -118.49822 | D114: =CONCATENATE(E114,"_",F114,"_",TEXT(G114,"00000")) -> ANG_CH4_00095 | E114: ANG | F114: CH4 | G114: =G113+1 -> 95 | H114: 34.380504 | I114: -118.49822 | J114: c | K114: Placerita Canyon | L114: at | M114: high | N114: ang20161003t193609-A | O114: unknown | P114: Placerita Canyon pipes? | Q114: unknown | R114: ang20161003t193609 | S114: =CONCATENATE(MID(R114,8,2),"/",MID(R114,10,2),"/",MID(R114,6,2)) -> 10/03/16 | T114: =CONCATENATE(MID(R114,13,2),":",MID(R114,15,2),":",MID(R114,17,2)) -> 19:36:09 | U114: 14.067162 | V114: 491.54786 | W114: ang20161003t193609_S00091_r5963_c-105_ctr.tif
A115: S00092 | B115: 34.385157 | C115: -118.49632 | D115: =CONCATENATE(E115,"_",F115,"_",TEXT(G115,"00000")) -> ANG_CH4_00096 | E115: ANG | F115: CH4 | G115: =G114+1 -> 96 | H115: 34.385157 | I115: -118.49632 | J115: a | K115: Placerita Canyon | L115: at | M115: high | N115: ang20161003t193609-B | O115: oil/gas tank | P115: Placerita Canyon oil field | Q115: 1B2 Oil & Natural Gas | R115: ang20161003t193609 | S115: =CONCATENATE(MID(R115,8,2),"/",MID(R115,10,2),"/",MID(R115,6,2)) -> 10/03/16 | T115: =CONCATENATE(MID(R115,13,2),":",MID(R115,15,2),":",MID(R115,17,2)) -> 19:36:09 | U115: 0.13787842 | V115: 18.34121 | W115: ang20161003t193609_S00092_r5853_c48_ctr.tif
A116: S00094 | B116: 38.042314 | C116: -122.2523 | D116: =CONCATENATE(E116,"_",F116,"_",TEXT(G116,"00000")) -> ANG_CH4_00097 | E116: ANG | F116: CH4 | G116: =G115+1 -> 97 | H116: 38.042314 | I116: -122.2523 | J116: a | K116: Rodeo | L116: at | M116: high | N116: ang20161005t184114-L | O116: refinery | P116: Phillips 66 refinery | Q116: 1A1 Energy Industries | R116: ang20161005t184114 | S116: =CONCATENATE(MID(R116,8,2),"/",MID(R116,10,2),"/",MID(R116,6,2)) -> 10/05/16 | T116: =CONCATENATE(MID(R116,13,2),":",MID(R116,15,2),":",MID(R116,17,2)) -> 18:41:14 | U116: 35.122409 | V116: 401.37509 | W116: ang20161005t184114_S00094_r674_c403_ctr.tif
A117: S00098 | B117: 37.936823 | C117: -122.40435 | D117: =CONCATENATE(E117,"_",F117,"_",TEXT(G117,"00000")) -> ANG_CH4_00098 | E117: ANG | F117: CH4 | G117: =G116+1 -> 98 | H117: 37.936823 | I117: -122.40435 | J117: a | K117: Richmond | L117: at | M117: medium | N117: ang20161005t194911-B | O117: refinery | P117: Chevron refinery | Q117: 1A1 Energy Industries | R117: ang20161005t194911 | S117: =CONCATENATE(MID(R117,8,2),"/",MID(R117,10,2),"/",MID(R117,6,2)) -> 10/05/16 | T117: =CONCATENATE(MID(R117,13,2),":",MID(R117,15,2),":",MID(R117,17,2)) -> 19:49:11 | U117: 37.400948 | V117: 496.5779 | W117: ang20161005t194911_S00098_r1195_c-33_ctr.tif
A118: S00099 | B118: 37.94958 | C118: -122.39673 | D118: =CONCATENATE(E118,"_",F118,"_",TEXT(G118,"00000")) -> ANG_CH4_00099 | E118: ANG | F118: CH4 | G118: =G117+1 -> 99 | H118: 37.94958 | I118: -122.39673 | J118: a | K118: Richmond | L118: at | M118: medium | N118: ang20161005t194911-C | O118: refinery | P118: Chevron refinery | Q118: 1A1 Energy Industries | R118: ang20161005t194911 | S118: =CONCATENATE(MID(R118,8,2),"/",MID(R118,10,2),"/",MID(R118,6,2)) -> 10/05/16 | T118: =CONCATENATE(MID(R118,13,2),":",MID(R118,15,2),":",MID(R118,17,2)) -> 19:49:11 | U118: 233.84317 | V118: 496.5779 | W118: ang20161005t194911_S00099_r926_c435_ctr.tif
A119: S00100 | B119: 33.940664 | C119: -117.83168 | D119: =CONCATENATE(E119,"_",F119,"_",TEXT(G119,"00000")) -> ANG_CH4_00100 | E119: ANG | F119: CH4 | G119: =G118+1 -> 100 | H119: 33.940664 | I119: -117.83168 | J119: c | K119: Olinda Alpha | L119: at | M119: high | N119: ang20161006t180917-A | O119: landfill | P119: Olinda Alpha landfill | Q119: 4A1 Managed Waste Disposal Sites | R119: ang20161006t180917 | S119: =CONCATENATE(MID(R119,8,2),"/",MID(R119,10,2),"/",MID(R119,6,2)) -> 10/06/16 | T119: =CONCATENATE(MID(R119,13,2),":",MID(R119,15,2),":",MID(R119,17,2)) -> 18:09:17 | U119: 6.8914816 | V119: 321.45395 | W119: ang20161006t180917_S00100_r8230_c358_ctr.tif
A120: S00100 | B120: 33.940664 | C120: -117.83168 | D120: =CONCATENATE(E120,"_",F120,"_",TEXT(G120,"00000")) -> ANG_CH4_00101 | E120: ANG | F120: CH4 | G120: =G119+1 -> 101 | H120: 33.940656 | I120: -117.83132 | J120: c | K120: Olinda Alpha | L120: at | M120: high | N120: ang20161006t181839-A | O120: landfill | P120: Olinda Alpha landfill | Q120: 4A1 Managed Waste Disposal Sites | R120: ang20161006t181839 | S120: =CONCATENATE(MID(R120,8,2),"/",MID(R120,10,2),"/",MID(R120,6,2)) -> 10/06/16 | T120: =CONCATENATE(MID(R120,13,2),":",MID(R120,15,2),":",MID(R120,17,2)) -> 18:18:39 | U120: 3.0280824 | V120: 230.7685 | W120: ang20161006t181839_S00100_r8495_c-74_ctr.tif
A121: S00101 | B121: 33.941785 | C121: -117.83706 | D121: =CONCATENATE(E121,"_",F121,"_",TEXT(G121,"00000")) -> ANG_CH4_00102 | E121: ANG | F121: CH4 | G121: =G120+1 -> 102 | H121: 33.941785 | I121: -117.83706 | J121: a | K121: Olinda Alpha | L121: at | M121: high | N121: ang20161006t181839-B | O121: landfill | P121: Olinda Alpha landfill | Q121: 4A1 Managed Waste Disposal Sites | R121: ang20161006t181839 | S121: =CONCATENATE(MID(R121,8,2),"/",MID(R121,10,2),"/",MID(R121,6,2)) -> 10/06/16 | T121: =CONCATENATE(MID(R121,13,2),":",MID(R121,15,2),":",MID(R121,17,2)) -> 18:18:39 | U121: 0.28267787 | V121: 26.936407 | W121: ang20161006t181839_S00101_r8354_c-39_ctr.tif
A122: S00102 | B122: 33.994984 | C122: -118.15208 | D122: =CONCATENATE(E122,"_",F122,"_",TEXT(G122,"00000")) -> ANG_CH4_00103 | E122: ANG | F122: CH4 | G122: =G121+1 -> 103 | H122: 33.994984 | I122: -118.15208 | J122: a | K122: Commerce | L122: at | M122: high | N122: ang20161006t184812-A | O122: gas LNG station | P122: gas LNG station | Q122: 1B2 Oil & Natural Gas | R122: ang20161006t184812 | S122: =CONCATENATE(MID(R122,8,2),"/",MID(R122,10,2),"/",MID(R122,6,2)) -> 10/06/16 | T122: =CONCATENATE(MID(R122,13,2),":",MID(R122,15,2),":",MID(R122,17,2)) -> 18:48:12 | U122: 12.216893 | V122: 494.76347 | W122: ang20161006t184812_S00102_r465_c334_ctr.tif
A123: S00103 | B123: 34.001603 | C123: -118.36934 | D123: =CONCATENATE(E123,"_",F123,"_",TEXT(G123,"00000")) -> ANG_CH4_00104 | E123: ANG | F123: CH4 | G123: =G122+1 -> 104 | H123: 34.001603 | I123: -118.36934 | J123: a | K123: Baldwin hills | L123: at | M123: high | N123: ang20161006t200146-A | O123: oil/gas unknown infrastucture | P123: Inglewood oil & gas field | Q123: 1B2 Oil & Natural Gas | R123: ang20161006t200146 | S123: =CONCATENATE(MID(R123,8,2),"/",MID(R123,10,2),"/",MID(R123,6,2)) -> 10/06/16 | T123: =CONCATENATE(MID(R123,13,2),":",MID(R123,15,2),":",MID(R123,17,2)) -> 20:01:46 | U123: 0.54213752 | V123: 49.015304 | W123: ang20161006t200146_S00103_r681_c330_ctr.tif
A124: S00104 | B124: 36.163795 | C124: -120.39522 | D124: =CONCATENATE(E124,"_",F124,"_",TEXT(G124,"00000")) -> ANG_CH4_00105 | E124: ANG | F124: CH4 | G124: =G123+1 -> 105 | H124: 36.163795 | I124: -120.39522 | J124: a | K124: Coalinga | L124: at | M124: high | N124: ang20161012t193125-A | O124: oil/gas possible pipeline | P124: Coalinga oil & gas field | Q124: 1B2 Oil & Natural Gas | R124: ang20161012t193125 | S124: =CONCATENATE(MID(R124,8,2),"/",MID(R124,10,2),"/",MID(R124,6,2)) -> 10/12/16 | T124: =CONCATENATE(MID(R124,13,2),":",MID(R124,15,2),":",MID(R124,17,2)) -> 19:31:25 | U124: 0.79792894 | V124: 41.677332 | W124: ang20161012t193125_S00104_r3370_c712_ctr.tif
A125: S00105 | B125: 36.208988 | C125: -120.39312 | D125: =CONCATENATE(E125,"_",F125,"_",TEXT(G125,"00000")) -> ANG_CH4_00106 | E125: ANG | F125: CH4 | G125: =G124+1 -> 106 | H125: 36.20889 | I125: -120.39313 | J125: a | K125: Coalinga | L125: at | M125: high | N125: ang20161012t193711-A | O125: oil/gas waste lagoon | P125: Coalinga oil & gas field | Q125: 1B2 Oil & Natural Gas | R125: ang20161012t193711 | S125: =CONCATENATE(MID(R125,8,2),"/",MID(R125,10,2),"/",MID(R125,6,2)) -> 10/12/16 | T125: =CONCATENATE(MID(R125,13,2),":",MID(R125,15,2),":",MID(R125,17,2)) -> 19:37:11 | U125: TBD | V125: TBD | W125: ang20161012t193711_S00105_r1774_c452_ctr.tif
A126: S00106 | B126: 35.445982 | C126: -119.01497 | D126: =CONCATENATE(E126,"_",F126,"_",TEXT(G126,"00000")) -> ANG_CH4_00107 | E126: ANG | F126: CH4 | G126: =G125+1 -> 107 | H126: 35.445982 | I126: -119.01497 | J126: a | K126: Kern River | L126: at | M126: high | N126: ang20161025t192916-A | O126: oil/gas drill rig | P126: Kern River oil & gas field | Q126: 1B2 Oil & Natural Gas | R126: ang20161025t192916 | S126: =CONCATENATE(MID(R126,8,2),"/",MID(R126,10,2),"/",MID(R126,6,2)) -> 10/25/16 | T126: =CONCATENATE(MID(R126,13,2),":",MID(R126,15,2),":",MID(R126,17,2)) -> 19:29:16 | U126: 0.25889406 | V126: 25.455844 | W126: ang20161025t192916_S00106_r4500_c324_ctr.tif
A127: S00107 | B127: 35.470789 | C127: -119.03939 | D127: =CONCATENATE(E127,"_",F127,"_",TEXT(G127,"00000")) -> ANG_CH4_00108 | E127: ANG | F127: CH4 | G127: =G126+1 -> 108 | H127: 35.470789 | I127: -119.03939 | J127: a | K127: Kern River | L127: at | M127: high | N127: ang20161025t192916-B | O127: oil/gas unknown infrastucture | P127: Kern River oil & gas field | Q127: 1B2 Oil & Natural Gas | R127: ang20161025t192916 | S127: =CONCATENATE(MID(R127,8,2),"/",MID(R127,10,2),"/",MID(R127,6,2)) -> 10/25/16 | T127: =CONCATENATE(MID(R127,13,2),":",MID(R127,15,2),":",MID(R127,17,2)) -> 19:29:16 | U127: 4.5968923 | V127: 249.01807 | W127: ang20161025t192916_S00107_r3346_c426_ctr.tif
A128: S00109 | B128: 35.473159 | C128: -119.05784 | D128: =CONCATENATE(E128,"_",F128,"_",TEXT(G128,"00000")) -> ANG_CH4_00109 | E128: ANG | F128: CH4 | G128: =G127+1 -> 109 | H128: 35.473159 | I128: -119.05784 | J128: a | K128: Kern River | L128: at | M128: high | N128: ang20161025t192916-D | O128: oil/gas tank | P128: Kern River oil & gas field | Q128: 1B2 Oil & Natural Gas | R128: ang20161025t192916 | S128: =CONCATENATE(MID(R128,8,2),"/",MID(R128,10,2),"/",MID(R128,6,2)) -> 10/25/16 | T128: =CONCATENATE(MID(R128,13,2),":",MID(R128,15,2),":",MID(R128,17,2)) -> 19:29:16 | U128: 5.1180953 | V128: 408.99144 | W128: ang20161025t192916_S00109_r2818_c-7_ctr.tif
A129: S00110 | B129: 35.482906 | C129: -119.05756 | D129: =CONCATENATE(E129,"_",F129,"_",TEXT(G129,"00000")) -> ANG_CH4_00110 | E129: ANG | F129: CH4 | G129: =G128+1 -> 110 | H129: 35.48274 | I129: -119.05757 | J129: a | K129: Kern River | L129: at | M129: high | N129: ang20161025t192916-E | O129: oil/gas drill rig | P129: Kern River oil & gas field | Q129: 1B2 Oil & Natural Gas | R129: ang20161025t192916 | S129: =CONCATENATE(MID(R129,8,2),"/",MID(R129,10,2),"/",MID(R129,6,2)) -> 10/25/16 | T129: =CONCATENATE(MID(R129,13,2),":",MID(R129,15,2),":",MID(R129,17,2)) -> 19:29:16 | U129: 0.71899227 | V129: 60 | W129: ang20161025t192916_S00110_r2725_c403_ctr.tif
A130: S00111 | B130: 35.487149 | C130: -119.06515 | D130: =CONCATENATE(E130,"_",F130,"_",TEXT(G130,"00000")) -> ANG_CH4_00111 | E130: ANG | F130: CH4 | G130: =G129+1 -> 111 | H130: 35.48699 | I130: -119.06508 | J130: a | K130: Kern River | L130: at | M130: high | N130: ang20161025t192916-F | O130: oil/gas pumpjack | P130: Kern River oil & gas field | Q130: 1B2 Oil & Natural Gas | R130: ang20161025t192916 | S130: =CONCATENATE(MID(R130,8,2),"/",MID(R130,10,2),"/",MID(R130,6,2)) -> 10/25/16 | T130: =CONCATENATE(MID(R130,13,2),":",MID(R130,15,2),":",MID(R130,17,2)) -> 19:29:16 | U130: 0.71332475 | V130: 60 | W130: ang20161025t192916_S00111_r2454_c343_ctr.tif
A131: S00115 | B131: 35.498936 | C131: -119.06919 | D131: =CONCATENATE(E131,"_",F131,"_",TEXT(G131,"00000")) -> ANG_CH4_00112 | E131: ANG | F131: CH4 | G131: =G130+1 -> 112 | H131: 35.498838 | I131: -119.06914 | J131: a | K131: Kern River | L131: at | M131: medium | N131: ang20161025t192916-J | O131: oil/gas unknown infrastucture | P131: Kern River oil & gas field | Q131: 1B2 Oil & Natural Gas | R131: ang20161025t192916 | S131: =CONCATENATE(MID(R131,8,2),"/",MID(R131,10,2),"/",MID(R131,6,2)) -> 10/25/16 | T131: =CONCATENATE(MID(R131,13,2),":",MID(R131,15,2),":",MID(R131,17,2)) -> 19:29:16 | U131: 0.21797666 | V131: 57.706152 | W131: ang20161025t192916_S00115_r2049_c550_ctr.tif
...

Sheet Guides
A1: Source selection criteria
A2: a) Source plume is so strong as to be unambiguous with a single detection
A3: b) Plume clearly associated with surface infrastructure
A4: c) Plumes are detected multiple times at the same location/different wind conditions
A5: d) CH4 plume origin is co-located with plume of another species (e.g., NH3)
A6: e) Source is confirmed by follow up observations
A7: f) Source was previously known (e.g., controlled release or process emitter)
A15: IPCC sectors (most relevant from table) | F15: IPCC sectors (bold in Vista)
F16: LEVEL 1 | G16: LEVEL 2 | H16: LEVEL 3
A17: 1A1 Energy Industries | F17: 1 Energy | G17: 1A Fuel Combustion Activities | H17: 1A1 Energy Industries
A18: 1A2 Manufacuturing Industries & Construction | H18: 1A2 Manufacuturing Industries & Construction
A19: 1A3 Transport | H19: 1A3 Transport
A20: 1A4 Other Sectors | H20: 1A4 Other Sectors
A21: 1A5 Non-Specified | H21: 1A5 Non-Specified
A22: 1B1 Solid Fuels | G22: 1B Fugitive Emissions From Fuels | H22: 1B1 Solid Fuels
A23: 1B2 Oil & Natural Gas | H23: 1B2 Oil & Natural Gas
A24: 1B3 Other Emissions from Energy Production | H24: 1B3 Other Emissions from Energy Production
A25: 3A1 Enteric Fermentation | G25: 1C Carbon Dioxide Transport & Storage | H25: 1C1 Transport of CO2
A26: 3A2 Manure Management | H26: 1C2 Injections & Storage
A27: 3B1 Forest Land | H27: 1C3 Other
A28: 3B2 Cropland | F28: 2 Industries Processes & Product Use | G28: 2A Mineral Industry*
A29: 3B3 Grassland | G29: 2B Chemical Industry*
A30: 3B4 Wetlands | G30: 2C Metal Industry*
A31: 3B5 Settlements | G31: 2D Non-Energy Products from Fuel & Solvent Use*
A32: 3B6 Other Land | G32: 2E Electronics Industry*
A33: 4A1 Managed Waste Disposal Sites | G33: 2F Product Uses as Substitutes for Ozone Depletion*
A34: 4A2 Unmanaged Waste Disposal Sites | G34: 2G Other Product Manufacture & Use*
A35: 4A3 Uncategorized Waste Disposal Sites | G35: 2H Other*
A36: 4D1 Domestic Wastewater Treatment & Discharge | F36: 3 Agriculture, Forestry & Other Land Use | G36: 3A Livestock | H36: 3A1 Enteric Fermentation
A37: 4D2 Domestic Wastewater Treatment & Discharge | H37: 3A2 Manure Management
A38: unknown | G38: 3B Land | H38: 3B1 Forest Land
H39: 3B2 Cropland (adjacent to dairies)
H40: 3B3 Grassland
H41: 3B4 Wetlands
H42: 3B5 Settlements
H43: 3B6 Other Land
G44: 3C Aggregate Sources & Non-CO2 Emissions*
G45: 3D Other*
F46: 4 Waste | G46: 4A Solid Waste Disposal | H46: 4A1 Managed Waste Disposal Sites
H47: 4A2 Unmanaged Waste Disposal Sites
H48: 4A3 Uncategorized Waste Disposal Sites
G49: 4B Biological Treatment of Solid Waste*
G50: 4C Incineration & Open Burning of Waste*
G51: 4D Wastewater Treatment & Discharge | H51: 4D1 Domestic Wastewater Treatment & Discharge
H52: 4D2 Domestic Wastewater Treatment & Discharge
G53: 4E Other*
F54: 5 Other | G54: 5A Indirect N2O Emissions from the Atmospheric Deposition of Nitrogen Nox and NH3*
G55: 5B Other*

Sheet Coverage stats
A1: IPCC Sectors | B1: Methane Emitting Sector | C1: Total Features in Vista-CA | D1: Features surveyed in phase 1 | E1: Fractional completeness | F1: Number of CH4 sources | G1: Fraction of Features with >=1 CH4 source | H1: Population Scalar | I1: Persistence scalar | J1: Projected total sources in CA
A2: 1A1 Energy Industries | B2: Petroleum Refineries | C2: 17 | D2: 16 | E2: =(D2/C2) -> 0.94117647 | F2: 15 | G2: =F2/D2 -> 0.9375 | H2: =C2/D2 -> 1.0625 | I2: 2 | J2: =F2*H2*I2 -> 31.875
B3: Powerplants | C3: 468 | D3: 166 | E3: =(D3/C3) -> 0.35470085 | F3: 0 | G3: =F3/D3 -> 0 | H3: =C3/D3 -> 2.8192771 | I3: 1 | J3: =F3*H3*I3 -> 0
A4: 1B2 Oil and Natural Gas | B4: Transmission Pipelines (miles) | C4: 11939.024 | D4: 2392.5262 | E4: =(D4/C4) -> 0.20039547 | F4: 0 | G4: =F4/D4 -> 0 | H4: =C4/D4 -> 4.9901329 | I4: 10 | J4: =F4*H4*I4 -> 0
B5: Compressor Stations (excluding gas storage) | C5: 32 | D5: 21 | E5: =(D5/C5) -> 0.65625 | F5: 1 | G5: =F5/D5 -> 0.047619048 | H5: =C5/D5 -> 1.5238095 | I5: 4 | J5: =F5*H5*I5 -> 6.0952381
B6: Gas Storage Fields | C6: 12 | D6: 12 | E6: =(D6/C6) -> 1 | F6: 3 | G6: =F6/D6 -> 0.25 | H6: =C6/D6 -> 1 | I6: 4 | J6: =F6*H6*I6 -> 12
B7: Distibution pipelines | C7: TBD | D7: TBD | F7: 1 | I7: 10
B8: CNG Stations | C8: 334 | D8: 93 | E8: =(D8/C8) -> 0.27844311 | F8: 0 | G8: 0 | H8: =C8/D8 -> 3.5913978 | I8: 1 | J8: =F8*H8*I8 -> 0
B9: LNG Stations | C9: 46 | D9: 17 | E9: =(D9/C9) -> 0.36956522 | F9: 1 | G9: =F9/D9 -> 0.058823529 | H9: =C9/D9 -> 2.7058824 | I9: 1 | J9: =F9*H9*I9 -> 2.7058824
B10: Oil & Gas Production | C10: 227276 | D10: 176712 | E10: =(D10/C10) -> 0.7775216 | F10: 99 | G10: =F10/D10 -> 0.0005602336 | H10: =C10/D10 -> 1.2861379 | I10: 1 | J10: =F10*H10*I10 -> 127.32765
A11: 3A2 Manure Management | B11: Dairies, digesters, other livestock | C11: 1709 | D11: 851 | E11: =(D11/C11) -> 0.49795202 | F11: 186 | G11: =F11/D11 -> 0.21856639 | H11: =C11/D11 -> 2.0082256 | I11: 4 | J11: =F11*H11*I11 -> 1494.1199
A12: 4A1 Managed Waste Disposal | B12: Landfills (top emitters) | C12: 60 | D12: 22 | E12: =(D12/C12) -> 0.36666667 | F12: 19 | G12: =F12/D12 -> 0.86363636 | H12: =C12/D12 -> 2.7272727 | I12: 1 | J12: =F12*H12*I12 -> 51.818182
A13: 4D Wastewater Treatment & Discharge | B13: Wastewater Treatment Plants | C13: 152 | D13: 43 | E13: =(D13/C13) -> 0.28289474 | F13: 0 | G13: 0 | H13: =C13/D13 -> 3.5348837 | I13: 1 | J13: =F13*H13*I13 -> 0
A14: TBD | B14: unknown | C14: TBD | D14: TBD | F14: 4
A15: Totals | C15: =SUM(C5:C14) -> 229621 | D15: =SUM(D5:D14) -> 177771 | E15: =(D15/C15) -> 0.77419313 | F15: =SUM(F2:F14) -> 329 | G15: =F15/D15 -> 0.0018506956 | H15: =C15/D15 -> 1.2916674 | J15: =SUM(J2:J13) -> 1725.9418
A17: Total Area (square miles) covered by 2016 AV-NG Flight Lines (900m width for each line) | B17: 5943.75 | F17: total flux for 2 m/s wind (kg/hr) | G17: 63000 | J17: =J15/F15*G17 -> 330499.5
A18: Total Area (square miles) of California | B18: 163696 | F18: CARB 2014 total (kg/hr) | J18: 178882
A19: Percentage of California area covered by the Fall 2016 AV-NG flights | B19: =(B17/B18)*100 -> 3.6309684
F21: =SUM(F4:F10) -> 105

Sheet Detection stats
C4: Source occurrence
B5: Sectors (IPCC) | C5: Sources Detected | D5: Percentage
B6: 1A1 Energy Industries | C6: =COUNTIF('Fall 2016 sources for report'!G$2:G$330,B6) -> 15 | D6: =C6/$C$12 -> 0.045592705
B7: 1B2 Oil & Natural Gas | C7: =COUNTIF('Fall 2016 sources for report'!G$2:G$330,B7) -> 105 | D7: =C7/$C$12 -> 0.31914894
B8: 3A2 Manure Management | C8: =COUNTIF('Fall 2016 sources for report'!G$2:G$330,B8) -> 186 | D8: =C8/$C$12 -> 0.56534954
B9: 4A1 Managed Waste Disposal Sites | C9: =COUNTIF('Fall 2016 sources for report'!G$2:G$330,B9) -> 19 | D9: =C9/$C$12 -> 0.05775076
B10: 4D1 Wastewater Treatment | C10: =COUNTIF('Fall 2016 sources for report'!G$2:G$330,B10) -> 0 | D10: =C10/$C$12 -> 0
B11: unknown | C11: =COUNTIF('Fall 2016 sources for report'!G$2:G$330,B11) -> 4 | D11: =C11/$C$12 -> 0.012158055
B12: Total sources | C12: =SUM(C6:C11) -> 329 | D12: =C12/$C$12 -> 1
B31: Source types | C31: Sources detected | D31: Percentage
B32: crop irrigation | C32: =COUNTIF('Fall 2016 sources for report'!E$2:E$331,B32) -> 3 | D32: =C32/$C$12 -> 0.009118541
B33: dairy/manure | C33: =COUNTIF('Fall 2016 sources for report'!E$2:E$331,B33) -> 176 | D33: =C33/$C$12 -> 0.53495441
B34: dairy/manure - digester | C34: =COUNTIF('Fall 2016 sources for report'!E$2:E$331,B34) -> 4 | D34: =C34/$C$12 -> 0.012158055
B35: gas compressor | C35: =COUNTIF('Fall 2016 sources for report'!E$2:E$331,B35) -> 3 | D35: =C35/$C$12 -> 0.009118541
B36: gas distribution line | C36: =COUNTIF('Fall 2016 sources for report'!E$2:E$331,B36) -> 1 | D36: =C36/$C$12 -> 0.0030395137
B37: gas LNG station | C37: =COUNTIF('Fall 2016 sources for report'!E$2:E$331,B37) -> 1 | D37: =C37/$C$12 -> 0.0030395137
B38: gas CNG station | C38: =COUNTIF('Fall 2016 sources for report'!E$2:E$331,B38) -> 0 | D38: =C38/$C$12 -> 0
B39: gas storage facility | C39: =COUNTIF('Fall 2016 sources for report'!E$2:E$331,B39) -> 3 | D39: =C39/$C$12 -> 0.009118541
B40: landfill | C40: =COUNTIF('Fall 2016 sources for report'!E$2:E$331,B40) -> 19 | D40: =C40/$C$12 -> 0.05775076
B41: oil/gas compressor | C41: =COUNTIF('Fall 2016 sources for report'!E$2:E$331,B41) -> 2 | D41: =C41/$C$12 -> 0.0060790274
B42: oil/gas drill rig | C42: =COUNTIF('Fall 2016 sources for report'!E$2:E$331,B42) -> 2 | D42: =C42/$C$12 -> 0.0060790274
B43: oil/gas gathering lines (TBD) | C43: =COUNTIF('Fall 2016 sources for report'!E$2:E$331,B43) -> 10 | D43: =C43/$C$12 -> 0.030395137
... B52: water treatment plant | C52: =COUNTIF('Fall 2016 sources for report'!E$2:E$331,B52) -> 0 | D52: =C52/$C$12 -> 0
B53: Total sources | C53: =SUM(C32:C52) -> 329 | D53: =C53/$C$12 -> 1

Sheet Fall 2016 sources for report
A1: Source identifier | B1: Source Latitude (deg) | C1: Source Longitude (deg) | D1: Area (region or town) | E1: Source type (best estimate) | F1: Nearest facility (best estimate) | G1: Sectors (IPCC) | H1: Selection crieria | I1: Mean IME (kg CH4) | J1: Mean plume length (m)
A2: S00006 | B2: 34.44705 | C2: -118.58834 | D2: Honor Rancho | E2: gas storage facility | F2: Honor Rancho | G2: 1B2 Oil & Natural Gas | H2: c | I2: 26.734679 | J2: 366.19036
A3: S00007 | B3: 33.906 | C3: -118.4063 | D3: El Segundo | E3: refinery | F3: Chevron refinery | G3: 1A1 Energy Industries | H3: a | I3: 2.1572068 | J3: 484.78152
A4: S00008 | B4: 33.905431 | C4: -118.40644 | D4: El Segundo | E4: refinery | F4: Chevron refinery | G4: 1A1 Energy Industries | H4: a | I4: 2.1537968 | J4: 484.78152
A5: S00009 | B5: 33.905983 | C5: -118.40349 | D5: El Segundo | E5: refinery | F5: Chevron refinery | G5: 1A1 Energy Industries | H5: a | I5: 2.19019 | J5: 484.78152
A6: S00010 | B6: 33.782457 | C6: -118.3281 | D6: Palos Verdes | E6: landfill | F6: Uknown landfill (not in Vista) | G6: 4A1 Managed Waste Disposal Sites | H6: a | I6: 0.46199782 | J6: 83.965707
A7: S00011 | B7: 33.776957 | C7: -118.28704 | D7: Harbor City | E7: refinery | F7: ConocoPhillips Refinery | G7: 1A1 Energy Industries | H7: a | I7: 0.086696937 | J7: 23.469129
A8: S00012 | B8: 33.772601 | C8: -118.28643 | D8: Harbor City | E8: refinery | F8: ConocoPhillips Refinery | G8: 1A1 Energy Industries | H8: a | I8: 0.23373613 | J8: 28.856195
A9: S00013 | B9: 33.770829 | C9: -118.2929 | D9: Harbor City | E9: refinery | F9: ConocoPhillips Refinery | G9: 1A1 Energy Industries | H9: a | I9: 1.1721898 | J9: 467.45969
A10: S00014 | B10: 33.804668 | C10: -118.24385 | D10: Wilmington | E10: refinery | F10: Phillips | G10: 1A1 Energy Industries | H10: a | I10: 1.2147852 | J10: 129.00426
A11: S00016 | B11: 33.81581 | C11: -118.24689 | D11: Wilmington | E11: refinery | F11: Phillips | G11: 1A1 Energy Industries | H11: a | I11: 1.7468012 | J11: 499.44347
A12: S00017 | B12: 33.972726 | C12: -117.69994 | D12: Chino Hills | E12: gas distribution line | F12: Chino Hills neighborhood | G12: 1B2 Oil & Natural Gas | H12: c, e | I12: 7.4708614 | J12: 293.295
A13: S00018 | B13: 34.594798 | C13: -117.26764 | D13: Bell Mountain | E13: landfill | F13: Victorville Sanitary Landfill | G13: 4A1 Managed Waste Disposal Sites | H13: a | I13: 0.15775648 | J13: 78.449984
... A30: S00037 | B30: 36.018493 | C30: -119.41682 | D30: Tipton (Tulare Complex) | E30: dairy/manure | F30: Meadowlake Dairy | G30: 3A2 Manure Management | H30: c | I30: 4.253691 | J30: 327.98722
A31: S00038 | B31: 36.044478 | C31: -119.21684 | D31: Tipton (Tulare County) | E31: dairy/manure | F31: D & V Dairy | G31: 3A2 Manure Management | H31: a | I31: 29 | J31: TBD
A32: S00039 | B32: 36.093493 | C32: -119.33967 | D32: Tipton (Tulare Complex) | E32: dairy/manure | F32: Scheenstra Dairy | G32: 3A2 Manure Management | H32: a | I32: 2.8234716 | J32: 496.38896
A33: S00040 | B33: 36.08125 | C33: -119.42127 | D33: Tipton (Tulare County) | E33: dairy/manure | F33: Brian and James Jongsma Dairy | G33: 3A2 Manure Management | H33: a | I33: 21.734302 | J33: 490.33254
A34: S00041 | B34: 36.073672 | C34: -119.44069 | D34: Tipton (Tulare County) | E34: dairy/manure - digester | F34: G.J. Te Velde Ranch Dairy | G34: 3A2 Manure Management | H34: c | I34: 14.508301 | J34: 453.96227
A35: S00042 | B35: 37.986498 | C35: -121.47355 | D35: MacDonald Island | E35: gas storage facility | F35: MacDonald Island | G35: 1B2 Oil & Natural Gas | H35: a | I35: 12.402403 | J35: 489.80864
A36: S00043 | B36: 36.078624 | C36: -119.44159 | D36: Tipton (Tulare County) | E36: dairy/manure | F36: G.J. Te Velde Ranch Dairy | G36: 3A2 Manure Management | H36: a | I36: 8.417247 | J36: 488.62255
A37: S00044 | B37: 36.103275 | C37: -119.37351 | D37: Tipton (Tulare County) | E37: dairy/manure | F37: Aukeman Farms Dairy | G37: 3A2 Manure Management | H37: a | I37: 13.510961 | J37: 498.03614
A38: S00045 | B38: 36.101628 | C38: -119.41766 | D38: Tipton (Tulare County) | E38: dairy/manure | F38: Dykstra Dairy | G38: 3A2 Manure Management | H38: a | I38: 0.3455947 | J38: 120.59851
A39: S00047 | B39: 36.147358 | C39: -119.49952 | D39: Tulare (Tulare County) | E39: dairy/manure | F39: Curti Family Inc. | G39: 3A2 Manure Management | H39: a | I39: 176.99482 | J39: 497.32183
A40: S00048 | B40: 36.141361 | C40: -119.53598 | D40: Tulare (Tulare County) | E40: dairy/manure | F40: Felicita Dairy | G40: 3A2 Manure Management | H40: a | I40: 142.86904 | J40: 497.32183
A41: S00049 | B41: 36.215832 | C41: -119.16592 | D41: Tulare (Tulare Complex) | E41: dairy/manure | F41: Pacheco & Fagundes Dairy | G41: 3A2 Manure Management | H41: a | I41: 0.12254784 | J41: 13.416408
A42: S00050 | B42: 36.203221 | C42: -119.19108 | D42: Tulare (Tulare Complex) | E42: dairy/manure | F42: TBD dairy | G42: 3A2 Manure Management | H42: a | I42: 0.089860467 | J42: 9.486833
A43: S00051 | B43: 36.165297 | C43: -119.53785 | D43: Tulare (Tulare County) | E43: dairy/manure | F43: TBD dairy | G43: 3A2 Manure Management | H43: a | I43: 30.770526 | J43: 488.48439
A44: S00052 | B44: 36.227986 | C44: -119.18032 | D44: Tulare (Tulare Complex) | E44: dairy/manure - digester | F44: Hilarides dairy | G44: 3A2 Manure Management | H44: a | I44: TBD | J44: TBD
A45: S00053 | B45: 36.163991 | C45: -119.69249 | D45: Visalia (Tulare County) | E45: dairy/manure | F45: TBD dairy | G45: 3A2 Manure Management | H45: a | I45: 0.044992438 | J45: TBD
A46: S00054 | B46: 36.182383 | C46: -119.65908 | D46: Visalia (Tulare County) | E46: dairy/manure | F46: Cloverdale Dairy | G46: 3A2 Manure Management | H46: a | I46: 0.90654723 | J46: 184.56706
A47: S00055 | B47: 36.192615 | C47: -119.53105 | D47: Visalia (Tulare County) | E47: dairy/manure | F47: Four Star Dairy | G47: 3A2 Manure Management | H47: a | I47: 80.5012 | J47: 490.06632
A48: S00056 | B48: 36.164541 | C48: -119.69239 | D48: Visalia (Tulare County) | E48: dairy/manure | F48: TBD dairy | G48: 3A2 Manure Management | H48: a | I48: 0.15389078 | J48: 19.209373
A49: S00057 | B49: 36.189115 | C49: -119.60669 | D49: Visalia (Tulare County) | E49: dairy/manure | F49: Wreden Ranch Dairy | G49: 3A2 Manure Management | H49: a | I49: 1.2748855 | J49: 221.3504
A50: S00058 | B50: 36.194112 | C50: -119.561 | D50: Visalia (Tulare County) | E50: dairy/manure | F50: TBD dairy | G50: 3A2 Manure Management | H50: a | I50: 2.2340369 | J50: 189.97368
A51: S00059 | B51: 36.192641 | C51: -119.533 | D51: Visalia (Tulare County) | E51: dairy/manure | F51: Four Star Dairy | G51: 3A2 Manure Management | H51: a | I51: 74.659745 | J51: 490.06632
A52: S00060 | B52: 36.205484 | C52: -119.53237 | D52: Visalia (Tulare County) | E52: dairy/manure | F52: Mattos Brothers Dairy | G52: 3A2 Manure Management | H52: a | I52: 20.717827 | J52: 469.57428
A53: S00061 | B53: 36.19968 | C53: -119.5968 | D53: Visalia (Tulare County) | E53: dairy/manure | F53: Hollandia Farms North Dairy | G53: 3A2 Manure Management | H53: a | I53: 1.461676 | J53: 270.74896
A54: S00062 | B54: 36.197838 | C54: -119.6388 | D54: Visalia (Tulare County) | E54: dairy/manure | F54: TBD dairy | G54: 3A2 Manure Management | H54: a | I54: TBD | J54: TBD
A55: S00063 | B55: 36.207186 | C55: -119.69638 | D55: Visalia (Tulare County) | E55: dairy/manure | F55: TBD dairy | G55: 3A2 Manure Management | H55: a | I55: TBD | J55: TBD
A56: S00064 | B56: 36.196885 | C56: -119.68447 | D56: Visalia (Tulare County) | E56: dairy/manure | F56: TBD dairy | G56: 3A2 Manure Management | H56: a | I56: 0.12362848 | J56: 30.594117
A57: S00065 | B57: 36.215859 | C57: -119.60759 | D57: Visalia (Tulare County) | E57: dairy/manure | F57: Kansas Holstein Dairy | G57: 3A2 Manure Management | H57: a | I57: 1.1558694 | J57: 208.06249
A58: S00066 | B58: 36.26577 | C58: -119.40552 | D58: Tulare (Tulare County) | E58: dairy/manure | F58: Hamstra Dairy Complex | G58: 3A2 Manure Management | H58: a | I58: 0.84283477 | J58: 180.4245
A59: S00067 | B59: 36.248562 | C59: -119.49822 | D59: Tulare (Tulare County) | E59: dairy/manure | F59: TBD dairy | G59: 3A2 Manure Management | H59: a | I59: 2.4655389 | J59: 152.97059
A60: S00068 | B60: 36.229968 | C60: -119.61322 | D60: Tulare (Tulare County) | E60: dairy/manure | F60: TBD dairy | G60: 3A2 Manure Management | H60: a | I60: 7.1987848 | J60: 370.47267
A61: S00069 | B61: 36.220378 | C61: -119.62113 | D61: Tulare (Tulare County) | E61: dairy/manure | F61: Valadao Dairy | G61: 3A2 Manure Management | H61: a | I61: TBD | J61: TBD
A62: S00070 | B62: 36.221189 | C62: -119.68554 | D62: Tulare (Tulare County) | E62: dairy/manure | F62: Manuel & Alda Lawrence Dairy | G62: 3A2 Manure Management | H62: a | I62: TBD | J62: TBD
A63: S00071 | B63: 36.242216 | C63: -119.54894 | D63: Tulare (Tulare County) | E63: dairy/manure | F63: Valley View Dairy #2 | G63: 3A2 Manure Management | H63: a | I63: 0.089162169 | J63: 10.816654
A64: S00072 | B64: 36.24398 | C64: -119.57482 | D64: Tulare (Tulare County) | E64: dairy/manure | F64: River Ranch Dairy | G64: 3A2 Manure Management | H64: a | I64: 3.1043012 | J64: 312.12978
A65: S00073 | B65: 36.265687 | C65: -119.40478 | D65: Tulare (Tulare County) | E65: dairy/manure | F65: Hamstra Dairy Complex | G65: 3A2 Manure Management | H65: a | I65: 19.841769 | J65: 487.11908
A66: S00074 | B66: 36.276057 | C66: -119.4522 | D66: Tulare (Tulare County) | E66: dairy/manure | F66: S & S Dairy | G66: 3A2 Manure Management | H66: a | I66: 53.620254 | J66: 498.6231
A67: S00075 | B67: 36.262286 | C67: -119.62781 | D67: Tulare (Tulare County) | E67: dairy/manure | F67: Diamond D LLC Dairy | G67: 3A2 Manure Management | H67: a | I67: 8.9550628 | J67: 490.58027
A68: S00076 | B68: 36.257329 | C68: -119.60484 | D68: Tulare (Tulare County) | E68: dairy/manure | F68: High Roller Dairy | G68: 3A2 Manure Management | H68: a | I68: 1.1791735 | J68: 138.71554
A69: S00077 | B69: 36.277027 | C69: -119.5333 | D69: Tulare (Tulare County) | E69: dairy/manure | F69: Lone Oak Farms Dairy #1 | G69: 3A2 Manure Management | H69: a | I69: 2.3730768 | J69: 198.86176
A70: S00078 | B70: 34.385725 | C70: -118.49671 | D70: Placerita oil field | E70: oil/gas tank | F70: Placerita oil field | G70: 1B2 Oil & Natural Gas | H70: a | I70: 1.1116077 | J70: 304.84504
A71: S00079 | B71: 36.352435 | C71: -119.49664 | D71: Visalia (Tulare County) | E71: dairy/manure | F71: De Groot Dairies-North | G71: 3A2 Manure Management | H71: a | I71: 0.36076875 | J71: 62.467912
A72: S00080 | B72: 34.447442 | C72: -118.58673 | D72: Honor Rancho | E72: gas compressor | F72: comperssor part of main facility | G72: 1B2 Oil & Natural Gas | H72: c | I72: 54.369131 | J72: 448.7302
A73: S00081 | B73: 36.499389 | C73: -119.61751 | D73: Kingsburg (Fresno County) | E73: other livestock | F73: Harris Ranch meat plant | G73: unknown | H73: a | I73: 78.844898 | J73: 467.12418
A74: S00082 | B74: 36.413787 | C74: -119.86513 | D74: Helm (Fresno County) | E74: dairy/manure | F74: Frank S. Brown Co. Dairy | G74: 3A2 Manure Management | H74: a | I74: 0.78290923 | J74: 118.37652
... A91: S00104 | B91: 36.163795 | C91: -120.39522 | D91: Coalinga | E91: oil/gas gathering lines (TBD) | F91: Coalinga oil & gas field | G91: 1B2 Oil & Natural Gas | H91: a | I91: 0.79792894 | J91: 41.677332
A92: S00105 | B92: 36.208988 | C92: -120.39312 | D92: Coalinga | E92: oil/gas waste lagoon | F92: Coalinga oil & gas field | G92: 1B2 Oil & Natural Gas | H92: a | I92: TBD | J92: TBD
A93: S00106 | B93: 35.445982 | C93: -119.01497 | D93: Kern River | E93: oil/gas drill rig | F93: Kern River oil & gas field | G93: 1B2 Oil & Natural Gas | H93: a | I93: 0.25889406 | J93: 25.455844
A94: S00107 | B94: 35.470789 | C94: -119.03939 | D94: Kern River | E94: oil/gas unknown infrastucture | F94: Kern River oil & gas field | G94: 1B2 Oil & Natural Gas | H94: a | I94: 4.5968923 | J94: 249.01807
A95: S00109 | B95: 35.473159 | C95: -119.05784 | D95: Kern River | E95: oil/gas tank | F95: Kern River oil & gas field | G95: 1B2 Oil & Natural Gas | H95: a | I95: 5.1180953 | J95: 408.99144
A96: S00110 | B96: 35.482906 | C96: -119.05756 | D96: Kern River | E96: oil/gas drill rig | F96: Kern River oil & gas field | G96: 1B2 Oil & Natural Gas | H96: a | I96: 0.71899227 | J96: 60
A97: S00111 | B97: 35.487149 | C97: -119.06515 | D97: Kern River | E97: oil/gas pumpjack | F97: Kern River oil & gas field | G97: 1B2 Oil & Natural Gas | H97: a | I97: 0.71332475 | J97: 60
A98: S00115 | B98: 35.498936 | C98: -119.06919 | D98: Kern River | E98: oil/gas unknown infrastucture | F98: Kern River oil & gas field | G98: 1B2 Oil & Natural Gas | H98: a | I98: 0.21797666 | J98: 57.706152
A99: S00116 | B99: 35.498964 | C99: -119.07213 | D99: Kern River oil & gas field | E99: oil/gas pumpjack | F99: Poso Creek oil & gas field | G99: 1B2 Oil & Natural Gas | H99: c | I99: 0.22092287 | J99: 113.45361
A100: S00117 | B100: 35.506075 | C100: -119.07411 | D100: Kern River | E100: oil/gas unknown infrastucture | F100: Kern River oil & gas field | G100: 1B2 Oil & Natural Gas | H100: c | I100: 0.27382189 | J100: 61.479192
A101: S00118 | B101: 35.507479 | C101: -119.07421 | D101: Kern River | E101: oil/gas pumpjack | F101: Kern River oil & gas field | G101: 1B2 Oil & Natural Gas | H101: c | I101: 0.24945099 | J101: 68.671439
A102: S00119 | B102: 35.347555 | C102: -119.66276 | D102: Cymric | E102: oil/gas gathering lines (TBD) | F102: Cymric oil & gas field | G102: 1B2 Oil & Natural Gas | H102: a | I102: 12.765345 | J102: 499.52477
A103: S00120 | B103: 35.238214 | C103: -119.59142 | D103: Midway Sunset | E103: oil/gas gathering lines (TBD) | F103: Midway Sunset oil & gas field | G103: 1B2 Oil & Natural Gas | H103: c | I103: 11.935537 | J103: 317.90697
A104: S00121 | B104: 35.364281 | C104: -119.67018 | D104: Cymric | E104: oil/gas unknown infrastucture | F104: Cymric oil & gas field | G104: 1B2 Oil & Natural Gas | H104: a | I104: 1.6089086 | J104: 141.50972
A105: S00122 | B105: 35.480495 | C105: -119.74309 | D105: Cymric | E105: oil/gas unknown infrastucture | F105: Cymric oil & gas field | G105: 1B2 Oil & Natural Gas | H105: a | I105: 13.012975 | J105: 497.93674
A106: S00123 | B106: 35.52916 | C106: -119.76946 | D106: Cymric | E106: oil/gas gathering lines (TBD) | F106: Cymric oil & gas field | G106: 1B2 Oil & Natural Gas | H106: a | I106: 19 | J106: TBD
A107: S00124 | B107: 35.227174 | C107: -119.57836 | D107: Midway Sunset | E107: oil/gas unknown infrastucture | F107: Midway Sunset oil & gas field | G107: 1B2 Oil & Natural Gas | H107: a | I107: 0.52294576 | J107: 24.992999
A108: S00125 | B108: 35.248 | C108: -119.58079 | D108: Midway Sunset | E108: oil/gas gathering lines (TBD) | F108: Midway Sunset oil & gas field | G108: 1B2 Oil & Natural Gas | H108: a | I108: 19.53106 | J108: 474.3
A109: S00126 | B109: 35.253589 | C109: -119.58653 | D109: Midway Sunset | E109: oil/gas gathering lines (TBD) | F109: Midway Sunset oil & gas field | G109: 1B2 Oil & Natural Gas | H109: a | I109: 57.552922 | J109: 474.3
A110: S00127 | B110: 35.341929 | C110: -119.6461 | D110: Cymric | E110: oil/gas gathering lines (TBD) | F110: Cymric oil & gas field | G110: 1B2 Oil & Natural Gas | H110: a | I110: 4.3108393 | J110: 160.39317
A111: S00128 | B111: 35.429546 | C111: -119.69022 | D111: Cymric | E111: oil/gas unknown infrastucture | F111: Cymric oil & gas field | G111: 1B2 Oil & Natural Gas | H111: a | I111: 1.4661251 | J111: 71.569058
A112: S00129 | B112: 35.123597 | C112: -119.49907 | D112: Midway Sunset | E112: oil/gas tank | F112: Midway Sunset oil & gas field | G112: 1B2 Oil & Natural Gas | H112: a | I112: 0.6499975 | J112: 74.873293
A113: S00130 | B113: 35.11505 | C113: -119.467 | D113: Midway Sunset | E113: oil/gas gathering lines (TBD) | F113: Midway Sunset oil & gas field | G113: 1B2 Oil & Natural Gas | H113: c | I113: 0.31751156 | J113: 27.246462
A114: S00131 | B114: 35.041223 | C114: -119.38412 | D114: Midway Sunset | E114: oil/gas tank | F114: Midway Sunset oil & gas field | G114: 1B2 Oil & Natural Gas | H114: a | I114: 0.2718198 | J114: 38.37421
A115: S00132 | B115: 35.02705 | C115: -119.33289 | D115: Midway Sunset | E115: oil/gas tank | F115: Midway Sunset oil & gas field | G115: 1B2 Oil & Natural Gas | H115: a | I115: 0.074559359 | J115: 11.544696
A116: S00133 | B116: 35.061529 | C116: -119.39089 | D116: Midway Sunset | E116: oil/gas unknown infrastucture | F116: Midway Sunset oil & gas field | G116: 1B2 Oil & Natural Gas | H116: a | I116: 0.22048112 | J116: 31.304952
A117: S00134 | B117: 35.03322 | C117: -119.34375 | D117: Midway Sunset | E117: oil/gas tank | F117: Midway Sunset oil & gas field | G117: 1B2 Oil & Natural Gas | H117: a | I117: 0.43518004 | J117: 45.235384
A118: S00135 | B118: 35.045861 | C118: -119.34969 | D118: Hazelton (Kern County) | E118: dairy/manure | F118: TBD dairy | G118: 3A2 Manure Management | H118: a | I118: 0.33885865 | J118: 43.737398
... A126: S00150 | B126: 35.243762 | C126: -119.15739 | D126: Taft (Kern County) | E126: dairy/manure | F126: Bellanave Dairy | G126: 3A2 Manure Management | H126: a | I126: 0.54677034 | J126: 35.871019
A127: S00151 | B127: 35.2463 | C127: -119.14038 | D127: Taft (Kern County) | E127: dairy/manure | F127: MC Moo Farms Dairy | G127: 3A2 Manure Management | H127: a | I127: TBD | J127: TBD
A128: S00152 | B128: 35.901251 | C128: -119.31989 | D128: Tulare (Tulare County) | E128: dairy/manure | F128: South Creek Dairy | G128: 3A2 Manure Management | H128: a | I128: 29.230807 | J128: 493.40653
A129: S00153 | B129: 34.901527 | C129: -117.15996 | D129: Hinkley | E129: gas compressor | F129: Hinkley PG&E Compressor Station | G129: 1B2 Oil & Natural Gas | H129: a | I129: 34.343688 | J129: 499.47238
A130: S00154 | B130: 35.936802 | C130: -119.3479 | D130: Tulare (Tulare County) | E130: dairy/manure | F130: John Vander Poel Dairy | G130: 3A2 Manure Management | H130: a | I130: 0.347434 | J130: 83.354664
A131: S00155 | B131: 35.945509 | C131: -119.45872 | D131: Tulare (Tulare County) | E131: dairy/manure | F131: TBD dairy | G131: 3A2 Manure Management | H131: a | I131: 31.890437 | J131: 139
A132: S00156 | B132: 35.95933 | C132: -119.37216 | D132: Tulare (Tulare County) | E132: dairy/manure | F132: K & M Visser Dairy | G132: 3A2 Manure Management | H132: a | I132: 3.472518 | J132: 412.06068
A133: S00157 | B133: 35.972642 | C133: -119.23832 | D133: Tulare (Tulare County) | E133: dairy/manure | F133: Louie De Groot Dairy | G133: 3A2 Manure Management | H133: a | I133: 2.654892 | J133: 124.77981
A134: S00159 | B134: 35.972715 | C134: -119.35904 | D134: Tulare (Tulare County) | E134: dairy/manure | F134: Robert Vander Eyk Dairy | G134: 3A2 Manure Management | H134: a | I134: 8.9854419 | J134: 192.09373
A135: S00160 | B135: 35.987297 | C135: -119.32642 | D135: Tulare (Tulare County) | E135: dairy/manure | F135: Jer-Z- Boys Dairy #1 | G135: 3A2 Manure Management | H135: a | I135: 0.94755317 | J135: 51
A136: S00161 | B136: 35.995746 | C136: -119.22076 | D136: Tulare | E136: dairy/manure | F136: TBD dairy | G136: 3A2 Manure Management | H136: a | I136: 1.0656297 | J136: 109.20165
A137: S00162 | B137: 35.971095 | C137: -119.44006 | D137: Tulare (Tulare County) | E137: dairy/manure | F137: South Lakes Dairy | G137: 3A2 Manure Management | H137: a | I137: 0.96420926 | J137: 152.41063
A138: S00164 | B138: 35.973887 | C138: -119.43913 | D138: Tulare (Tulare County) | E138: dairy/manure | F138: South Lakes Dairy | G138: 3A2 Manure Management | H138: a | I138: 0.32169042 | J138: 33
A139: S00165 | B139: 36.015331 | C139: -119.22328 | D139: Tulare (Tulare County) | E139: dairy/manure | F139: Chris & John Jongsma Dairy | G139: 3A2 Manure Management | H139: a | I139: 24 | J139: TBD
...

Sheet IME plots
A1: Area (region or town; i.e. Honor Rancho or Taft) | B1: Candidate source type | C1: Candidate source details (if applicable) | D1: Sectors (IPCC) | E1: Selection crieria | F1: Mean IME (kg CH4) | G1: Mean fetch (plume length, m) | H1: linear mass density (g/m) | I1: flux (kg/hr) | J1: assumed wind speed (m/s) | V1: AKT: Links need to be updated
A2: Tulare (Tulare Complex) | B2: dairy/manure - digester | C2: Hilarides dairy | D2: 3A2 Manure Management | E2: a | F2: TBD | G2: TBD | I2: TBD | J2: 2
A3: Visalia (Tulare County) | B3: dairy/manure | C3: TBD dairy | D3: 3A2 Manure Management | E3: a | F3: TBD | G3: TBD | I3: TBD | J3: cum flux (kgCH4/hr) | L3: cum IME (kg) | M3: % of total | N3: cumulative (g/m) | O3: fraction point source (%) | P3: fraction CARB (%) | Q3: flux 1A1 Energy Industries | R3: 1B2 Oil & Natural Gas | S3: 3A2 Manure Management | T3: 3B2 Cropland | U3: 3B6 Other Land | V3: 4A1 Managed Waste Disposal Sites | W3: 4D1 Domestic Wastewater Treatment & Discharge | X3: Unknown | Y3: top facilities | Z3: kg/hr | AA3: fraction of point sources | AB3: fraction of SoCAB | AC3: fraction of state
A4: Visalia (Tulare County) | B4: dairy/manure | C4: TBD dairy | D4: 3A2 Manure Management | E4: a | F4: TBD | G4: TBD | I4: TBD | Q4: =IF(#REF!="1A1 Energy Industries",#REF!) -> #REF! | R4: =IF(#REF!="1B2 Oil & Natural Gas",#REF!) -> #REF! | S4: =IF(#REF!="3A2 Manure Management",#REF!) -> #REF! | T4: =IF(#REF!="3B2 Cropland",#REF!) -> #REF! | U4: =IF(#REF!="3B6 Other Land",#REF!) -> #REF! | V4: =IF(#REF!="4A1 Managed Waste Disposal Sites",#REF!) -> #REF! | W4: =IF(#REF!="4D1 Domestic Wastewater Treatment & Discharge",#REF!) -> #REF! | X4: =IF(#REF!="unknown",#REF!) -> #REF! | Y4: Sunshine Canyon Landfill | Z4: 3699.1767 | AA4: =Z4/#REF! -> #REF! | AB4: =Z4/40000 -> 0.092479418 | AC4: =Z4/#REF! -> #REF!
A5: Tulare (Tulare County) | B5: dairy/manure | C5: Valadao Dairy | D5: 3A2 Manure Management | E5: a | F5: TBD | G5: TBD | I5: TBD | Q5: =IF(#REF!="1A1 Energy Industries",#REF!) -> #REF! | R5: =IF(#REF!="1B2 Oil & Natural Gas",#REF!) -> #REF! | S5: =IF(#REF!="3A2 Manure Management",#REF!) -> #REF! | T5: =IF(#REF!="3B2 Cropland",#REF!) -> #REF! | U5: =IF(#REF!="3B6 Other Land",#REF!) -> #REF! | V5: =IF(#REF!="4A1 Managed Waste Disposal Sites",#REF!) -> #REF! | W5: =IF(#REF!="4D1 Domestic Wastewater Treatment & Discharge",#REF!) -> #REF! | X5: =IF(#REF!="unknown",#REF!) -> #REF! | Y5: Richmond Refinery | Z5: 3390.5472 | AA5: =Z5/#REF! -> #REF! | AB5: =Z5/40000 -> 0.08476368 | AC5: =Z5/#REF! -> #REF!
A6: Tulare (Tulare County) | B6: dairy/manure | C6: Manuel & Alda Lawrence Dairy | D6: 3A2 Manure Management | E6: a | F6: TBD | G6: TBD | I6: TBD | Q6: =IF(#REF!="1A1 Energy Industries",#REF!) -> #REF! | R6: =IF(#REF!="1B2 Oil & Natural Gas",#REF!) -> #REF! | S6: =IF(#REF!="3A2 Manure Management",#REF!) -> #REF! | T6: =IF(#REF!="3B2 Cropland",#REF!) -> #REF! | U6: =IF(#REF!="3B6 Other Land",#REF!) -> #REF! | V6: =IF(#REF!="4A1 Managed Waste Disposal Sites",#REF!) -> #REF! | W6: =IF(#REF!="4D1 Domestic Wastewater Treatment & Discharge",#REF!) -> #REF! | X6: =IF(#REF!="unknown",#REF!) -> #REF! | Y6: Kern River/Front oil & gas field | Z6: 2580.3207 | AA6: =Z6/#REF! -> #REF! | AB6: =Z6/40000 -> 0.064508017 | AC6: =Z6/#REF! -> #REF!
A7: Coalinga | B7: oil/gas waste lagoon | C7: Coalinga oil & gas field | D7: 1B2 Oil & Natural Gas | E7: a | F7: TBD | G7: TBD | I7: TBD | Q7: =IF(#REF!="1A1 Energy Industries",#REF!) -> #REF! | R7: =IF(#REF!="1B2 Oil & Natural Gas",#REF!) -> #REF! | S7: =IF(#REF!="3A2 Manure Management",#REF!) -> #REF! | T7: =IF(#REF!="3B2 Cropland",#REF!) -> #REF! | U7: =IF(#REF!="3B6 Other Land",#REF!) -> #REF! | V7: =IF(#REF!="4A1 Managed Waste Disposal Sites",#REF!) -> #REF! | W7: =IF(#REF!="4D1 Domestic Wastewater Treatment & Discharge",#REF!) -> #REF! | X7: =IF(#REF!="unknown",#REF!) -> #REF! | Y7: Curti Family Dairy | Z7: 2562.4508 | AA7: =Z7/#REF! -> #REF! | AB7: =Z7/40000 -> 0.064061269 | AC7: =Z7/#REF! -> #REF! | AD7: Curti family dairy flux is suspect
A8: Taft (Kern County) | B8: dairy/manure | C8: MC Moo Farms Dairy | D8: 3A2 Manure Management | E8: a | F8: TBD | G8: TBD | I8: TBD | Q8: =IF(#REF!="1A1 Energy Industries",#REF!) -> #REF! | R8: =IF(#REF!="1B2 Oil & Natural Gas",#REF!) -> #REF! | S8: =IF(#REF!="3A2 Manure Management",#REF!) -> #REF! | T8: =IF(#REF!="3B2 Cropland",#REF!) -> #REF! | U8: =IF(#REF!="3B6 Other Land",#REF!) -> #REF! | V8: =IF(#REF!="4A1 Managed Waste Disposal Sites",#REF!) -> #REF! | W8: =IF(#REF!="4D1 Domestic Wastewater Treatment & Discharge",#REF!) -> #REF! | X8: =IF(#REF!="unknown",#REF!) -> #REF! | Y8: Felicita Dairy | Z8: 2068.3933 | AA8: =Z8/#REF! -> #REF! | AB8: =Z8/40000 -> 0.051709832 | AC8: =Z8/#REF! -> #REF! | AD8: Felicita dairy flux is suspect
A9: Tulare (Tulare County) | B9: other livestock | C9: TBD | D9: 3A2 Manure Management | E9: a | F9: TBD | G9: TBD | I9: TBD | Q9: =IF(#REF!="1A1 Energy Industries",#REF!) -> #REF! | R9: =IF(#REF!="1B2 Oil & Natural Gas",#REF!) -> #REF! | S9: =IF(#REF!="3A2 Manure Management",#REF!) -> #REF! | T9: =IF(#REF!="3B2 Cropland",#REF!) -> #REF! | U9: =IF(#REF!="3B6 Other Land",#REF!) -> #REF! | V9: =IF(#REF!="4A1 Managed Waste Disposal Sites",#REF!) -> #REF! | W9: =IF(#REF!="4D1 Domestic Wastewater Treatment & Discharge",#REF!) -> #REF! | X9: =IF(#REF!="unknown",#REF!) -> #REF! | Y9: Torrance Refinery | Z9: 1440.7375 | AA9: =Z9/#REF! -> #REF! | AB9: =Z9/40000 -> 0.036018438 | AC9: =Z9/#REF! -> #REF! | AD9: appeared to spike to 3200 kg/hr during 10/11/2016t incident
A10: Tulare (Tulare County) | B10: dairy/manure | C10: TBD dairy | D10: 3A2 Manure Management | E10: a | F10: TBD | G10: TBD | I10: TBD | Q10: =IF(#REF!="1A1 Energy Industries",#REF!) -> #REF! | R10: =IF(#REF!="1B2 Oil & Natural Gas",#REF!) -> #REF! | S10: =IF(#REF!="3A2 Manure Management",#REF!) -> #REF! | T10: =IF(#REF!="3B2 Cropland",#REF!) -> #REF! | U10: =IF(#REF!="3B6 Other Land",#REF!) -> #REF! | V10: =IF(#REF!="4A1 Managed Waste Disposal Sites",#REF!) -> #REF! | W10: =IF(#REF!="4D1 Domestic Wastewater Treatment & Discharge",#REF!) -> #REF! | X10: =IF(#REF!="unknown",#REF!) -> #REF! | Y10: Pacific Rim Dairy (Digester) | Z10: 1426.3517 | AA10: =Z10/#REF! -> #REF! | AB10: =Z10/40000 -> 0.035658792 | AC10: =Z10/#REF! -> #REF!
A11: Tulare (Tulare County) | B11: dairy/manure | C11: Elk Creek Dairy | D11: 3A2 Manure Management | E11: a | F11: TBD | G11: TBD | I11: TBD | Q11: =IF(#REF!="1A1 Energy Industries",#REF!) -> #REF! | R11: =IF(#REF!="1B2 Oil & Natural Gas",#REF!) -> #REF! | S11: =IF(#REF!="3A2 Manure Management",#REF!) -> #REF! | T11: =IF(#REF!="3B2 Cropland",#REF!) -> #REF! | U11: =IF(#REF!="3B6 Other Land",#REF!) -> #REF! | V11: =IF(#REF!="4A1 Managed Waste Disposal Sites",#REF!) -> #REF! | W11: =IF(#REF!="4D1 Domestic Wastewater Treatment & Discharge",#REF!) -> #REF! | X11: =IF(#REF!="unknown",#REF!) -> #REF! | Y11: Midway Sunset oil & gas field | Z11: 1341 | AA11: =Z11/#REF! -> #REF! | AB11: =Z11/40000 -> 0.033525 | AC11: =Z11/#REF! -> #REF!
A12: Tulare (Tulare Complex) | B12: dairy/manure | C12: Triple V Dairy | D12: 3A2 Manure Management | E12: a | F12: TBD | G12: TBD | I12: TBD | Q12: =IF(#REF!="1A1 Energy Industries",#REF!) -> #REF! | R12: =IF(#REF!="1B2 Oil & Natural Gas",#REF!) -> #REF! | S12: =IF(#REF!="3A2 Manure Management",#REF!) -> #REF! | T12: =IF(#REF!="3B2 Cropland",#REF!) -> #REF! | U12: =IF(#REF!="3B6 Other Land",#REF!) -> #REF! | V12: =IF(#REF!="4A1 Managed Waste Disposal Sites",#REF!) -> #REF! | W12: =IF(#REF!="4D1 Domestic Wastewater Treatment & Discharge",#REF!) -> #REF! | X12: =IF(#REF!="unknown",#REF!) -> #REF! | Y12: River Oaks Dairy | Z12: 1295.0816 | AA12: =Z12/#REF! -> #REF! | AB12: =Z12/40000 -> 0.032377041 | AC12: =Z12/#REF! -> #REF!
A13: Tulare (Tulare County) | B13: dairy/manure | C13: Airoso Dairy | D13: 3A2 Manure Management | E13: a | F13: TBD | G13: TBD | I13: TBD | Q13: =IF(#REF!="1A1 Energy Industries",#REF!) -> #REF! | R13: =IF(#REF!="1B2 Oil & Natural Gas",#REF!) -> #REF! | S13: =IF(#REF!="3A2 Manure Management",#REF!) -> #REF! | T13: =IF(#REF!="3B2 Cropland",#REF!) -> #REF! | U13: =IF(#REF!="3B6 Other Land",#REF!) -> #REF! | V13: =IF(#REF!="4A1 Managed Waste Disposal Sites",#REF!) -> #REF! | W13: =IF(#REF!="4D1 Domestic Wastewater Treatment & Discharge",#REF!) -> #REF! | X13: =IF(#REF!="unknown",#REF!) -> #REF! | Y13: Visalia DS landfill | Z13: 1277 | AA13: =Z13/#REF! -> #REF! | AB13: =Z13/40000 -> 0.031925 | AC13: =Z13/#REF! -> #REF! | AD13: Visalia flux is suspect
A14: McKittrick | B14: oil/gas unknown infrastucture | C14: McKittrick oil & gas field | D14: 1B2 Oil & Natural Gas | E14: a | F14: TBD | G14: TBD | I14: TBD | Q14: =IF(#REF!="1A1 Energy Industries",#REF!) -> #REF! | R14: =IF(#REF!="1B2 Oil & Natural Gas",#REF!) -> #REF! | S14: =IF(#REF!="3A2 Manure Management",#REF!) -> #REF! | T14: =IF(#REF!="3B2 Cropland",#REF!) -> #REF! | U14: =IF(#REF!="3B6 Other Land",#REF!) -> #REF! | V14: =IF(#REF!="4A1 Managed Waste Disposal Sites",#REF!) -> #REF! | W14: =IF(#REF!="4D1 Domestic Wastewater Treatment & Discharge",#REF!) -> #REF! | X14: =IF(#REF!="unknown",#REF!) -> #REF! | Y14: Harris meat plant | Z14: 1215.2727 | AA14: =Z14/#REF! -> #REF! | AB14: =Z14/40000 -> 0.030381818 | AC14: =Z14/#REF! -> #REF!
A15: Kern County | B15: oil/gas pumpjack | C15: Poso Creek oil & gas field | D15: 1B2 Oil & Natural Gas | E15: c | F15: TBD | G15: TBD | I15: TBD | Q15: =IF(#REF!="1A1 Energy Industries",#REF!) -> #REF! | R15: =IF(#REF!="1B2 Oil & Natural Gas",#REF!) -> #REF! | S15: =IF(#REF!="3A2 Manure Management",#REF!) -> #REF! | T15: =IF(#REF!="3B2 Cropland",#REF!) -> #REF! | U15: =IF(#REF!="3B6 Other Land",#REF!) -> #REF! | V15: =IF(#REF!="4A1 Managed Waste Disposal Sites",#REF!) -> #REF! | W15: =IF(#REF!="4D1 Domestic Wastewater Treatment & Discharge",#REF!) -> #REF! | X15: =IF(#REF!="unknown",#REF!) -> #REF! | Y15: Four Star Dairy | Z15: 1182.7147 | AA15: =Z15/#REF! -> #REF! | AB15: =Z15/40000 -> 0.029567867 | AC15: =Z15/#REF! -> #REF!
A16: Kern River oil & gas field | B16: oil/gas pumpjack | C16: Poso Creek oil & gas field | D16: 1B2 Oil & Natural Gas | E16: c | F16: TBD | G16: TBD | I16: TBD | Q16: =IF(#REF!="1A1 Energy Industries",#REF!) -> #REF! | R16: =IF(#REF!="1B2 Oil & Natural Gas",#REF!) -> #REF! | S16: =IF(#REF!="3A2 Manure Management",#REF!) -> #REF! | T16: =IF(#REF!="3B2 Cropland",#REF!) -> #REF! | U16: =IF(#REF!="3B6 Other Land",#REF!) -> #REF! | V16: =IF(#REF!="4A1 Managed Waste Disposal Sites",#REF!) -> #REF! | W16: =IF(#REF!="4D1 Domestic Wastewater Treatment & Discharge",#REF!) -> #REF! | X16: =IF(#REF!="unknown",#REF!) -> #REF! | Y16: Double J Dairy | Z16: 1130.5844 | AA16: =Z16/#REF! -> #REF! | AB16: =Z16/40000 -> 0.02826461 | AC16: =Z16/#REF! -> #REF!
A17: Kern County | B17: oil/gas pumpjack | C17: Poso Creek oil & gas field | D17: 1B2 Oil & Natural Gas | E17: c | F17: TBD | G17: TBD | I17: TBD | N17: =#REF!+#REF!+#REF! -> #REF! | Q17: =IF(#REF!="1A1 Energy Industries",#REF!) -> #REF! | R17: =IF(#REF!="1B2 Oil & Natural Gas",#REF!) -> #REF! | S17: =IF(#REF!="3A2 Manure Management",#REF!) -> #REF! | T17: =IF(#REF!="3B2 Cropland",#REF!) -> #REF! | U17: =IF(#REF!="3B6 Other Land",#REF!) -> #REF! | V17: =IF(#REF!="4A1 Managed Waste Disposal Sites",#REF!) -> #REF! | W17: =IF(#REF!="4D1 Domestic Wastewater Treatment & Discharge",#REF!) -> #REF! | X17: =IF(#REF!="unknown",#REF!) -> #REF! | Y17: Four Star Dairy | Z17: 1096.8927 | AA17: =Z17/#REF! -> #REF! | AB17: =Z17/40000 -> 0.027422317 | AC17: =Z17/#REF! -> #REF!
A18: Kern County | B18: oil/gas pumpjack | C18: Poso Creek oil & gas field | D18: 1B2 Oil & Natural Gas | E18: a | F18: TBD | G18: TBD | I18: TBD | Q18: =IF(#REF!="1A1 Energy Industries",#REF!) -> #REF! | R18: =IF(#REF!="1B2 Oil & Natural Gas",#REF!) -> #REF! | S18: =IF(#REF!="3A2 Manure Management",#REF!) -> #REF! | T18: =IF(#REF!="3B2 Cropland",#REF!) -> #REF! | U18: =IF(#REF!="3B6 Other Land",#REF!) -> #REF! | V18: =IF(#REF!="4A1 Managed Waste Disposal Sites",#REF!) -> #REF! | W18: =IF(#REF!="4D1 Domestic Wastewater Treatment & Discharge",#REF!) -> #REF! | X18: =IF(#REF!="unknown",#REF!) -> #REF! | Y18: Elk Hills oil & gas field | Z18: 1064.5946 | AA18: =Z18/#REF! -> #REF! | AB18: =Z18/40000 -> 0.026614864 | AC18: =Z18/#REF! -> #REF!
A19: Kern County | B19: oil/gas pumpjack | C19: Poso Creek oil & gas field | D19: 1B2 Oil & Natural Gas | E19: c | F19: TBD | G19: TBD | I19: TBD | Q19: =IF(#REF!="1A1 Energy Industries",#REF!) -> #REF! | R19: =IF(#REF!="1B2 Oil & Natural Gas",#REF!) -> #REF! | S19: =IF(#REF!="3A2 Manure Management",#REF!) -> #REF! | T19: =IF(#REF!="3B2 Cropland",#REF!) -> #REF! | U19: =IF(#REF!="3B6 Other Land",#REF!) -> #REF! | V19: =IF(#REF!="4A1 Managed Waste Disposal Sites",#REF!) -> #REF! | W19: =IF(#REF!="4D1 Domestic Wastewater Treatment & Discharge",#REF!) -> #REF! | X19: =IF(#REF!="unknown",#REF!) -> #REF! | Y19: Maple Dairy | Z19: 923.67126 | AA19: =Z19/#REF! -> #REF! | AB19: =Z19/40000 -> 0.023091781 | AC19: =Z19/#REF! -> #REF!
A20: Kern River | B20: oil/gas unknown infrastucture | C20: Poso Creek oil & gas field | D20: 1B2 Oil & Natural Gas | E20: c | F20: TBD | G20: TBD | I20: TBD | Q20: =IF(#REF!="1A1 Energy Industries",#REF!) -> #REF! | R20: =IF(#REF!="1B2 Oil & Natural Gas",#REF!) -> #REF! | S20: =IF(#REF!="3A2 Manure Management",#REF!) -> #REF! | T20: =IF(#REF!="3B2 Cropland",#REF!) -> #REF! | U20: =IF(#REF!="3B6 Other Land",#REF!) -> #REF! | V20: =IF(#REF!="4A1 Managed Waste Disposal Sites",#REF!) -> #REF! | W20: =IF(#REF!="4D1 Domestic Wastewater Treatment & Discharge",#REF!) -> #REF! | X20: =IF(#REF!="unknown",#REF!) -> #REF! | Y20: total from top facilities | Z20: =SUM(Z1:Z18) -> 26771.119 | AA20: =Z20/#REF! -> #REF! | AB20: =Z20/40000 -> 0.66927796 | AC20: =Z20/#REF! -> #REF!
A21: Kern County | B21: oil/gas pumpjack | C21: Poso Creek oil & gas field | D21: 1B2 Oil & Natural Gas | E21: c | F21: TBD | G21: TBD | I21: TBD | Q21: =IF(#REF!="1A1 Energy Industries",#REF!) -> #REF! | R21: =IF(#REF!="1B2 Oil & Natural Gas",#REF!) -> #REF! | S21: =IF(#REF!="3A2 Manure Management",#REF!) -> #REF! | T21: =IF(#REF!="3B2 Cropland",#REF!) -> #REF! | U21: =IF(#REF!="3B6 Other Land",#REF!) -> #REF! | V21: =IF(#REF!="4A1 Managed Waste Disposal Sites",#REF!) -> #REF! | W21: =IF(#REF!="4D1 Domestic Wastewater Treatment & Discharge",#REF!) -> #REF! | X21: =IF(#REF!="unknown",#REF!) -> #REF!
A22: Richmond | B22: refinery | C22: Chevron refinery | D22: 1A1 Energy Industries | E22: a | F22: 233.84317 | G22: 496.5779 | I22: TBD | Q22: =IF(#REF!="1A1 Energy Industries",#REF!) -> #REF! | R22: =IF(#REF!="1B2 Oil & Natural Gas",#REF!) -> #REF! | S22: =IF(#REF!="3A2 Manure Management",#REF!) -> #REF! | T22: =IF(#REF!="3B2 Cropland",#REF!) -> #REF! | U22: =IF(#REF!="3B6 Other Land",#REF!) -> #REF! | V22: =IF(#REF!="4A1 Managed Waste Disposal Sites",#REF!) -> #REF! | W22: =IF(#REF!="4D1 Domestic Wastewater Treatment & Discharge",#REF!) -> #REF! | X22: =IF(#REF!="unknown",#REF!) -> #REF!
A23: Tulare (Tulare County) | B23: dairy/manure | C23: Curti Family Inc. | D23: 3A2 Manure Management | E23: a | F23: 176.99482 | G23: 497.32183 | I23: TBD | Q23: =IF(#REF!="1A1 Energy Industries",#REF!) -> #REF! | R23: =IF(#REF!="1B2 Oil & Natural Gas",#REF!) -> #REF! | S23: =IF(#REF!="3A2 Manure Management",#REF!) -> #REF! | T23: =IF(#REF!="3B2 Cropland",#REF!) -> #REF! | U23: =IF(#REF!="3B6 Other Land",#REF!) -> #REF! | V23: =IF(#REF!="4A1 Managed Waste Disposal Sites",#REF!) -> #REF! | W23: =IF(#REF!="4D1 Domestic Wastewater Treatment & Discharge",#REF!) -> #REF! | X23: =IF(#REF!="unknown",#REF!) -> #REF!
A24: Tulare (Tulare County) | B24: dairy/manure | C24: Felicita Dairy | D24: 3A2 Manure Management | E24: a | F24: 142.86904 | G24: 497.32183 | I24: TBD | Q24: =IF(#REF!="1A1 Energy Industries",#REF!) -> #REF! | R24: =IF(#REF!="1B2 Oil & Natural Gas",#REF!) -> #REF! | S24: =IF(#REF!="3A2 Manure Management",#REF!) -> #REF! | T24: =IF(#REF!="3B2 Cropland",#REF!) -> #REF! | U24: =IF(#REF!="3B6 Other Land",#REF!) -> #REF! | V24: =IF(#REF!="4A1 Managed Waste Disposal Sites",#REF!) -> #REF! | W24: =IF(#REF!="4D1 Domestic Wastewater Treatment & Discharge",#REF!) -> #REF! | X24: =IF(#REF!="unknown",#REF!) -> #REF!
A25: Tulare (Tulare County) | B25: dairy/manure | C25: TBD dairy | D25: 3A2 Manure Management | E25: a | F25: 125 | G25: TBD | I25: TBD | Q25: =IF(#REF!="1A1 Energy Industries",#REF!) -> #REF! | R25: =IF(#REF!="1B2 Oil & Natural Gas",#REF!) -> #REF! | S25: =IF(#REF!="3A2 Manure Management",#REF!) -> #REF! | T25: =IF(#REF!="3B2 Cropland",#REF!) -> #REF! | U25: =IF(#REF!="3B6 Other Land",#REF!) -> #REF! | V25: =IF(#REF!="4A1 Managed Waste Disposal Sites",#REF!) -> #REF! | W25: =IF(#REF!="4D1 Domestic Wastewater Treatment & Discharge",#REF!) -> #REF! | X25: =IF(#REF!="unknown",#REF!) -> #REF!
A26: Tulare (Tulare County) | B26: dairy/manure - digester | C26: Pacific Rim Dairy Digester | D26: 3A2 Manure Management | E26: c | F26: 94.627338 | G26: 491.89476 | I26: TBD | Q26: =IF(#REF!="1A1 Energy Industries",#REF!) -> #REF! | R26: =IF(#REF!="1B2 Oil & Natural Gas",#REF!) -> #REF! | S26: =IF(#REF!="3A2 Manure Management",#REF!) -> #REF! | T26: =IF(#REF!="3B2 Cropland",#REF!) -> #REF! | U26: =IF(#REF!="3B6 Other Land",#REF!) -> #REF! | V26: =IF(#REF!="4A1 Managed Waste Disposal Sites",#REF!) -> #REF! | W26: =IF(#REF!="4D1 Domestic Wastewater Treatment & Discharge",#REF!) -> #REF! | X26: =IF(#REF!="unknown",#REF!) -> #REF!
A27: Torrance | B27: oil/gas stack | C27: ExxonMobil Oil Refinery | D27: 1A1 Energy Industries | E27: c | F27: 93.842878 | G27: 463.3602 | I27: TBD | Q27: =IF(#REF!="1A1 Energy Industries",#REF!) -> #REF! | R27: =IF(#REF!="1B2 Oil & Natural Gas",#REF!) -> #REF! | S27: =IF(#REF!="3A2 Manure Management",#REF!) -> #REF! | T27: =IF(#REF!="3B2 Cropland",#REF!) -> #REF! | U27: =IF(#REF!="3B6 Other Land",#REF!) -> #REF! | V27: =IF(#REF!="4A1 Managed Waste Disposal Sites",#REF!) -> #REF! | W27: =IF(#REF!="4D1 Domestic Wastewater Treatment & Discharge",#REF!) -> #REF! | X27: =IF(#REF!="unknown",#REF!) -> #REF!
A28: Visalia (Tulare County) | B28: dairy/manure | C28: River Oaks Dairy | D28: 3A2 Manure Management | E28: a | F28: 89.850744 | G28: 499.52477 | I28: TBD | Q28: =IF(#REF!="1A1 Energy Industries",#REF!) -> #REF! | R28: =IF(#REF!="1B2 Oil & Natural Gas",#REF!) -> #REF! | S28: =IF(#REF!="3A2 Manure Management",#REF!) -> #REF! | T28: =IF(#REF!="3B2 Cropland",#REF!) -> #REF! | U28: =IF(#REF!="3B6 Other Land",#REF!) -> #REF! | V28: =IF(#REF!="4A1 Managed Waste Disposal Sites",#REF!) -> #REF! | W28: =IF(#REF!="4D1 Domestic Wastewater Treatment & Discharge",#REF!) -> #REF! | X28: =IF(#REF!="unknown",#REF!) -> #REF!
A29: Sunshine Canyon | B29: landfill | C29: Sunshine Canyon | D29: 4A1 Managed Waste Disposal Sites | E29: c | F29: 87.658267 | G29: 420.8917 | I29: TBD | Q29: =IF(#REF!="1A1 Energy Industries",#REF!) -> #REF! | R29: =IF(#REF!="1B2 Oil & Natural Gas",#REF!) -> #REF! | S29: =IF(#REF!="3A2 Manure Management",#REF!) -> #REF! | T29: =IF(#REF!="3B2 Cropland",#REF!) -> #REF! | U29: =IF(#REF!="3B6 Other Land",#REF!) -> #REF! | V29: =IF(#REF!="4A1 Managed Waste Disposal Sites",#REF!) -> #REF! | W29: =IF(#REF!="4D1 Domestic Wastewater Treatment & Discharge",#REF!) -> #REF! | X29: =IF(#REF!="unknown",#REF!) -> #REF!
A30: Kern Lake (Kern County) | B30: dairy/manure - digester | C30: Bidart Dairy No. 2 | D30: 3A2 Manure Management | E30: a | F30: 83.114763 | G30: 456.15787 | I30: TBD | Q30: =IF(#REF!="1A1 Energy Industries",#REF!) -> #REF! | R30: =IF(#REF!="1B2 Oil & Natural Gas",#REF!) -> #REF! | S30: =IF(#REF!="3A2 Manure Management",#REF!) -> #REF! | T30: =IF(#REF!="3B2 Cropland",#REF!) -> #REF! | U30: =IF(#REF!="3B6 Other Land",#REF!) -> #REF! | V30: =IF(#REF!="4A1 Managed Waste Disposal Sites",#REF!) -> #REF! | W30: =IF(#REF!="4D1 Domestic Wastewater Treatment & Discharge",#REF!) -> #REF! | X30: =IF(#REF!="unknown",#REF!) -> #REF!
A31: Tulare | B31: landfill | C31: Visalia DS | D31: 4A1 Managed Waste Disposal Sites | E31: a | F31: 80.816156 | G31: 455.58622 | H31: =F31*1000/G31 -> 177.38938 | I31: =F31*$J$2/G31*3600 -> 1277.2035 | J31: =I31 -> 1277.2035 | K31: =J31/J$336 -> 0.019427733 | L31: =F31 -> 80.816156 | M31: =L31/L$335 -> 0.029848978 | N31: =H31 -> 177.38938 | O31: =N31/N$336 -> #DIV/0! | Q31: =IF(#REF!="1A1 Energy Industries",#REF!) -> #REF! | R31: =IF(#REF!="1B2 Oil & Natural Gas",#REF!) -> #REF! | S31: =IF(#REF!="3A2 Manure Management",#REF!) -> #REF! | T31: =IF(#REF!="3B2 Cropland",#REF!) -> #REF! | U31: =IF(#REF!="3B6 Other Land",#REF!) -> #REF! | V31: =IF(#REF!="4A1 Managed Waste Disposal Sites",#REF!) -> #REF! | W31: =IF(#REF!="4D1 Domestic Wastewater Treatment & Discharge",#REF!) -> #REF! | X31: =IF(#REF!="unknown",#REF!) -> #REF!
A32: Visalia (Tulare County) | B32: dairy/manure | C32: Four Star Dairy | D32: 3A2 Manure Management | E32: a | F32: 80.5012 | G32: 490.06632 | H32: =F32*1000/G32 -> 164.26593 | I32: =F32*$J$2/G32*3600 -> 1182.7147 | J32: =J31+I32 -> 2459.9182 | K32: =J32/J$336 -> 0.037418182 | L32: =L31+F32 -> 161.31736 | M32: =L32/L$335 -> 0.059581628 | N32: =N31+H32 -> 341.65531 | O32: =N32/N$336 -> #DIV/0! | P32: =N32/#REF! -> #REF! | Q32: =IF(#REF!="1A1 Energy Industries",#REF!) -> #REF! | R32: =IF(#REF!="1B2 Oil & Natural Gas",#REF!) -> #REF! | S32: =IF(#REF!="3A2 Manure Management",#REF!) -> #REF! | T32: =IF(#REF!="3B2 Cropland",#REF!) -> #REF! | U32: =IF(#REF!="3B6 Other Land",#REF!) -> #REF! | V32: =IF(#REF!="4A1 Managed Waste Disposal Sites",#REF!) -> #REF! | W32: =IF(#REF!="4D1 Domestic Wastewater Treatment & Discharge",#REF!) -> #REF! | X32: =IF(#REF!="unknown",#REF!) -> #REF!
A33: Kern County | B33: oil/gas unknown infrastucture | C33: Bellridge oil & gas field | D33: 1B2 Oil & Natural Gas | E33: a | F33: 79 | G33: TBD | J33: =J32+I33 -> 2459.9182 | K33: =J33/J$336 -> 0.037418182 | L33: =L32+F33 -> 240.31736 | M33: =L33/L$335 -> 0.088759819 | N33: =N32+H33 -> 341.65531 | O33: =N33/N$336 -> #DIV/0! | P33: =N33/#REF! -> #REF! | Q33: =IF(#REF!="1A1 Energy Industries",#REF!) -> #REF! | R33: =IF(#REF!="1B2 Oil & Natural Gas",#REF!) -> #REF! | S33: =IF(#REF!="3A2 Manure Management",#REF!) -> #REF! | T33: =IF(#REF!="3B2 Cropland",#REF!) -> #REF! | U33: =IF(#REF!="3B6 Other Land",#REF!) -> #REF! | V33: =IF(#REF!="4A1 Managed Waste Disposal Sites",#REF!) -> #REF! | W33: =IF(#REF!="4D1 Domestic Wastewater Treatment & Discharge",#REF!) -> #REF! | X33: =IF(#REF!="unknown",#REF!) -> #REF!
A34: Kingsburg (Fresno County) | B34: other livestock | C34: Harris Ranch meat plant | D34: unknown | E34: a | F34: 78.844898 | G34: 467.12418 | H34: =F34*1000/G34 -> 168.78788 | I34: =F34*$J$2/G34*3600 -> 1215.2727 | J34: =J33+I34 -> 3675.1909 | K34: =J34/J$336 -> 0.055903875 | L34: =L33+F34 -> 319.16225 | M34: =L34/L$335 -> 0.11788072 | N34: =N33+H34 -> 510.44318 | O34: =N34/N$336 -> #DIV/0! | P34: =N34/#REF! -> #REF! | Q34: =IF(#REF!="1A1 Energy Industries",#REF!) -> #REF! | R34: =IF(#REF!="1B2 Oil & Natural Gas",#REF!) -> #REF! | S34: =IF(#REF!="3A2 Manure Management",#REF!) -> #REF! | T34: =IF(#REF!="3B2 Cropland",#REF!) -> #REF! | U34: =IF(#REF!="3B6 Other Land",#REF!) -> #REF! | V34: =IF(#REF!="4A1 Managed Waste Disposal Sites",#REF!) -> #REF! | W34: =IF(#REF!="4D1 Domestic Wastewater Treatment & Discharge",#REF!) -> #REF! | X34: =IF(#REF!="unknown",#REF!) -> #REF!
A35: Tulare (Tulare County) | B35: dairy/manure | C35: Double J Dairy | D35: 3A2 Manure Management | E35: a | F35: 76.612578 | G35: 487.89861 | H35: =F35*1000/G35 -> 157.02561 | I35: =F35*$J$2/G35*3600 -> 1130.5844 | J35: =J34+I35 -> 4805.7753 | K35: =J35/J$336 -> 0.073101363 | L35: =L34+F35 -> 395.77483 | M35: =L35/L$335 -> 0.14617713 | N35: =N34+H35 -> 667.4688 | O35: =N35/N$336 -> #DIV/0! | P35: =N35/#REF! -> #REF! | Q35: =IF(#REF!="1A1 Energy Industries",#REF!) -> #REF! | R35: =IF(#REF!="1B2 Oil & Natural Gas",#REF!) -> #REF! | S35: =IF(#REF!="3A2 Manure Management",#REF!) -> #REF! | T35: =IF(#REF!="3B2 Cropland",#REF!) -> #REF! | U35: =IF(#REF!="3B6 Other Land",#REF!) -> #REF! | V35: =IF(#REF!="4A1 Managed Waste Disposal Sites",#REF!) -> #REF! | W35: =IF(#REF!="4D1 Domestic Wastewater Treatment & Discharge",#REF!) -> #REF! | X35: =IF(#REF!="unknown",#REF!) -> #REF!
A36: Visalia (Tulare County) | B36: dairy/manure | C36: Four Star Dairy | D36: 3A2 Manure Management | E36: a | F36: 74.659745 | G36: 490.06632 | H36: =F36*1000/G36 -> 152.34621 | I36: =F36*$J$2/G36*3600 -> 1096.8927 | J36: =J35+I36 -> 5902.668 | K36: =J36/J$336 -> 0.089786361 | L36: =L35+F36 -> 470.43458 | M36: =L36/L$335 -> 0.17375228 | N36: =N35+H36 -> 819.815 | O36: =N36/N$336 -> #DIV/0! | P36: =N36/#REF! -> #REF! | Q36: =IF(#REF!="1A1 Energy Industries",#REF!) -> #REF! | R36: =IF(#REF!="1B2 Oil & Natural Gas",#REF!) -> #REF! | S36: =IF(#REF!="3A2 Manure Management",#REF!) -> #REF! | T36: =IF(#REF!="3B2 Cropland",#REF!) -> #REF! | U36: =IF(#REF!="3B6 Other Land",#REF!) -> #REF! | V36: =IF(#REF!="4A1 Managed Waste Disposal Sites",#REF!) -> #REF! | W36: =IF(#REF!="4D1 Domestic Wastewater Treatment & Discharge",#REF!) -> #REF! | X36: =IF(#REF!="unknown",#REF!) -> #REF!
A37: Sunshine Canyon | B37: landfill | C37: Sunshine Canyon | D37: 4A1 Managed Waste Disposal Sites | E37: c | F37: 72.190172 | G37: 485.1471 | H37: =F37*1000/G37 -> 148.80058 | I37: =F37*$J$2/G37*3600 -> 1071.3642 | J37: =J36+I37 -> 6974.0322 | K37: =J37/J$336 -> 0.10608304 | L37: =L36+F37 -> 542.62475 | M37: =L37/L$335 -> 0.2004153 | N37: =N36+H37 -> 968.61559 | O37: =N37/N$336 -> #DIV/0! | P37: =N37/#REF! -> #REF! | Q37: =IF(#REF!="1A1 Energy Industries",#REF!) -> #REF! | R37: =IF(#REF!="1B2 Oil & Natural Gas",#REF!) -> #REF! | S37: =IF(#REF!="3A2 Manure Management",#REF!) -> #REF! | T37: =IF(#REF!="3B2 Cropland",#REF!) -> #REF! | U37: =IF(#REF!="3B6 Other Land",#REF!) -> #REF! | V37: =IF(#REF!="4A1 Managed Waste Disposal Sites",#REF!) -> #REF! | W37: =IF(#REF!="4D1 Domestic Wastewater Treatment & Discharge",#REF!) -> #REF! | X37: =IF(#REF!="unknown",#REF!) -> #REF!
A38: Sunshine Canyon | B38: landfill | C38: Sunshine Canyon | D38: 4A1 Managed Waste Disposal Sites | E38: c | F38: 66.314182 | G38: 432.53898 | H38: =F38*1000/G38 -> 153.31377 | I38: =F38*$J$2/G38*3600 -> 1103.8591 | J38: =J37+I38 -> 8077.8914 | K38: =J38/J$336 -> 0.12287401 | L38: =L37+F38 -> 608.93893 | M38: =L38/L$335 -> 0.22490806 | N38: =N37+H38 -> 1121.9294 | O38: =N38/N$336 -> #DIV/0! | P38: =N38/#REF! -> #REF! | Q38: =IF(#REF!="1A1 Energy Industries",#REF!) -> #REF! | R38: =IF(#REF!="1B2 Oil & Natural Gas",#REF!) -> #REF! | S38: =IF(#REF!="3A2 Manure Management",#REF!) -> #REF! | T38: =IF(#REF!="3B2 Cropland",#REF!) -> #REF! | U38: =IF(#REF!="3B6 Other Land",#REF!) -> #REF! | V38: =IF(#REF!="4A1 Managed Waste Disposal Sites",#REF!) -> #REF! | W38: =IF(#REF!="4D1 Domestic Wastewater Treatment & Discharge",#REF!) -> #REF! | X38: =IF(#REF!="unknown",#REF!) -> #REF!
A39: Visalia (Tulare County) | B39: dairy/manure | C39: Maple Dairy | D39: 3A2 Manure Management | E39: a | F39: 60.225837 | G39: 469.45926 | H39: =F39*1000/G39 -> 128.28767 | I39: =F39*$J$2/G39*3600 -> 923.67126 | J39: =J38+I39 -> 9001.5627 | K39: =J39/J$336 -> 0.13692411 | L39: =L38+F39 -> 669.16477 | M39: =L39/L$335 -> 0.24715212 | N39: =N38+H39 -> 1250.217 | O39: =N39/N$336 -> #DIV/0! | P39: =N39/#REF! -> #REF! | Q39: =IF(#REF!="1A1 Energy Industries",#REF!) -> #REF! | R39: =IF(#REF!="1B2 Oil & Natural Gas",#REF!) -> #REF! | S39: =IF(#REF!="3A2 Manure Management",#REF!) -> #REF! | T39: =IF(#REF!="3B2 Cropland",#REF!) -> #REF! | U39: =IF(#REF!="3B6 Other Land",#REF!) -> #REF! | V39: =IF(#REF!="4A1 Managed Waste Disposal Sites",#REF!) -> #REF! | W39: =IF(#REF!="4D1 Domestic Wastewater Treatment & Discharge",#REF!) -> #REF! | X39: =IF(#REF!="unknown",#REF!) -> #REF!
A40: Midway Sunset | B40: oil/gas gathering lines (TBD) | C40: Midway Sunset oil & gas field | D40: 1B2 Oil & Natural Gas | E40: a | F40: 57.552922 | G40: 474.3 | H40: =F40*1000/G40 -> 121.34287 | I40: =F40*$J$2/G40*3600 -> 873.66865 | J40: =J39+I40 -> 9875.2313 | K40: =J40/J$336 -> 0.15021361 | L40: =L39+F40 -> 726.71769 | M40: =L40/L$335 -> 0.26840896 | N40: =N39+H40 -> 1371.5599 | O40: =N40/N$336 -> #DIV/0! | P40: =N40/#REF! -> #REF! | Q40: =IF(#REF!="1A1 Energy Industries",#REF!) -> #REF! | R40: =IF(#REF!="1B2 Oil & Natural Gas",#REF!) -> #REF! | S40: =IF(#REF!="3A2 Manure Management",#REF!) -> #REF! | T40: =IF(#REF!="3B2 Cropland",#REF!) -> #REF! | U40: =IF(#REF!="3B6 Other Land",#REF!) -> #REF! | V40: =IF(#REF!="4A1 Managed Waste Disposal Sites",#REF!) -> #REF! | W40: =IF(#REF!="4D1 Domestic Wastewater Treatment & Discharge",#REF!) -> #REF! | X40: =IF(#REF!="unknown",#REF!) -> #REF!
A41: Honor Rancho | B41: gas compressor | C41: comperssor part of main facility | D41: 1B2 Oil & Natural Gas | E41: c | F41: 54.369131 | G41: 448.7302 | H41: =F41*1000/G41 -> 121.16218 | I41: =F41*$J$2/G41*3600 -> 872.36771 | J41: =J40+I41 -> 10747.599 | K41: =J41/J$336 -> 0.16348333 | L41: =L40+F41 -> 781.08682 | M41: =L41/L$335 -> 0.28848988 | N41: =N40+H41 -> 1492.7221 | O41: =N41/N$336 -> #DIV/0! | P41: =N41/#REF! -> #REF! | Q41: =IF(#REF!="1A1 Energy Industries",#REF!) -> #REF! | R41: =IF(#REF!="1B2 Oil & Natural Gas",#REF!) -> #REF! | S41: =IF(#REF!="3A2 Manure Management",#REF!) -> #REF! | T41: =IF(#REF!="3B2 Cropland",#REF!) -> #REF! | U41: =IF(#REF!="3B6 Other Land",#REF!) -> #REF! | V41: =IF(#REF!="4A1 Managed Waste Disposal Sites",#REF!) -> #REF! | W41: =IF(#REF!="4D1 Domestic Wastewater Treatment & Discharge",#REF!) -> #REF! | X41: =IF(#REF!="unknown",#REF!) -> #REF!
A42: Tulare (Tulare County) | B42: dairy/manure | C42: S & S Dairy | D42: 3A2 Manure Management | E42: a | F42: 53.620254 | G42: 498.6231 | H42: =F42*1000/G42 -> 107.53664 | I42: =F42*$J$2/G42*3600 -> 774.26382 | J42: =J41+I42 -> 11521.863 | K42: =J42/J$336 -> 0.17526077 | L42: =L41+F42 -> 834.70708 | M42: =L42/L$335 -> 0.30829421 | N42: =N41+H42 -> 1600.2587 | O42: =N42/N$336 -> #DIV/0! | P42: =N42/#REF! -> #REF! | Q42: =IF(#REF!="1A1 Energy Industries",#REF!) -> #REF! | R42: =IF(#REF!="1B2 Oil & Natural Gas",#REF!) -> #REF! | S42: =IF(#REF!="3A2 Manure Management",#REF!) -> #REF! | T42: =IF(#REF!="3B2 Cropland",#REF!) -> #REF! | U42: =IF(#REF!="3B6 Other Land",#REF!) -> #REF! | V42: =IF(#REF!="4A1 Managed Waste Disposal Sites",#REF!) -> #REF! | W42: =IF(#REF!="4D1 Domestic Wastewater Treatment & Discharge",#REF!) -> #REF! | X42: =IF(#REF!="unknown",#REF!) -> #REF!
A43: Ventura | B43: landfill | C43: Toland Road Landfill | D43: 4A1 Managed Waste Disposal Sites | E43: a | F43: 53.184081 | G43: 493.70846 | H43: =F43*1000/G43 -> 107.72366 | I43: =F43*$J$2/G43*3600 -> 775.61034 | J43: =J42+I43 -> 12297.473 | K43: =J43/J$336 -> 0.18705869 | L43: =L42+F43 -> 887.89116 | M43: =L43/L$335 -> 0.32793744 | N43: =N42+H43 -> 1707.9824 | O43: =N43/N$336 -> #DIV/0! | P43: =N43/#REF! -> #REF! | Q43: =IF(#REF!="1A1 Energy Industries",#REF!) -> #REF! | R43: =IF(#REF!="1B2 Oil & Natural Gas",#REF!) -> #REF! | S43: =IF(#REF!="3A2 Manure Management",#REF!) -> #REF! | T43: =IF(#REF!="3B2 Cropland",#REF!) -> #REF! | U43: =IF(#REF!="3B6 Other Land",#REF!) -> #REF! | V43: =IF(#REF!="4A1 Managed Waste Disposal Sites",#REF!) -> #REF! | W43: =IF(#REF!="4D1 Domestic Wastewater Treatment & Discharge",#REF!) -> #REF! | X43: =IF(#REF!="unknown",#REF!) -> #REF!
A44: Goleta | B44: landfill | C44: Tajiguas Landfill | D44: 4A1 Managed Waste Disposal Sites | E44: a | F44: 40.478058 | G44: 498.77876 | H44: =F44*1000/G44 -> 81.154334 | I44: =F44*$J$2/G44*3600 -> 584.3112 | J44: =J43+I44 -> 12881.784 | K44: =J44/J$336 -> 0.19594674 | L44: =L43+F44 -> 928.36921 | M44: =L44/L$335 -> 0.34288778 | N44: =N43+H44 -> 1789.1367 | O44: =N44/N$336 -> #DIV/0! | P44: =N44/#REF! -> #REF! | Q44: =IF(#REF!="1A1 Energy Industries",#REF!) -> #REF! | R44: =IF(#REF!="1B2 Oil & Natural Gas",#REF!) -> #REF! | S44: =IF(#REF!="3A2 Manure Management",#REF!) -> #REF! | T44: =IF(#REF!="3B2 Cropland",#REF!) -> #REF! | U44: =IF(#REF!="3B6 Other Land",#REF!) -> #REF! | V44: =IF(#REF!="4A1 Managed Waste Disposal Sites",#REF!) -> #REF! | W44: =IF(#REF!="4D1 Domestic Wastewater Treatment & Discharge",#REF!) -> #REF! | X44: =IF(#REF!="unknown",#REF!) -> #REF!
A45: Fillmore | B45: landfill | C45: Toland Road Landfill | D45: 4A1 Managed Waste Disposal Sites | E45: c | F45: 38.714648 | G45: 479.95117 | H45: =F45*1000/G45 -> 80.663721 | I45: =F45*$J$2/G45*3600 -> 580.77879 | J45: =J44+I45 -> 13462.563 | K45: =J45/J$336 -> 0.20478105 | L45: =L44+F45 -> 967.08386 | M45: =L45/L$335 -> 0.35718681 | N45: =N44+H45 -> 1869.8004 | O45: =N45/N$336 -> #DIV/0! | P45: =N45/#REF! -> #REF! | Q45: =IF(#REF!="1A1 Energy Industries",#REF!) -> #REF! | R45: =IF(#REF!="1B2 Oil & Natural Gas",#REF!) -> #REF! | S45: =IF(#REF!="3A2 Manure Management",#REF!) -> #REF! | T45: =IF(#REF!="3B2 Cropland",#REF!) -> #REF! | U45: =IF(#REF!="3B6 Other Land",#REF!) -> #REF! | V45: =IF(#REF!="4A1 Managed Waste Disposal Sites",#REF!) -> #REF! | W45: =IF(#REF!="4D1 Domestic Wastewater Treatment & Discharge",#REF!) -> #REF! | X45: =IF(#REF!="unknown",#REF!) -> #REF!
... A57: Tulare (Tulare County) | B57: dairy/manure | C57: South Creek Dairy | D57: 3A2 Manure Management | E57: a | F57: 29.230807 | G57: 493.40653 | H57: =F57*1000/G57 -> 59.242846 | I57: =F57*$J$2/G57*3600 -> 426.54849 | J57: =J56+I57 -> 20723.913 | K57: =J57/J$336 -> 0.31523453 | L57: =L56+F57 -> 1372.3907 | M57: =L57/L$335 -> 0.50688453 | N57: =N56+H57 -> 2878.3213 | O57: =N57/N$336 -> #DIV/0! | P57: =N57/#REF! -> #REF! | Q57: =IF(#REF!="1A1 Energy Industries",#REF!) -> #REF! | R57: =IF(#REF!="1B2 Oil & Natural Gas",#REF!) -> #REF! | S57: =IF(#REF!="3A2 Manure Management",#REF!) -> #REF! | T57: =IF(#REF!="3B2 Cropland",#REF!) -> #REF! | U57: =IF(#REF!="3B6 Other Land",#REF!) -> #REF! | V57: =IF(#REF!="4A1 Managed Waste Disposal Sites",#REF!) -> #REF! | W57: =IF(#REF!="4D1 Domestic Wastewater Treatment & Discharge",#REF!) -> #REF! | X57: =IF(#REF!="unknown",#REF!) -> #REF!
A58: Tipton (Tulare County) | B58: dairy/manure | C58: D & V Dairy | D58: 3A2 Manure Management | E58: a | F58: 29 | G58: TBD | J58: =J57+I58 -> 20723.913 | K58: =J58/J$336 -> 0.31523453 | L58: =L57+F58 -> 1401.3907 | M58: =L58/L$335 -> 0.51759551 | N58: =N57+H58 -> 2878.3213 | O58: =N58/N$336 -> #DIV/0! | P58: =N58/#REF! -> #REF! | Q58: =IF(#REF!="1A1 Energy Industries",#REF!) -> #REF! | R58: =IF(#REF!="1B2 Oil & Natural Gas",#REF!) -> #REF! | S58: =IF(#REF!="3A2 Manure Management",#REF!) -> #REF! | T58: =IF(#REF!="3B2 Cropland",#REF!) -> #REF! | U58: =IF(#REF!="3B6 Other Land",#REF!) -> #REF! | V58: =IF(#REF!="4A1 Managed Waste Disposal Sites",#REF!) -> #REF! | W58: =IF(#REF!="4D1 Domestic Wastewater Treatment & Discharge",#REF!) -> #REF! | X58: =IF(#REF!="unknown",#REF!) -> #REF!
A59: Honor Rancho | B59: gas storage facility | C59: Honor Rancho | D59: 1B2 Oil & Natural Gas | E59: c | F59: 26.734679 | G59: 366.19036 | H59: =F59*1000/G59 -> 73.007599 | I59: =F59*$J$2/G59*3600 -> 525.65471 | J59: =J58+I59 -> 21249.568 | K59: =J59/J$336 -> 0.32323034 | L59: =L58+F59 -> 1428.1254 | M59: =L59/L$335 -> 0.52746981 | N59: =N58+H59 -> 2951.3289 | O59: =N59/N$336 -> #DIV/0! | P59: =N59/#REF! -> #REF! | Q59: =IF(#REF!="1A1 Energy Industries",#REF!) -> #REF! | R59: =IF(#REF!="1B2 Oil & Natural Gas",#REF!) -> #REF! | S59: =IF(#REF!="3A2 Manure Management",#REF!) -> #REF! | T59: =IF(#REF!="3B2 Cropland",#REF!) -> #REF! | U59: =IF(#REF!="3B6 Other Land",#REF!) -> #REF! | V59: =IF(#REF!="4A1 Managed Waste Disposal Sites",#REF!) -> #REF! | W59: =IF(#REF!="4D1 Domestic Wastewater Treatment & Discharge",#REF!) -> #REF! | X59: =IF(#REF!="unknown",#REF!) -> #REF!
A60: Chowchilla (Merced County) | B60: dairy/manure | C60: Vista Verde Dairy | D60: 3A2 Manure Management | E60: b | F60: 25.779304 | G60: 488.20016 | H60: =F60*1000/G60 -> 52.804784 | I60: =F60*$J$2/G60*3600 -> 380.19444 | J60: =J59+I60 -> 21629.762 | K60: =J60/J$336 -> 0.32901353 | L60: =L59+F60 -> 1453.9047 | M60: =L60/L$335 -> 0.53699124 | N60: =N59+H60 -> 3004.1337 | O60: =N60/N$336 -> #DIV/0! | P60: =N60/#REF! -> #REF! | Q60: =IF(#REF!="1A1 Energy Industries",#REF!) -> #REF! | R60: =IF(#REF!="1B2 Oil & Natural Gas",#REF!) -> #REF! | S60: =IF(#REF!="3A2 Manure Management",#REF!) -> #REF! | T60: =IF(#REF!="3B2 Cropland",#REF!) -> #REF! | U60: =IF(#REF!="3B6 Other Land",#REF!) -> #REF! | V60: =IF(#REF!="4A1 Managed Waste Disposal Sites",#REF!) -> #REF! | W60: =IF(#REF!="4D1 Domestic Wastewater Treatment & Discharge",#REF!) -> #REF! | X60: =IF(#REF!="unknown",#REF!) -> #REF!
A61: Tulare (Tulare Complex) | B61: other livestock | C61: AC Enterprises Dairy | D61: 3A2 Manure Management | E61: a | F61: 25.0773 | G61: 409.42032 | H61: =F61*1000/G61 -> 61.250745 | I61: =F61*$J$2/G61*3600 -> 441.00536 | J61: =J60+I61 -> 22070.768 | K61: =J61/J$336 -> 0.33572173 | L61: =L60+F61 -> 1478.982 | M61: =L61/L$335 -> 0.5462534 | N61: =N60+H61 -> 3065.3844 | O61: =N61/N$336 -> #DIV/0! | P61: =N61/#REF! -> #REF! | Q61: =IF(#REF!="1A1 Energy Industries",#REF!) -> #REF! | R61: =IF(#REF!="1B2 Oil & Natural Gas",#REF!) -> #REF! | S61: =IF(#REF!="3A2 Manure Management",#REF!) -> #REF! | T61: =IF(#REF!="3B2 Cropland",#REF!) -> #REF! | U61: =IF(#REF!="3B6 Other Land",#REF!) -> #REF! | V61: =IF(#REF!="4A1 Managed Waste Disposal Sites",#REF!) -> #REF! | W61: =IF(#REF!="4D1 Domestic Wastewater Treatment & Discharge",#REF!) -> #REF! | X61: =IF(#REF!="unknown",#REF!) -> #REF!
A62: Tulare (Tulare County) | B62: dairy/manure | C62: Chris & John Jongsma Dairy | D62: 3A2 Manure Management | E62: a | F62: 24 | G62: TBD | I62: =F63*$J$2/G63*3600 -> 345.75594 | L62: =L61+F62 -> 1502.982 | M62: =L62/L$335 -> 0.55511766 | Q62: =IF(#REF!="1A1 Energy Industries",#REF!) -> #REF! | R62: =IF(#REF!="1B2 Oil & Natural Gas",#REF!) -> #REF! | S62: =IF(#REF!="3A2 Manure Management",#REF!) -> #REF! | T62: =IF(#REF!="3B2 Cropland",#REF!) -> #REF! | U62: =IF(#REF!="3B6 Other Land",#REF!) -> #REF! | V62: =IF(#REF!="4A1 Managed Waste Disposal Sites",#REF!) -> #REF! | W62: =IF(#REF!="4D1 Domestic Wastewater Treatment & Discharge",#REF!) -> #REF! | X62: =IF(#REF!="unknown",#REF!) -> #REF! | Y62: Bidart Dairy | Z62: 1311.8842 | AA62: =Z62/#REF! -> #REF! | AB62: =Z62/40000 -> 0.032797105 | AC62: =Z62/#REF! -> #REF!
A63: Round Mountain | B63: oil/gas tank | C63: Round Mountain oil & gas field | D63: 1B2 Oil & Natural Gas | E63: a | F63: 23.898488 | G63: 497.66062 | H63: =F63*1000/G63 -> 48.021659 | J63: =J61+I62 -> 22416.524 | K63: =J63/J$336 -> 0.34098107 | L63: =L62+F63 -> 1526.8805 | M63: =L63/L$335 -> 0.56394443 | N63: =N62+H63 -> 48.021659 | O63: =N63/N$336 -> #DIV/0! | P63: =N63/#REF! -> #REF! | Q63: =IF(#REF!="1A1 Energy Industries",#REF!) -> #REF! | R63: =IF(#REF!="1B2 Oil & Natural Gas",#REF!) -> #REF! | S63: =IF(#REF!="3A2 Manure Management",#REF!) -> #REF! | T63: =IF(#REF!="3B2 Cropland",#REF!) -> #REF! | U63: =IF(#REF!="3B6 Other Land",#REF!) -> #REF! | V63: =IF(#REF!="4A1 Managed Waste Disposal Sites",#REF!) -> #REF! | W63: =IF(#REF!="4D1 Domestic Wastewater Treatment & Discharge",#REF!) -> #REF! | X63: =IF(#REF!="unknown",#REF!) -> #REF!
A64: Tulare (Tulare County) | B64: dairy/manure | C64: Milky Way Dairy | D64: 3A2 Manure Management | E64: a | F64: 23.582158 | G64: 416.48169 | H64: =F64*1000/G64 -> 56.622315 | I64: =F64*$J$2/G64*3600 -> 407.68067 | J64: =J63+I64 -> 22824.204 | K64: =J64/J$336 -> 0.34718237 | L64: =L63+F64 -> 1550.4626 | M64: =L64/L$335 -> 0.57265436 | N64: =N63+H64 -> 104.64397 | O64: =N64/N$336 -> #DIV/0! | P64: =N64/#REF! -> #REF! | Q64: =IF(#REF!="1A1 Energy Industries",#REF!) -> #REF! | R64: =IF(#REF!="1B2 Oil & Natural Gas",#REF!) -> #REF! | S64: =IF(#REF!="3A2 Manure Management",#REF!) -> #REF! | T64: =IF(#REF!="3B2 Cropland",#REF!) -> #REF! | U64: =IF(#REF!="3B6 Other Land",#REF!) -> #REF! | V64: =IF(#REF!="4A1 Managed Waste Disposal Sites",#REF!) -> #REF! | W64: =IF(#REF!="4D1 Domestic Wastewater Treatment & Discharge",#REF!) -> #REF! | X64: =IF(#REF!="unknown",#REF!) -> #REF!
A65: Merced (Merced County) | B65: dairy/manure | C65: TBD dairy | D65: 3A2 Manure Management | E65: a | F65: 22.130328 | G65: 498.26017 | H65: =F65*1000/G65 -> 44.415205 | I65: =F65*$J$2/G65*3600 -> 319.78948 | J65: =J64+I65 -> 23143.994 | K65: =J65/J$336 -> 0.35204673 | L65: =L64+F65 -> 1572.5929 | M65: =L65/L$335 -> 0.58082807 | N65: =N64+H65 -> 149.05918 | O65: =N65/N$336 -> #DIV/0! | P65: =N65/#REF! -> #REF! | Q65: =IF(#REF!="1A1 Energy Industries",#REF!) -> #REF! | R65: =IF(#REF!="1B2 Oil & Natural Gas",#REF!) -> #REF! | S65: =IF(#REF!="3A2 Manure Management",#REF!) -> #REF! | T65: =IF(#REF!="3B2 Cropland",#REF!) -> #REF! | U65: =IF(#REF!="3B6 Other Land",#REF!) -> #REF! | V65: =IF(#REF!="4A1 Managed Waste Disposal Sites",#REF!) -> #REF! | W65: =IF(#REF!="4D1 Domestic Wastewater Treatment & Discharge",#REF!) -> #REF! | X65: =IF(#REF!="unknown",#REF!) -> #REF!
A66: Tipton (Tulare County) | B66: dairy/manure | C66: Brian and James Jongsma Dairy | D66: 3A2 Manure Management | E66: a | F66: 21.734302 | G66: 490.33254 | H66: =F66*1000/G66 -> 44.325636 | I66: =F66*$J$2/G66*3600 -> 319.14458 | J66: =J65+I66 -> 23463.139 | K66: =J66/J$336 -> 0.35690129 | L66: =L65+F66 -> 1594.3272 | M66: =L66/L$335 -> 0.58885551 | N66: =N65+H66 -> 193.38481 | O66: =N66/N$336 -> #DIV/0! | P66: =N66/#REF! -> #REF! | Q66: =IF(#REF!="1A1 Energy Industries",#REF!) -> #REF! | R66: =IF(#REF!="1B2 Oil & Natural Gas",#REF!) -> #REF! | S66: =IF(#REF!="3A2 Manure Management",#REF!) -> #REF! | T66: =IF(#REF!="3B2 Cropland",#REF!) -> #REF! | U66: =IF(#REF!="3B6 Other Land",#REF!) -> #REF! | V66: =IF(#REF!="4A1 Managed Waste Disposal Sites",#REF!) -> #REF! | W66: =IF(#REF!="4D1 Domestic Wastewater Treatment & Discharge",#REF!) -> #REF! | X66: =IF(#REF!="unknown",#REF!) -> #REF!
A67: Elk Hills | B67: oil/gas stack | C67: Elk Hills oil & gas field | D67: 1B2 Oil & Natural Gas | E67: c | F67: 20.822138 | G67: 379.89204 | H67: =F67*1000/G67 -> 54.810673 | I67: =F67*$J$2/G67*3600 -> 394.63684 | J67: =J66+I67 -> 23857.775 | K67: =J67/J$336 -> 0.36290417 | L67: =L66+F67 -> 1615.1494 | M67: =L67/L$335 -> 0.59654604 | N67: =N66+H67 -> 248.19549 | O67: =N67/N$336 -> #DIV/0! | P67: =N67/#REF! -> #REF! | Q67: =IF(#REF!="1A1 Energy Industries",#REF!) -> #REF! | R67: =IF(#REF!="1B2 Oil & Natural Gas",#REF!) -> #REF! | S67: =IF(#REF!="3A2 Manure Management",#REF!) -> #REF! | T67: =IF(#REF!="3B2 Cropland",#REF!) -> #REF! | U67: =IF(#REF!="3B6 Other Land",#REF!) -> #REF! | V67: =IF(#REF!="4A1 Managed Waste Disposal Sites",#REF!) -> #REF! | W67: =IF(#REF!="4D1 Domestic Wastewater Treatment & Discharge",#REF!) -> #REF! | X67: =IF(#REF!="unknown",#REF!) -> #REF!
A68: Visalia (Tulare County) | B68: dairy/manure | C68: Mattos Brothers Dairy | D68: 3A2 Manure Management | E68: a | F68: 20.717827 | G68: 469.57428 | H68: =F68*1000/G68 -> 44.120448 | I68: =F68*$J$2/G68*3600 -> 317.66722 | J68: =J67+I68 -> 24175.443 | K68: =J68/J$336 -> 0.36773625 | L68: =L67+F68 -> 1635.8672 | M68: =L68/L$335 -> 0.60419805 | N68: =N67+H68 -> 292.31594 | O68: =N68/N$336 -> #DIV/0! | P68: =N68/#REF! -> #REF! | Q68: =IF(#REF!="1A1 Energy Industries",#REF!) -> #REF! | R68: =IF(#REF!="1B2 Oil & Natural Gas",#REF!) -> #REF! | S68: =IF(#REF!="3A2 Manure Management",#REF!) -> #REF! | T68: =IF(#REF!="3B2 Cropland",#REF!) -> #REF! | U68: =IF(#REF!="3B6 Other Land",#REF!) -> #REF! | V68: =IF(#REF!="4A1 Managed Waste Disposal Sites",#REF!) -> #REF! | W68: =IF(#REF!="4D1 Domestic Wastewater Treatment & Discharge",#REF!) -> #REF! | X68: =IF(#REF!="unknown",#REF!) -> #REF!
A69: Tulare (Tulare County) | B69: dairy/manure | C69: Hamstra Dairy Complex | D69: 3A2 Manure Management | E69: a | F69: 19.841769 | G69: 487.11908 | H69: =F69*1000/G69 -> 40.732891 | I69: =F69*$J$2/G69*3600 -> 293.27682 | J69: =J68+I69 -> 24468.719 | K69: =J69/J$336 -> 0.37219733 | L69: =L68+F69 -> 1655.709 | M69: =L69/L$335 -> 0.61152649 | N69: =N68+H69 -> 333.04883 | O69: =N69/N$336 -> #DIV/0! | P69: =N69/#REF! -> #REF! | Q69: =IF(#REF!="1A1 Energy Industries",#REF!) -> #REF! | R69: =IF(#REF!="1B2 Oil & Natural Gas",#REF!) -> #REF! | S69: =IF(#REF!="3A2 Manure Management",#REF!) -> #REF! | T69: =IF(#REF!="3B2 Cropland",#REF!) -> #REF! | U69: =IF(#REF!="3B6 Other Land",#REF!) -> #REF! | V69: =IF(#REF!="4A1 Managed Waste Disposal Sites",#REF!) -> #REF! | W69: =IF(#REF!="4D1 Domestic Wastewater Treatment & Discharge",#REF!) -> #REF! | X69: =IF(#REF!="unknown",#REF!) -> #REF!
A70: Tulare (Tulare County) | B70: dairy/manure | C70: David Te Velde Dairy | D70: 3A2 Manure Management | E70: a | F70: 19.662739 | G70: 481.59213 | H70: =F70*1000/G70 -> 40.828613 | I70: =F70*$J$2/G70*3600 -> 293.96601 | J70: =J69+I70 -> 24762.685 | K70: =J70/J$336 -> 0.37666889 | L70: =L69+F70 -> 1675.3717 | M70: =L70/L$335 -> 0.61878881 | N70: =N69+H70 -> 373.87744 | O70: =N70/N$336 -> #DIV/0! | P70: =N70/#REF! -> #REF! | Q70: =IF(#REF!="1A1 Energy Industries",#REF!) -> #REF! | R70: =IF(#REF!="1B2 Oil & Natural Gas",#REF!) -> #REF! | S70: =IF(#REF!="3A2 Manure Management",#REF!) -> #REF! | T70: =IF(#REF!="3B2 Cropland",#REF!) -> #REF! | U70: =IF(#REF!="3B6 Other Land",#REF!) -> #REF! | V70: =IF(#REF!="4A1 Managed Waste Disposal Sites",#REF!) -> #REF! | W70: =IF(#REF!="4D1 Domestic Wastewater Treatment & Discharge",#REF!) -> #REF! | X70: =IF(#REF!="unknown",#REF!) -> #REF!
A71: Midway Sunset | B71: oil/gas gathering lines (TBD) | C71: Midway Sunset oil & gas field | D71: 1B2 Oil & Natural Gas | E71: a | F71: 19.53106 | G71: 474.3 | H71: =F71*1000/G71 -> 41.178706 | I71: =F71*$J$2/G71*3600 -> 296.48668 | J71: =J70+I71 -> 25059.172 | K71: =J71/J$336 -> 0.38117879 | L71: =L70+F71 -> 1694.9028 | M71: =L71/L$335 -> 0.62600249 | N71: =N70+H71 -> 415.05615 | O71: =N71/N$336 -> #DIV/0! | P71: =N71/#REF! -> #REF! | Q71: =IF(#REF!="1A1 Energy Industries",#REF!) -> #REF! | R71: =IF(#REF!="1B2 Oil & Natural Gas",#REF!) -> #REF! | S71: =IF(#REF!="3A2 Manure Management",#REF!) -> #REF! | T71: =IF(#REF!="3B2 Cropland",#REF!) -> #REF! | U71: =IF(#REF!="3B6 Other Land",#REF!) -> #REF! | V71: =IF(#REF!="4A1 Managed Waste Disposal Sites",#REF!) -> #REF! | W71: =IF(#REF!="4D1 Domestic Wastewater Treatment & Discharge",#REF!) -> #REF! | X71: =IF(#REF!="unknown",#REF!) -> #REF!
A72: Cymric | B72: oil/gas gathering lines (TBD) | C72: Cymric oil & gas field | D72: 1B2 Oil & Natural Gas | E72: a | F72: 19 | G72: TBD | J72: =J71+I72 -> 25059.172 | K72: =J72/J$336 -> 0.38117879 | L72: =L71+F72 -> 1713.9028 | M72: =L72/L$335 -> 0.63302003 | N72: =N71+H72 -> 415.05615 | O72: =N72/N$336 -> #DIV/0! | P72: =N72/#REF! -> #REF! | Q72: =IF(#REF!="1A1 Energy Industries",#REF!) -> #REF! | R72: =IF(#REF!="1B2 Oil & Natural Gas",#REF!) -> #REF! | S72: =IF(#REF!="3A2 Manure Management",#REF!) -> #REF! | T72: =IF(#REF!="3B2 Cropland",#REF!) -> #REF! | U72: =IF(#REF!="3B6 Other Land",#REF!) -> #REF! | V72: =IF(#REF!="4A1 Managed Waste Disposal Sites",#REF!) -> #REF! | W72: =IF(#REF!="4D1 Domestic Wastewater Treatment & Discharge",#REF!) -> #REF! | X72: =IF(#REF!="unknown",#REF!) -> #REF!
A73: Round Mountain | B73: oil/gas pumpjack | C73: Round Mountain oil & gas field | D73: 1B2 Oil & Natural Gas | E73: a | F73: 18.973171 | G73: 497.66062 | H73: =F73*1000/G73 -> 38.124719 | I73: =F73*$J$2/G73*3600 -> 274.49798 | J73: =J72+I73 -> 25333.67 | K73: =J73/J$336 -> 0.38535422 | L73: =L72+F73 -> 1732.8759 | M73: =L73/L$335 -> 0.64002766 | N73: =N72+H73 -> 453.18086 | O73: =N73/N$336 -> #DIV/0! | P73: =N73/#REF! -> #REF! | Q73: =IF(#REF!="1A1 Energy Industries",#REF!) -> #REF! | R73: =IF(#REF!="1B2 Oil & Natural Gas",#REF!) -> #REF! | S73: =IF(#REF!="3A2 Manure Management",#REF!) -> #REF! | T73: =IF(#REF!="3B2 Cropland",#REF!) -> #REF! | U73: =IF(#REF!="3B6 Other Land",#REF!) -> #REF! | V73: =IF(#REF!="4A1 Managed Waste Disposal Sites",#REF!) -> #REF! | W73: =IF(#REF!="4D1 Domestic Wastewater Treatment & Discharge",#REF!) -> #REF! | X73: =IF(#REF!="unknown",#REF!) -> #REF!
A74: Tulare (Tulare County) | B74: dairy/manure | C74: Dover Dairy | D74: 3A2 Manure Management | E74: a | F74: 18.874 | G74: 497.21323 | H74: =F74*1000/G74 -> 37.959569 | I74: =F74*$J$2/G74*3600 -> 273.3089 | J74: =J73+I74 -> 25606.979 | K74: =J74/J$336 -> 0.38951156 | L74: =L73+F74 -> 1751.7499 | M74: =L74/L$335 -> 0.64699867 | N74: =N73+H74 -> 491.14043 | O74: =N74/N$336 -> #DIV/0! | P74: =N74/#REF! -> #REF! | Q74: =IF(#REF!="1A1 Energy Industries",#REF!) -> #REF! | R74: =IF(#REF!="1B2 Oil & Natural Gas",#REF!) -> #REF! | S74: =IF(#REF!="3A2 Manure Management",#REF!) -> #REF! | T74: =IF(#REF!="3B2 Cropland",#REF!) -> #REF! | U74: =IF(#REF!="3B6 Other Land",#REF!) -> #REF! | V74: =IF(#REF!="4A1 Managed Waste Disposal Sites",#REF!) -> #REF! | W74: =IF(#REF!="4D1 Domestic Wastewater Treatment & Discharge",#REF!) -> #REF! | X74: =IF(#REF!="unknown",#REF!) -> #REF!
A75: Madera | B75: gas storage facility | C75: Gill Ranch Gas storage | D75: 1B2 Oil & Natural Gas | E75: a | F75: 18.028561 | G75: 497.35744 | H75: =F75*1000/G75 -> 36.248701 | I75: =F75*$J$2/G75*3600 -> 260.99064 | J75: =J74+I75 -> 25867.97 | K75: =J75/J$336 -> 0.39348153 | L75: =L74+F75 -> 1769.7785 | M75: =L75/L$335 -> 0.65365741 | N75: =N74+H75 -> 527.38913 | O75: =N75/N$336 -> #DIV/0! | P75: =N75/#REF! -> #REF! | Q75: =IF(#REF!="1A1 Energy Industries",#REF!) -> #REF! | R75: =IF(#REF!="1B2 Oil & Natural Gas",#REF!) -> #REF! | S75: =IF(#REF!="3A2 Manure Management",#REF!) -> #REF! | T75: =IF(#REF!="3B2 Cropland",#REF!) -> #REF! | U75: =IF(#REF!="3B6 Other Land",#REF!) -> #REF! | V75: =IF(#REF!="4A1 Managed Waste Disposal Sites",#REF!) -> #REF! | W75: =IF(#REF!="4D1 Domestic Wastewater Treatment & Discharge",#REF!) -> #REF! | X75: =IF(#REF!="unknown",#REF!) -> #REF!
A76: El Monte | B76: unknown | C76: possible LNG fueling station | D76: unknown | E76: a | F76: 17.840627 | G76: 500.91916 | H76: =F76*1000/G76 -> 35.615781 | I76: =F76*$J$2/G76*3600 -> 256.43362 | J76: =J75+I76 -> 26124.403 | K76: =J76/J$336 -> 0.39738218 | L76: =L75+F76 -> 1787.6191 | M76: =L76/L$335 -> 0.66024674 | N76: =N75+H76 -> 563.00492 | O76: =N76/N$336 -> #DIV/0! | P76: =N76/#REF! -> #REF! | Q76: =IF(#REF!="1A1 Energy Industries",#REF!) -> #REF! | R76: =IF(#REF!="1B2 Oil & Natural Gas",#REF!) -> #REF! | S76: =IF(#REF!="3A2 Manure Management",#REF!) -> #REF! | T76: =IF(#REF!="3B2 Cropland",#REF!) -> #REF! | U76: =IF(#REF!="3B6 Other Land",#REF!) -> #REF! | V76: =IF(#REF!="4A1 Managed Waste Disposal Sites",#REF!) -> #REF! | W76: =IF(#REF!="4D1 Domestic Wastewater Treatment & Discharge",#REF!) -> #REF! | X76: =IF(#REF!="unknown",#REF!) -> #REF!
A77: Kern River | B77: oil/gas unknown infrastucture | C77: Kern River oil & gas field | D77: 1B2 Oil & Natural Gas | E77: a | F77: 17.207327 | G77: 498.60606 | H77: =F77*1000/G77 -> 34.510866 | I77: =F77*$J$2/G77*3600 -> 248.47823 | J77: =J76+I77 -> 26372.881 | K77: =J77/J$336 -> 0.40116182 | L77: =L76+F77 -> 1804.8265 | M77: =L77/L$335 -> 0.66660217 | N77: =N76+H77 -> 597.51578 | O77: =N77/N$336 -> #DIV/0! | P77: =N77/#REF! -> #REF! | Q77: =IF(#REF!="1A1 Energy Industries",#REF!) -> #REF! | R77: =IF(#REF!="1B2 Oil & Natural Gas",#REF!) -> #REF! | S77: =IF(#REF!="3A2 Manure Management",#REF!) -> #REF! | T77: =IF(#REF!="3B2 Cropland",#REF!) -> #REF! | U77: =IF(#REF!="3B6 Other Land",#REF!) -> #REF! | V77: =IF(#REF!="4A1 Managed Waste Disposal Sites",#REF!) -> #REF! | W77: =IF(#REF!="4D1 Domestic Wastewater Treatment & Discharge",#REF!) -> #REF! | X77: =IF(#REF!="unknown",#REF!) -> #REF!
A78: Kern River | B78: oil/gas unknown infrastucture | C78: Kern River oil & gas field | D78: 1B2 Oil & Natural Gas | E78: a | F78: 17.207327 | G78: 498.60606 | H78: =F78*1000/G78 -> 34.510866 | I78: =F78*$J$2/G78*3600 -> 248.47823 | J78: =J77+I78 -> 26621.36 | K78: =J78/J$336 -> 0.40494146 | L78: =L77+F78 -> 1822.0338 | M78: =L78/L$335 -> 0.6729576 | N78: =N77+H78 -> 632.02665 | O78: =N78/N$336 -> #DIV/0! | P78: =N78/#REF! -> #REF! | Q78: =IF(#REF!="1A1 Energy Industries",#REF!) -> #REF! | R78: =IF(#REF!="1B2 Oil & Natural Gas",#REF!) -> #REF! | S78: =IF(#REF!="3A2 Manure Management",#REF!) -> #REF! | T78: =IF(#REF!="3B2 Cropland",#REF!) -> #REF! | U78: =IF(#REF!="3B6 Other Land",#REF!) -> #REF! | V78: =IF(#REF!="4A1 Managed Waste Disposal Sites",#REF!) -> #REF! | W78: =IF(#REF!="4D1 Domestic Wastewater Treatment & Discharge",#REF!) -> #REF! | X78: =IF(#REF!="unknown",#REF!) -> #REF!
A79: Tulare (Tulare County) | B79: dairy/manure | C79: Mellema Dairy | D79: 3A2 Manure Management | E79: a | F79: 16.583958 | G79: 498.05421 | H79: =F79*1000/G79 -> 33.297496 | I79: =F79*$J$2/G79*3600 -> 239.74197 | J79: =J78+I79 -> 26861.102 | K79: =J79/J$336 -> 0.40858821 | L79: =L78+F79 -> 1838.6177 | M79: =L79/L$335 -> 0.67908278 | N79: =N78+H79 -> 665.32414 | O79: =N79/N$336 -> #DIV/0! | P79: =N79/#REF! -> #REF! | Q79: =IF(#REF!="1A1 Energy Industries",#REF!) -> #REF! | R79: =IF(#REF!="1B2 Oil & Natural Gas",#REF!) -> #REF! | S79: =IF(#REF!="3A2 Manure Management",#REF!) -> #REF! | T79: =IF(#REF!="3B2 Cropland",#REF!) -> #REF! | U79: =IF(#REF!="3B6 Other Land",#REF!) -> #REF! | V79: =IF(#REF!="4A1 Managed Waste Disposal Sites",#REF!) -> #REF! | W79: =IF(#REF!="4D1 Domestic Wastewater Treatment & Discharge",#REF!) -> #REF! | X79: =IF(#REF!="unknown",#REF!) -> #REF!
A80: Tulare (Tulare Complex) | B80: dairy/manure | C80: Little Rock Too Dairy | D80: 3A2 Manure Management | E80: a | F80: 16.3692 | G80: 477.37721 | H80: =F80*1000/G80 -> 34.289865 | I80: =F80*$J$2/G80*3600 -> 246.88703 | J80: =J79+I80 -> 27107.989 | K80: =J80/J$336 -> 0.41234364 | L80: =L79+F80 -> 1854.9869 | M80: =L80/L$335 -> 0.68512865 | N80: =N79+H80 -> 699.61401 | O80: =N80/N$336 -> #DIV/0! | P80: =N80/#REF! -> #REF! | Q80: =IF(#REF!="1A1 Energy Industries",#REF!) -> #REF! | R80: =IF(#REF!="1B2 Oil & Natural Gas",#REF!) -> #REF! | S80: =IF(#REF!="3A2 Manure Management",#REF!) -> #REF! | T80: =IF(#REF!="3B2 Cropland",#REF!) -> #REF! | U80: =IF(#REF!="3B6 Other Land",#REF!) -> #REF! | V80: =IF(#REF!="4A1 Managed Waste Disposal Sites",#REF!) -> #REF! | W80: =IF(#REF!="4D1 Domestic Wastewater Treatment & Discharge",#REF!) -> #REF! | X80: =IF(#REF!="unknown",#REF!) -> #REF!
A81: Fillmore | B81: landfill | C81: Toland Road Landfill | D81: 4A1 Managed Waste Disposal Sites | E81: c | F81: 16.190575 | G81: 407.55527 | H81: =F81*1000/G81 -> 39.726084 | I81: =F81*$J$2/G81*3600 -> 286.0278 | J81: =J80+I81 -> 27394.017 | K81: =J81/J$336 -> 0.41669446 | L81: =L80+F81 -> 1871.1775 | M81: =L81/L$335 -> 0.69110855 | N81: =N80+H81 -> 739.34009 | O81: =N81/N$336 -> #DIV/0! | P81: =N81/#REF! -> #REF! | Q81: =IF(#REF!="1A1 Energy Industries",#REF!) -> #REF! | R81: =IF(#REF!="1B2 Oil & Natural Gas",#REF!) -> #REF! | S81: =IF(#REF!="3A2 Manure Management",#REF!) -> #REF! | T81: =IF(#REF!="3B2 Cropland",#REF!) -> #REF! | U81: =IF(#REF!="3B6 Other Land",#REF!) -> #REF! | V81: =IF(#REF!="4A1 Managed Waste Disposal Sites",#REF!) -> #REF! | W81: =IF(#REF!="4D1 Domestic Wastewater Treatment & Discharge",#REF!) -> #REF! | X81: =IF(#REF!="unknown",#REF!) -> #REF!
A82: Frank R. Bowerman | B82: landfill | C82: Frank R. Bowerman | D82: 4A1 Managed Waste Disposal Sites | E82: c | F82: 16.138757 | G82: 495.86946 | H82: =F82*1000/G82 -> 32.546382 | I82: =F82*$J$2/G82*3600 -> 234.33395 | J82: =J81+I82 -> 27628.35 | K82: =J82/J$336 -> 0.42025894 | L82: =L81+F82 -> 1887.3163 | M82: =L82/L$335 -> 0.6970693 | N82: =N81+H82 -> 771.88647 | O82: =N82/N$336 -> #DIV/0! | P82: =N82/#REF! -> #REF! | Q82: =IF(#REF!="1A1 Energy Industries",#REF!) -> #REF! | R82: =IF(#REF!="1B2 Oil & Natural Gas",#REF!) -> #REF! | S82: =IF(#REF!="3A2 Manure Management",#REF!) -> #REF! | T82: =IF(#REF!="3B2 Cropland",#REF!) -> #REF! | U82: =IF(#REF!="3B6 Other Land",#REF!) -> #REF! | V82: =IF(#REF!="4A1 Managed Waste Disposal Sites",#REF!) -> #REF! | W82: =IF(#REF!="4D1 Domestic Wastewater Treatment & Discharge",#REF!) -> #REF! | X82: =IF(#REF!="unknown",#REF!) -> #REF!
A83: Tulare (Tulare County) | B83: dairy/manure | C83: Cloverdale Dairy | D83: 3A2 Manure Management | E83: a | F83: 15.749015 | G83: 459.37977 | H83: =F83*1000/G83 -> 34.283215 | I83: =F83*$J$2/G83*3600 -> 246.83915 | J83: =J82+I83 -> 27875.19 | K83: =J83/J$336 -> 0.42401365 | L83: =L82+F83 -> 1903.0653 | M83: =L83/L$335 -> 0.70288611 | N83: =N82+H83 -> 806.16969 | O83: =N83/N$336 -> #DIV/0! | P83: =N83/#REF! -> #REF! | Q83: =IF(#REF!="1A1 Energy Industries",#REF!) -> #REF! | R83: =IF(#REF!="1B2 Oil & Natural Gas",#REF!) -> #REF! | S83: =IF(#REF!="3A2 Manure Management",#REF!) -> #REF! | T83: =IF(#REF!="3B2 Cropland",#REF!) -> #REF! | U83: =IF(#REF!="3B6 Other Land",#REF!) -> #REF! | V83: =IF(#REF!="4A1 Managed Waste Disposal Sites",#REF!) -> #REF! | W83: =IF(#REF!="4D1 Domestic Wastewater Treatment & Discharge",#REF!) -> #REF! | X83: =IF(#REF!="unknown",#REF!) -> #REF!
A84: Kern River | B84: oil/gas pumpjack | C84: Kern River oil & gas field | D84: 1B2 Oil & Natural Gas | E84: a | F84: 15.093445 | G84: 499.2234 | H84: =F84*1000/G84 -> 30.23385 | I84: =F84*$J$2/G84*3600 -> 217.68372 | J84: =J83+I84 -> 28092.873 | K84: =J84/J$336 -> 0.42732487 | L84: =L83+F84 -> 1918.1587 | M84: =L84/L$335 -> 0.70846079 | N84: =N83+H84 -> 836.40354 | O84: =N84/N$336 -> #DIV/0! | P84: =N84/#REF! -> #REF! | Q84: =IF(#REF!="1A1 Energy Industries",#REF!) -> #REF! | R84: =IF(#REF!="1B2 Oil & Natural Gas",#REF!) -> #REF! | S84: =IF(#REF!="3A2 Manure Management",#REF!) -> #REF! | T84: =IF(#REF!="3B2 Cropland",#REF!) -> #REF! | U84: =IF(#REF!="3B6 Other Land",#REF!) -> #REF! | V84: =IF(#REF!="4A1 Managed Waste Disposal Sites",#REF!) -> #REF! | W84: =IF(#REF!="4D1 Domestic Wastewater Treatment & Discharge",#REF!) -> #REF! | X84: =IF(#REF!="unknown",#REF!) -> #REF!
... A109: Merced (Merced County) | B109: dairy/manure | C109: Meirinho Holsteins, LP | D109: 3A2 Manure Management | E109: a | F109: 9.8470247 | G109: 487.20863 | H109: =F109*1000/G109 -> 20.211105 | I109: =F109*$J$2/G109*3600 -> 145.51995 | J109: =J108+I109 -> 33254.568 | K109: =J109/J$336 -> 0.50584018 | L109: =L108+F109 -> 2221.6781 | M109: =L109/L$335 -> 0.82056388 | N109: =N108+H109 -> 1553.3056 | O109: =N109/N$336 -> #DIV/0! | P109: =N109/#REF! -> #REF! | Q109: =IF(#REF!="1A1 Energy Industries",#REF!) -> #REF! | R109: =IF(#REF!="1B2 Oil & Natural Gas",#REF!) -> #REF! | S109: =IF(#REF!="3A2 Manure Management",#REF!) -> #REF! | T109: =IF(#REF!="3B2 Cropland",#REF!) -> #REF! | U109: =IF(#REF!="3B6 Other Land",#REF!) -> #REF! | V109: =IF(#REF!="4A1 Managed Waste Disposal Sites",#REF!) -> #REF! | W109: =IF(#REF!="4D1 Domestic Wastewater Treatment & Discharge",#REF!) -> #REF! | X109: =IF(#REF!="unknown",#REF!) -> #REF!
A110: Kern County | B110: oil/gas pumpjack | C110: Kern Front oil & gas field | D110: 1B2 Oil & Natural Gas | E110: a | F110: 9.3193436 | G110: TBD | J110: =J109+I110 -> 33254.568 | K110: =J110/J$336 -> 0.50584018 | L110: =L109+F110 -> 2230.9974 | M110: =L110/L$335 -> 0.82400593 | N110: =N109+H110 -> 1553.3056 | O110: =N110/N$336 -> #DIV/0! | P110: =N110/#REF! -> #REF! | Q110: =IF(#REF!="1A1 Energy Industries",#REF!) -> #REF! | R110: =IF(#REF!="1B2 Oil & Natural Gas",#REF!) -> #REF! | S110: =IF(#REF!="3A2 Manure Management",#REF!) -> #REF! | T110: =IF(#REF!="3B2 Cropland",#REF!) -> #REF! | U110: =IF(#REF!="3B6 Other Land",#REF!) -> #REF! | V110: =IF(#REF!="4A1 Managed Waste Disposal Sites",#REF!) -> #REF! | W110: =IF(#REF!="4D1 Domestic Wastewater Treatment & Discharge",#REF!) -> #REF! | X110: =IF(#REF!="unknown",#REF!) -> #REF!
A111: Tipton (Tulare Complex) | B111: dairy/manure | C111: El Monte Dairy | D111: 3A2 Manure Management | E111: c | F111: 9.2319821 | G111: 498.1812 | H111: =F111*1000/G111 -> 18.531374 | I111: =F111*$J$2/G111*3600 -> 133.42589 | J111: =J110+I111 -> 33387.994 | K111: =J111/J$336 -> 0.50786974 | L111: =L110+F111 -> 2240.2294 | M111: =L111/L$335 -> 0.82741571 | N111: =N110+H111 -> 1571.837 | O111: =N111/N$336 -> #DIV/0! | P111: =N111/#REF! -> #REF! | Q111: =IF(#REF!="1A1 Energy Industries",#REF!) -> #REF! | R111: =IF(#REF!="1B2 Oil & Natural Gas",#REF!) -> #REF! | S111: =IF(#REF!="3A2 Manure Management",#REF!) -> #REF! | T111: =IF(#REF!="3B2 Cropland",#REF!) -> #REF! | U111: =IF(#REF!="3B6 Other Land",#REF!) -> #REF! | V111: =IF(#REF!="4A1 Managed Waste Disposal Sites",#REF!) -> #REF! | W111: =IF(#REF!="4D1 Domestic Wastewater Treatment & Discharge",#REF!) -> #REF! | X111: =IF(#REF!="unknown",#REF!) -> #REF!
A112: Tulare (Tulare County) | B112: dairy/manure | C112: Robert Vander Eyk Dairy | D112: 3A2 Manure Management | E112: a | F112: 8.9854419 | G112: 192.09373 | H112: =F112*1000/G112 -> 46.776342 | I112: =F112*$J$2/G112*3600 -> 336.78966 | J112: =J111+I112 -> 33724.784 | K112: =J112/J$336 -> 0.5129927 | L112: =L111+F112 -> 2249.2148 | M112: =L112/L$335 -> 0.83073443 | N112: =N111+H112 -> 1618.6133 | O112: =N112/N$336 -> #DIV/0! | P112: =N112/#REF! -> #REF! | Q112: =IF(#REF!="1A1 Energy Industries",#REF!) -> #REF! | R112: =IF(#REF!="1B2 Oil & Natural Gas",#REF!) -> #REF! | S112: =IF(#REF!="3A2 Manure Management",#REF!) -> #REF! | T112: =IF(#REF!="3B2 Cropland",#REF!) -> #REF! | U112: =IF(#REF!="3B6 Other Land",#REF!) -> #REF! | V112: =IF(#REF!="4A1 Managed Waste Disposal Sites",#REF!) -> #REF! | W112: =IF(#REF!="4D1 Domestic Wastewater Treatment & Discharge",#REF!) -> #REF! | X112: =IF(#REF!="unknown",#REF!) -> #REF!
A113: Tulare (Tulare County) | B113: dairy/manure | C113: Diamond D LLC Dairy | D113: 3A2 Manure Management | E113: a | F113: 8.9550628 | G113: 490.58027 | H113: =F113*1000/G113 -> 18.254022 | I113: =F113*$J$2/G113*3600 -> 131.42896 | J113: =J112+I113 -> 33856.213 | K113: =J113/J$336 -> 0.51499188 | L113: =L112+F113 -> 2258.1699 | M113: =L113/L$335 -> 0.83404193 | N113: =N112+H113 -> 1636.8674 | O113: =N113/N$336 -> #DIV/0! | P113: =N113/#REF! -> #REF! | Q113: =IF(#REF!="1A1 Energy Industries",#REF!) -> #REF! | R113: =IF(#REF!="1B2 Oil & Natural Gas",#REF!) -> #REF! | S113: =IF(#REF!="3A2 Manure Management",#REF!) -> #REF! | T113: =IF(#REF!="3B2 Cropland",#REF!) -> #REF! | U113: =IF(#REF!="3B6 Other Land",#REF!) -> #REF! | V113: =IF(#REF!="4A1 Managed Waste Disposal Sites",#REF!) -> #REF! | W113: =IF(#REF!="4D1 Domestic Wastewater Treatment & Discharge",#REF!) -> #REF! | X113: =IF(#REF!="unknown",#REF!) -> #REF!
A114: Tulare (Tulare County) | B114: dairy/manure | C114: Degroot Dairies-South | D114: 3A2 Manure Management | E114: a | F114: 8.8862344 | G114: 498.6231 | L114: =L113+F114 -> 2267.0561 | M114: =L114/L$335 -> 0.83732401 | Q114: =IF(#REF!="1A1 Energy Industries",#REF!) -> #REF! | R114: =IF(#REF!="1B2 Oil & Natural Gas",#REF!) -> #REF! | S114: =IF(#REF!="3A2 Manure Management",#REF!) -> #REF! | T114: =IF(#REF!="3B2 Cropland",#REF!) -> #REF! | U114: =IF(#REF!="3B6 Other Land",#REF!) -> #REF! | V114: =IF(#REF!="4A1 Managed Waste Disposal Sites",#REF!) -> #REF! | W114: =IF(#REF!="4D1 Domestic Wastewater Treatment & Discharge",#REF!) -> #REF! | X114: =IF(#REF!="unknown",#REF!) -> #REF!
A115: Visalia (Tulare County) | B115: dairy/manure | C115: L& J Vanderham Dairy | D115: 3A2 Manure Management | E115: a | F115: 8.7515885 | G115: 490.33254 | H115: =F115*1000/G115 -> 17.848272 | I115: =F115*$J$2/G115*3600 -> 128.50756 | J115: =J113+I115 -> 33984.72 | K115: =J115/J$336 -> 0.51694663 | L115: =L114+F115 -> 2275.8077 | M115: =L115/L$335 -> 0.84055636 | N115: =N114+H115 -> 17.848272 | O115: =N115/N$336 -> #DIV/0! | P115: =N115/#REF! -> #REF! | Q115: =IF(#REF!="1A1 Energy Industries",#REF!) -> #REF! | R115: =IF(#REF!="1B2 Oil & Natural Gas",#REF!) -> #REF! | S115: =IF(#REF!="3A2 Manure Management",#REF!) -> #REF! | T115: =IF(#REF!="3B2 Cropland",#REF!) -> #REF! | U115: =IF(#REF!="3B6 Other Land",#REF!) -> #REF! | V115: =IF(#REF!="4A1 Managed Waste Disposal Sites",#REF!) -> #REF! | W115: =IF(#REF!="4D1 Domestic Wastewater Treatment & Discharge",#REF!) -> #REF! | X115: =IF(#REF!="unknown",#REF!) -> #REF!
A116: Wilmington | B116: refinery | C116: Valero refinery | D116: 1A1 Energy Industries | E116: a | F116: 8.671254 | G116: 490.26462 | H116: =F116*1000/G116 -> 17.686885 | I116: =F116*$J$2/G116*3600 -> 127.34557 | J116: =J115+I116 -> 34112.066 | K116: =J116/J$336 -> 0.5188837 | L116: =L115+F116 -> 2284.479 | M116: =L116/L$335 -> 0.84375903 | N116: =N115+H116 -> 35.535157 | O116: =N116/N$336 -> #DIV/0! | P116: =N116/#REF! -> #REF! | Q116: =IF(#REF!="1A1 Energy Industries",#REF!) -> #REF! | R116: =IF(#REF!="1B2 Oil & Natural Gas",#REF!) -> #REF! | S116: =IF(#REF!="3A2 Manure Management",#REF!) -> #REF! | T116: =IF(#REF!="3B2 Cropland",#REF!) -> #REF! | U116: =IF(#REF!="3B6 Other Land",#REF!) -> #REF! | V116: =IF(#REF!="4A1 Managed Waste Disposal Sites",#REF!) -> #REF! | W116: =IF(#REF!="4D1 Domestic Wastewater Treatment & Discharge",#REF!) -> #REF! | X116: =IF(#REF!="unknown",#REF!) -> #REF!
A117: Tipton (Tulare County) | B117: dairy/manure | C117: G.J. Te Velde Ranch Dairy | D117: 3A2 Manure Management | E117: a | F117: 8.417247 | G117: 488.62255 | H117: =F117*1000/G117 -> 17.226481 | I117: =F117*$J$2/G117*3600 -> 124.03066 | J117: =J116+I117 -> 34236.097 | K117: =J117/J$336 -> 0.52077035 | L117: =L116+F117 -> 2292.8962 | M117: =L117/L$335 -> 0.84686789 | N117: =N116+H117 -> 52.761638 | O117: =N117/N$336 -> #DIV/0! | P117: =N117/#REF! -> #REF! | Q117: =IF(#REF!="1A1 Energy Industries",#REF!) -> #REF! | R117: =IF(#REF!="1B2 Oil & Natural Gas",#REF!) -> #REF! | S117: =IF(#REF!="3A2 Manure Management",#REF!) -> #REF! | T117: =IF(#REF!="3B2 Cropland",#REF!) -> #REF! | U117: =IF(#REF!="3B6 Other Land",#REF!) -> #REF! | V117: =IF(#REF!="4A1 Managed Waste Disposal Sites",#REF!) -> #REF! | W117: =IF(#REF!="4D1 Domestic Wastewater Treatment & Discharge",#REF!) -> #REF! | X117: =IF(#REF!="unknown",#REF!) -> #REF!
A118: Taft (Kern County) | B118: dairy/manure | C118: Trilogy Dairy | D118: 3A2 Manure Management | E118: a | F118: 8.3686975 | G118: 247.9288 | H118: =F118*1000/G118 -> 33.754439 | I118: =F118*$J$2/G118*3600 -> 243.03196 | J118: =J117+I118 -> 34479.129 | K118: =J118/J$336 -> 0.52446715 | L118: =L117+F118 -> 2301.2649 | M118: =L118/L$335 -> 0.84995882 | N118: =N117+H118 -> 86.516076 | O118: =N118/N$336 -> #DIV/0! | P118: =N118/#REF! -> #REF! | Q118: =IF(#REF!="1A1 Energy Industries",#REF!) -> #REF! | R118: =IF(#REF!="1B2 Oil & Natural Gas",#REF!) -> #REF! | S118: =IF(#REF!="3A2 Manure Management",#REF!) -> #REF! | T118: =IF(#REF!="3B2 Cropland",#REF!) -> #REF! | U118: =IF(#REF!="3B6 Other Land",#REF!) -> #REF! | V118: =IF(#REF!="4A1 Managed Waste Disposal Sites",#REF!) -> #REF! | W118: =IF(#REF!="4D1 Domestic Wastewater Treatment & Discharge",#REF!) -> #REF! | X118: =IF(#REF!="unknown",#REF!) -> #REF!
A119: Lindsay (Tulare Complex) | B119: dairy/manure | C119: TBD dairy | D119: 3A2 Manure Management | E119: a | F119: 8.2926219 | G119: 500.23486 | H119: =F119*1000/G119 -> 16.577457 | I119: =F119*$J$2/G119*3600 -> 119.35769 | J119: =J118+I119 -> 34598.486 | K119: =J119/J$336 -> 0.52628272 | L119: =L118+F119 -> 2309.5575 | M119: =L119/L$335 -> 0.85302166 | N119: =N118+H119 -> 103.09353 | O119: =N119/N$336 -> #DIV/0! | P119: =N119/#REF! -> #REF! | Q119: =IF(#REF!="1A1 Energy Industries",#REF!) -> #REF! | R119: =IF(#REF!="1B2 Oil & Natural Gas",#REF!) -> #REF! | S119: =IF(#REF!="3A2 Manure Management",#REF!) -> #REF! | T119: =IF(#REF!="3B2 Cropland",#REF!) -> #REF! | U119: =IF(#REF!="3B6 Other Land",#REF!) -> #REF! | V119: =IF(#REF!="4A1 Managed Waste Disposal Sites",#REF!) -> #REF! | W119: =IF(#REF!="4D1 Domestic Wastewater Treatment & Discharge",#REF!) -> #REF! | X119: =IF(#REF!="unknown",#REF!) -> #REF!
A120: Kern River | B120: oil/gas pumpjack | C120: Kern River oil & gas field | D120: 1B2 Oil & Natural Gas | E120: c | F120: 7.9751119 | G120: 361.75561 | H120: =F120*1000/G120 -> 22.045579 | I120: =F120*$J$2/G120*3600 -> 158.72817 | J120: =J119+I120 -> 34757.214 | K120: =J120/J$336 -> 0.52869715 | L120: =L119+F120 -> 2317.5326 | M120: =L120/L$335 -> 0.85596722 | N120: =N119+H120 -> 125.13911 | O120: =N120/N$336 -> #DIV/0! | P120: =N120/#REF! -> #REF! | Q120: =IF(#REF!="1A1 Energy Industries",#REF!) -> #REF! | R120: =IF(#REF!="1B2 Oil & Natural Gas",#REF!) -> #REF! | S120: =IF(#REF!="3A2 Manure Management",#REF!) -> #REF! | T120: =IF(#REF!="3B2 Cropland",#REF!) -> #REF! | U120: =IF(#REF!="3B6 Other Land",#REF!) -> #REF! | V120: =IF(#REF!="4A1 Managed Waste Disposal Sites",#REF!) -> #REF! | W120: =IF(#REF!="4D1 Domestic Wastewater Treatment & Discharge",#REF!) -> #REF! | X120: =IF(#REF!="unknown",#REF!) -> #REF!
A121: Chino Hills | B121: gas distribution line | C121: Chino Hills neighborhood | D121: 1B2 Oil & Natural Gas | E121: c, e | F121: 7.4708614 | G121: 293.295 | H121: =F121*1000/G121 -> 25.472174 | I121: =F121*$J$2/G121*3600 -> 183.39965 | J121: =J120+I121 -> 34940.614 | K121: =J121/J$336 -> 0.53148687 | L121: =L120+F121 -> 2325.0035 | M121: =L121/L$335 -> 0.85872654 | N121: =N120+H121 -> 150.61129 | O121: =N121/N$336 -> #DIV/0! | P121: =N121/#REF! -> #REF! | Q121: =IF(#REF!="1A1 Energy Industries",#REF!) -> #REF! | R121: =IF(#REF!="1B2 Oil & Natural Gas",#REF!) -> #REF! | S121: =IF(#REF!="3A2 Manure Management",#REF!) -> #REF! | T121: =IF(#REF!="3B2 Cropland",#REF!) -> #REF! | U121: =IF(#REF!="3B6 Other Land",#REF!) -> #REF! | V121: =IF(#REF!="4A1 Managed Waste Disposal Sites",#REF!) -> #REF! | W121: =IF(#REF!="4D1 Domestic Wastewater Treatment & Discharge",#REF!) -> #REF! | X121: =IF(#REF!="unknown",#REF!) -> #REF!
A122: Frank R. Bowerman | B122: landfill | C122: Frank R. Bowerman | D122: 4A1 Managed Waste Disposal Sites | E122: a | F122: 7.4360097 | G122: 483.78244 | H122: =F122*1000/G122 -> 15.370565 | I122: =F122*$J$2/G122*3600 -> 110.66807 | J122: =J121+I122 -> 35051.282 | K122: =J122/J$336 -> 0.53317026 | L122: =L121+F122 -> 2332.4395 | M122: =L122/L$335 -> 0.86147298 | N122: =N121+H122 -> 165.98185 | O122: =N122/N$336 -> #DIV/0! | P122: =N122/#REF! -> #REF! | Q122: =IF(#REF!="1A1 Energy Industries",#REF!) -> #REF! | R122: =IF(#REF!="1B2 Oil & Natural Gas",#REF!) -> #REF! | S122: =IF(#REF!="3A2 Manure Management",#REF!) -> #REF! | T122: =IF(#REF!="3B2 Cropland",#REF!) -> #REF! | U122: =IF(#REF!="3B6 Other Land",#REF!) -> #REF! | V122: =IF(#REF!="4A1 Managed Waste Disposal Sites",#REF!) -> #REF! | W122: =IF(#REF!="4D1 Domestic Wastewater Treatment & Discharge",#REF!) -> #REF! | X122: =IF(#REF!="unknown",#REF!) -> #REF!
A123: Tulare (Tulare County) | B123: dairy/manure | C123: TBD dairy | D123: 3A2 Manure Management | E123: a | F123: 7.1987848 | G123: 370.47267 | H123: =F123*1000/G123 -> 19.431352 | I123: =F123*$J$2/G123*3600 -> 139.90573 | J123: =J122+I123 -> 35191.188 | K123: =J123/J$336 -> 0.53529839 | L123: =L122+F123 -> 2339.6383 | M123: =L123/L$335 -> 0.86413181 | N123: =N122+H123 -> 185.4132 | O123: =N123/N$336 -> #DIV/0! | P123: =N123/#REF! -> #REF! | Q123: =IF(#REF!="1A1 Energy Industries",#REF!) -> #REF! | R123: =IF(#REF!="1B2 Oil & Natural Gas",#REF!) -> #REF! | S123: =IF(#REF!="3A2 Manure Management",#REF!) -> #REF! | T123: =IF(#REF!="3B2 Cropland",#REF!) -> #REF! | U123: =IF(#REF!="3B6 Other Land",#REF!) -> #REF! | V123: =IF(#REF!="4A1 Managed Waste Disposal Sites",#REF!) -> #REF! | W123: =IF(#REF!="4D1 Domestic Wastewater Treatment & Discharge",#REF!) -> #REF! | X123: =IF(#REF!="unknown",#REF!) -> #REF!
A124: Chino | B124: unknown | C124: Possible top soil distributor | D124: 3A2 Manure Management | E124: a | F124: 7.1626202 | G124: 292.33956 | L124: =L123+F124 -> 2346.8009 | M124: =L124/L$335 -> 0.86677728 | Q124: =IF(#REF!="1A1 Energy Industries",#REF!) -> #REF! | R124: =IF(#REF!="1B2 Oil & Natural Gas",#REF!) -> #REF! | S124: =IF(#REF!="3A2 Manure Management",#REF!) -> #REF! | T124: =IF(#REF!="3B2 Cropland",#REF!) -> #REF! | U124: =IF(#REF!="3B6 Other Land",#REF!) -> #REF! | V124: =IF(#REF!="4A1 Managed Waste Disposal Sites",#REF!) -> #REF! | W124: =IF(#REF!="4D1 Domestic Wastewater Treatment & Discharge",#REF!) -> #REF! | X124: =IF(#REF!="unknown",#REF!) -> #REF!
A125: Lindsay (Tulare Complex) | B125: dairy/manure | C125: Hilarides Dairy | D125: 3A2 Manure Management | E125: c | F125: 7.1142276 | G125: 496.72826 | H125: =F125*1000/G125 -> 14.322172 | I125: =F125*$J$2/G125*3600 -> 103.11964 | J125: 48566.935 | K125: =J125/J$336 -> 0.73875887 | L125: =L124+F125 -> 2353.9151 | M125: =L125/L$335 -> 0.86940488 | N125: =N124+H125 -> 14.322172 | O125: =N125/N$336 -> #DIV/0! | P125: =N125/#REF! -> #REF! | Q125: =IF(#REF!="1A1 Energy Industries",#REF!) -> #REF! | R125: =IF(#REF!="1B2 Oil & Natural Gas",#REF!) -> #REF! | S125: =IF(#REF!="3A2 Manure Management",#REF!) -> #REF! | T125: =IF(#REF!="3B2 Cropland",#REF!) -> #REF! | U125: =IF(#REF!="3B6 Other Land",#REF!) -> #REF! | V125: =IF(#REF!="4A1 Managed Waste Disposal Sites",#REF!) -> #REF! | W125: =IF(#REF!="4D1 Domestic Wastewater Treatment & Discharge",#REF!) -> #REF! | X125: =IF(#REF!="unknown",#REF!) -> #REF!
A126: Taft (Kern County) | B126: dairy/manure | C126: Bear Mountain Dairy | D126: 3A2 Manure Management | E126: c | F126: 7.0103269 | G126: 376.71659 | H126: =F126*1000/G126 -> 18.609021 | I126: =F126*$J$2/G126*3600 -> 133.98495 | J126: =J125+I126 -> 48700.92 | K126: =J126/J$336 -> 0.74079693 | L126: =L125+F126 -> 2360.9255 | M126: =L126/L$335 -> 0.87199411 | N126: =N125+H126 -> 32.931193 | O126: =N126/N$336 -> #DIV/0! | P126: =N126/#REF! -> #REF! | Q126: =IF(#REF!="1A1 Energy Industries",#REF!) -> #REF! | R126: =IF(#REF!="1B2 Oil & Natural Gas",#REF!) -> #REF! | S126: =IF(#REF!="3A2 Manure Management",#REF!) -> #REF! | T126: =IF(#REF!="3B2 Cropland",#REF!) -> #REF! | U126: =IF(#REF!="3B6 Other Land",#REF!) -> #REF! | V126: =IF(#REF!="4A1 Managed Waste Disposal Sites",#REF!) -> #REF! | W126: =IF(#REF!="4D1 Domestic Wastewater Treatment & Discharge",#REF!) -> #REF! | X126: =IF(#REF!="unknown",#REF!) -> #REF!
A127: Visalia (Tulare County) | B127: dairy/manure | C127: Shady Acres Dairy #2 | D127: 3A2 Manure Management | E127: a | F127: 6.5942988 | G127: 486.49049 | H127: =F127*1000/G127 -> 13.554836 | I127: =F127*$J$2/G127*3600 -> 97.594819 | J127: =J126+I127 -> 48798.515 | K127: =J127/J$336 -> 0.74228146 | L127: =L126+F127 -> 2367.5198 | M127: =L127/L$335 -> 0.87442967 | N127: =N126+H127 -> 46.486029 | O127: =N127/N$336 -> #DIV/0! | P127: =N127/#REF! -> #REF! | Q127: =IF(#REF!="1A1 Energy Industries",#REF!) -> #REF! | R127: =IF(#REF!="1B2 Oil & Natural Gas",#REF!) -> #REF! | S127: =IF(#REF!="3A2 Manure Management",#REF!) -> #REF! | T127: =IF(#REF!="3B2 Cropland",#REF!) -> #REF! | U127: =IF(#REF!="3B6 Other Land",#REF!) -> #REF! | V127: =IF(#REF!="4A1 Managed Waste Disposal Sites",#REF!) -> #REF! | W127: =IF(#REF!="4D1 Domestic Wastewater Treatment & Discharge",#REF!) -> #REF! | X127: =IF(#REF!="unknown",#REF!) -> #REF!
A128: Lindsay (Tulare Complex) | B128: dairy/manure | C128: Hilarides Dairy | D128: 3A2 Manure Management | E128: c | F128: 6.5674399 | G128: 499.71968 | H128: =F128*1000/G128 -> 13.142248 | I128: =F128*$J$2/G128*3600 -> 94.624185 | J128: =J127+I128 -> 48893.139 | K128: =J128/J$336 -> 0.7437208 | L128: =L127+F128 -> 2374.0872 | M128: =L128/L$335 -> 0.87685532 | N128: =N127+H128 -> 59.628277 | O128: =N128/N$336 -> #DIV/0! | P128: =N128/#REF! -> #REF! | Q128: =IF(#REF!="1A1 Energy Industries",#REF!) -> #REF! | R128: =IF(#REF!="1B2 Oil & Natural Gas",#REF!) -> #REF! | S128: =IF(#REF!="3A2 Manure Management",#REF!) -> #REF! | T128: =IF(#REF!="3B2 Cropland",#REF!) -> #REF! | U128: =IF(#REF!="3B6 Other Land",#REF!) -> #REF! | V128: =IF(#REF!="4A1 Managed Waste Disposal Sites",#REF!) -> #REF! | W128: =IF(#REF!="4D1 Domestic Wastewater Treatment & Discharge",#REF!) -> #REF! | X128: =IF(#REF!="unknown",#REF!) -> #REF!
A129: Kern River | B129: oil/gas unknown infrastucture | C129: Kern River oil & gas field | D129: 1B2 Oil & Natural Gas | E129: a | F129: 6.4399104 | G129: 379.41534 | H129: =F129*1000/G129 -> 16.973247 | I129: =F129*$J$2/G129*3600 -> 122.20738 | J129: =J128+I129 -> 49015.346 | K129: =J129/J$336 -> 0.74557972 | L129: =L128+F129 -> 2380.5271 | M129: =L129/L$335 -> 0.87923386 | N129: =N128+H129 -> 76.601524 | O129: =N129/N$336 -> #DIV/0! | P129: =N129/#REF! -> #REF! | Q129: =IF(#REF!="1A1 Energy Industries",#REF!) -> #REF! | R129: =IF(#REF!="1B2 Oil & Natural Gas",#REF!) -> #REF! | S129: =IF(#REF!="3A2 Manure Management",#REF!) -> #REF! | T129: =IF(#REF!="3B2 Cropland",#REF!) -> #REF! | U129: =IF(#REF!="3B6 Other Land",#REF!) -> #REF! | V129: =IF(#REF!="4A1 Managed Waste Disposal Sites",#REF!) -> #REF! | W129: =IF(#REF!="4D1 Domestic Wastewater Treatment & Discharge",#REF!) -> #REF! | X129: =IF(#REF!="unknown",#REF!) -> #REF!
A130: Chowchilla (Merced County) | B130: dairy/manure | C130: Faust Family Dairy | D130: 3A2 Manure Management | E130: a | F130: 6.2382655 | G130: 321.95225 | H130: =F130*1000/G130 -> 19.376369 | I130: =F130*$J$2/G130*3600 -> 139.50986 | J130: =J129+I130 -> 49154.856 | K130: =J130/J$336 -> 0.74770182 | L130: =L129+F130 -> 2386.7654 | M130: =L130/L$335 -> 0.88153793 | N130: =N129+H130 -> 95.977893 | O130: =N130/N$336 -> #DIV/0! | P130: =N130/#REF! -> #REF! | Q130: =IF(#REF!="1A1 Energy Industries",#REF!) -> #REF! | R130: =IF(#REF!="1B2 Oil & Natural Gas",#REF!) -> #REF! | S130: =IF(#REF!="3A2 Manure Management",#REF!) -> #REF! | T130: =IF(#REF!="3B2 Cropland",#REF!) -> #REF! | U130: =IF(#REF!="3B6 Other Land",#REF!) -> #REF! | V130: =IF(#REF!="4A1 Managed Waste Disposal Sites",#REF!) -> #REF! | W130: =IF(#REF!="4D1 Domestic Wastewater Treatment & Discharge",#REF!) -> #REF! | X130: =IF(#REF!="unknown",#REF!) -> #REF!
A131: Visalia (Tulare County) | B131: dairy/manure | C131: Shady Acres Dairy #2 | D131: 3A2 Manure Management | E131: a | F131: 6.2266421 | G131: 486.49049 | H131: =F131*1000/G131 -> 12.799103 | I131: =F131*$J$2/G131*3600 -> 92.153544 | J131: =J130+I131 -> 49247.01 | K131: =J131/J$336 -> 0.74910358 | L131: =L130+F131 -> 2392.992 | M131: =L131/L$335 -> 0.8838377 | N131: =N130+H131 -> 108.777 | O131: =N131/N$336 -> #DIV/0! | P131: =N131/#REF! -> #REF! | Q131: =IF(#REF!="1A1 Energy Industries",#REF!) -> #REF! | R131: =IF(#REF!="1B2 Oil & Natural Gas",#REF!) -> #REF! | S131: =IF(#REF!="3A2 Manure Management",#REF!) -> #REF! | T131: =IF(#REF!="3B2 Cropland",#REF!) -> #REF! | U131: =IF(#REF!="3B6 Other Land",#REF!) -> #REF! | V131: =IF(#REF!="4A1 Managed Waste Disposal Sites",#REF!) -> #REF! | W131: =IF(#REF!="4D1 Domestic Wastewater Treatment & Discharge",#REF!) -> #REF! | X131: =IF(#REF!="unknown",#REF!) -> #REF!
A132: Tulare (Tulare Complex) | B132: dairy/manure | C132: DEL - ARCO Dairy | D132: 3A2 Manure Management | E132: a | F132: 5.9739326 | G132: 485.66989 | H132: =F132*1000/G132 -> 12.300397 | I132: =F132*$J$2/G132*3600 -> 88.56286 | J132: =J131+I132 -> 49335.573 | K132: =J132/J$336 -> 0.75045073 | L132: =L131+F132 -> 2398.966 | M132: =L132/L$335 -> 0.88604414 | N132: =N131+H132 -> 121.07739 | O132: =N132/N$336 -> #DIV/0! | P132: =N132/#REF! -> #REF! | Q132: =IF(#REF!="1A1 Energy Industries",#REF!) -> #REF! | R132: =IF(#REF!="1B2 Oil & Natural Gas",#REF!) -> #REF! | S132: =IF(#REF!="3A2 Manure Management",#REF!) -> #REF! | T132: =IF(#REF!="3B2 Cropland",#REF!) -> #REF! | U132: =IF(#REF!="3B6 Other Land",#REF!) -> #REF! | V132: =IF(#REF!="4A1 Managed Waste Disposal Sites",#REF!) -> #REF! | W132: =IF(#REF!="4D1 Domestic Wastewater Treatment & Discharge",#REF!) -> #REF! | X132: =IF(#REF!="unknown",#REF!) -> #REF!
A133: Lindsay (Tulare Complex) | B133: dairy/manure | C133: Hilarides Dairy | D133: 3A2 Manure Management | E133: c | F133: 5.89961 | G133: 499.71968 | H133: =F133*1000/G133 -> 11.805839 | I133: =F133*$J$2/G133*3600 -> 85.002039 | J133: =J132+I133 -> 49420.575 | K133: =J133/J$336 -> 0.75174371 | L133: =L132+F133 -> 2404.8656 | M133: =L133/L$335 -> 0.88822313 | N133: =N132+H133 -> 132.88323 | O133: =N133/N$336 -> #DIV/0! | P133: =N133/#REF! -> #REF! | Q133: =IF(#REF!="1A1 Energy Industries",#REF!) -> #REF! | R133: =IF(#REF!="1B2 Oil & Natural Gas",#REF!) -> #REF! | S133: =IF(#REF!="3A2 Manure Management",#REF!) -> #REF! | T133: =IF(#REF!="3B2 Cropland",#REF!) -> #REF! | U133: =IF(#REF!="3B6 Other Land",#REF!) -> #REF! | V133: =IF(#REF!="4A1 Managed Waste Disposal Sites",#REF!) -> #REF! | W133: =IF(#REF!="4D1 Domestic Wastewater Treatment & Discharge",#REF!) -> #REF! | X133: =IF(#REF!="unknown",#REF!) -> #REF!
A134: Kern County | B134: oil/gas unknown infrastucture | C134: Poso Creek oil & gas field | D134: 1B2 Oil & Natural Gas | E134: c | F134: 5.8822215 | G134: 11.082763 | H134: =F134*1000/G134 -> 530.75409 | I134: =F134*$J$2/G134*3600 -> 3821.4294 | J134: =J133+I134 -> 53242.004 | K134: =J134/J$336 -> 0.80987204 | L134: =L133+F134 -> 2410.7478 | M134: =L134/L$335 -> 0.89039569 | N134: =N133+H134 -> 663.63732 | O134: =N134/N$336 -> #DIV/0! | P134: =N134/#REF! -> #REF! | Q134: =IF(#REF!="1A1 Energy Industries",#REF!) -> #REF! | R134: =IF(#REF!="1B2 Oil & Natural Gas",#REF!) -> #REF! | S134: =IF(#REF!="3A2 Manure Management",#REF!) -> #REF! | T134: =IF(#REF!="3B2 Cropland",#REF!) -> #REF! | U134: =IF(#REF!="3B6 Other Land",#REF!) -> #REF! | V134: =IF(#REF!="4A1 Managed Waste Disposal Sites",#REF!) -> #REF! | W134: =IF(#REF!="4D1 Domestic Wastewater Treatment & Discharge",#REF!) -> #REF! | X134: =IF(#REF!="unknown",#REF!) -> #REF!
A135: Tulare (Tulare Complex) | B135: dairy/manure | C135: Oak Creek Jerseys | D135: 3A2 Manure Management | E135: a | F135: 5.7545369 | G135: 444.61457 | H135: =F135*1000/G135 -> 12.942754 | I135: =F135*$J$2/G135*3600 -> 93.187826 | J135: =J134+I135 -> 53335.192 | K135: =J135/J$336 -> 0.81128953 | L135: =L134+F135 -> 2416.5023 | M135: =L135/L$335 -> 0.8925211 | N135: =N134+H135 -> 676.58007 | O135: =N135/N$336 -> #DIV/0! | P135: =N135/#REF! -> #REF! | Q135: =IF(#REF!="1A1 Energy Industries",#REF!) -> #REF! | R135: =IF(#REF!="1B2 Oil & Natural Gas",#REF!) -> #REF! | S135: =IF(#REF!="3A2 Manure Management",#REF!) -> #REF! | T135: =IF(#REF!="3B2 Cropland",#REF!) -> #REF! | U135: =IF(#REF!="3B6 Other Land",#REF!) -> #REF! | V135: =IF(#REF!="4A1 Managed Waste Disposal Sites",#REF!) -> #REF! | W135: =IF(#REF!="4D1 Domestic Wastewater Treatment & Discharge",#REF!) -> #REF! | X135: =IF(#REF!="unknown",#REF!) -> #REF!
...
